{"text_format":"1","workbook":"xlsx","n_sheets":13,"sheets":["main","1","2","3","4","5","6","7","8","9","work1","work2","work3"],"not_rendered":{"charts":0,"images":0,"macros":1,"external_links":0,"defined_names":0,"comments":0,"pivot_tables":0},"unopened":[],"bounds":{"document_bytes":16777216,"sheet_cells":100000,"rows_first":2000,"rows_last":500,"rows_between":2000,"halvings":0,"cell_chars":16384,"cell_head_chars":4096},"cells_cut":0,"cells_raw":0,"read":"whole","date_system":"1900"}

{"sheet":"main","index":0,"n_rows":16,"n_cols":27,"rows_kept":16,"cut":false,"hidden":false,"merged":[[1,4,1,10],[14,11,15,12]]}
[]
[null,1,null,null,{"$f":"IF(SUM(C16:K16)=0,\"Complete！\",\"\")","v":""}]
[null,null,null,null,null,null,null,null,null,null,null,{"$f":"'1'!L3&'2'!L3&'3'!L3&'4'!L3&'5'!L3&'6'!L3&'7'!L3&'8'!L3&'9'!L3","v":""},null,null,null,{"$f":"IF(ISNUMBER(C3),\" ■ \",'1'!C3&'2'!C3&'3'!C3&'4'!C3&'5'!C3&'6'!C3&'7'!C3&'8'!C3&'9'!C3)","v":"123456789"},{"$f":"IF(ISNUMBER(D3),\" ■ \",'1'!D3&'2'!D3&'3'!D3&'4'!D3&'5'!D3&'6'!D3&'7'!D3&'8'!D3&'9'!D3)","v":"123456789"},{"$f":"IF(ISNUMBER(E3),\" ■ \",'1'!E3&'2'!E3&'3'!E3&'4'!E3&'5'!E3&'6'!E3&'7'!E3&'8'!E3&'9'!E3)","v":"123456789"},{"$f":"IF(ISNUMBER(F3),\" ■ \",'1'!F3&'2'!F3&'3'!F3&'4'!F3&'5'!F3&'6'!F3&'7'!F3&'8'!F3&'9'!F3)","v":"123456789"},{"$f":"IF(ISNUMBER(G3),\" ■ \",'1'!G3&'2'!G3&'3'!G3&'4'!G3&'5'!G3&'6'!G3&'7'!G3&'8'!G3&'9'!G3)","v":"123456789"},{"$f":"IF(ISNUMBER(H3),\" ■ \",'1'!H3&'2'!H3&'3'!H3&'4'!H3&'5'!H3&'6'!H3&'7'!H3&'8'!H3&'9'!H3)","v":"123456789"},{"$f":"IF(ISNUMBER(I3),\" ■ \",'1'!I3&'2'!I3&'3'!I3&'4'!I3&'5'!I3&'6'!I3&'7'!I3&'8'!I3&'9'!I3)","v":"123456789"},{"$f":"IF(ISNUMBER(J3),\" ■ \",'1'!J3&'2'!J3&'3'!J3&'4'!J3&'5'!J3&'6'!J3&'7'!J3&'8'!J3&'9'!J3)","v":"123456789"},{"$f":"IF(ISNUMBER(K3),\" ■ \",'1'!K3&'2'!K3&'3'!K3&'4'!K3&'5'!K3&'6'!K3&'7'!K3&'8'!K3&'9'!K3)","v":"123456789"},null,"start time"]
[null,null,null,null,null,null,null,null,null,null,null,{"$f":"'1'!L4&'2'!L4&'3'!L4&'4'!L4&'5'!L4&'6'!L4&'7'!L4&'8'!L4&'9'!L4","v":""},null,null,null,{"$f":"IF(ISNUMBER(C4),\" ■ \",'1'!C4&'2'!C4&'3'!C4&'4'!C4&'5'!C4&'6'!C4&'7'!C4&'8'!C4&'9'!C4)","v":"123456789"},{"$f":"IF(ISNUMBER(D4),\" ■ \",'1'!D4&'2'!D4&'3'!D4&'4'!D4&'5'!D4&'6'!D4&'7'!D4&'8'!D4&'9'!D4)","v":"123456789"},{"$f":"IF(ISNUMBER(E4),\" ■ \",'1'!E4&'2'!E4&'3'!E4&'4'!E4&'5'!E4&'6'!E4&'7'!E4&'8'!E4&'9'!E4)","v":"123456789"},{"$f":"IF(ISNUMBER(F4),\" ■ \",'1'!F4&'2'!F4&'3'!F4&'4'!F4&'5'!F4&'6'!F4&'7'!F4&'8'!F4&'9'!F4)","v":"123456789"},{"$f":"IF(ISNUMBER(G4),\" ■ \",'1'!G4&'2'!G4&'3'!G4&'4'!G4&'5'!G4&'6'!G4&'7'!G4&'8'!G4&'9'!G4)","v":"123456789"},{"$f":"IF(ISNUMBER(H4),\" ■ \",'1'!H4&'2'!H4&'3'!H4&'4'!H4&'5'!H4&'6'!H4&'7'!H4&'8'!H4&'9'!H4)","v":"123456789"},{"$f":"IF(ISNUMBER(I4),\" ■ \",'1'!I4&'2'!I4&'3'!I4&'4'!I4&'5'!I4&'6'!I4&'7'!I4&'8'!I4&'9'!I4)","v":"123456789"},{"$f":"IF(ISNUMBER(J4),\" ■ \",'1'!J4&'2'!J4&'3'!J4&'4'!J4&'5'!J4&'6'!J4&'7'!J4&'8'!J4&'9'!J4)","v":"123456789"},{"$f":"IF(ISNUMBER(K4),\" ■ \",'1'!K4&'2'!K4&'3'!K4&'4'!K4&'5'!K4&'6'!K4&'7'!K4&'8'!K4&'9'!K4)","v":"123456789"},null,"complete",{"$f":"IF(SUM(C16:K16)=0,NOW(),\"\")","v":""}]
[null,null,null,null,null,null,null,null,null,null,null,{"$f":"'1'!L5&'2'!L5&'3'!L5&'4'!L5&'5'!L5&'6'!L5&'7'!L5&'8'!L5&'9'!L5","v":""},null,null,null,{"$f":"IF(ISNUMBER(C5),\" ■ \",'1'!C5&'2'!C5&'3'!C5&'4'!C5&'5'!C5&'6'!C5&'7'!C5&'8'!C5&'9'!C5)","v":"123456789"},{"$f":"IF(ISNUMBER(D5),\" ■ \",'1'!D5&'2'!D5&'3'!D5&'4'!D5&'5'!D5&'6'!D5&'7'!D5&'8'!D5&'9'!D5)","v":"123456789"},{"$f":"IF(ISNUMBER(E5),\" ■ \",'1'!E5&'2'!E5&'3'!E5&'4'!E5&'5'!E5&'6'!E5&'7'!E5&'8'!E5&'9'!E5)","v":"123456789"},{"$f":"IF(ISNUMBER(F5),\" ■ \",'1'!F5&'2'!F5&'3'!F5&'4'!F5&'5'!F5&'6'!F5&'7'!F5&'8'!F5&'9'!F5)","v":"123456789"},{"$f":"IF(ISNUMBER(G5),\" ■ \",'1'!G5&'2'!G5&'3'!G5&'4'!G5&'5'!G5&'6'!G5&'7'!G5&'8'!G5&'9'!G5)","v":"123456789"},{"$f":"IF(ISNUMBER(H5),\" ■ \",'1'!H5&'2'!H5&'3'!H5&'4'!H5&'5'!H5&'6'!H5&'7'!H5&'8'!H5&'9'!H5)","v":"123456789"},{"$f":"IF(ISNUMBER(I5),\" ■ \",'1'!I5&'2'!I5&'3'!I5&'4'!I5&'5'!I5&'6'!I5&'7'!I5&'8'!I5&'9'!I5)","v":"123456789"},{"$f":"IF(ISNUMBER(J5),\" ■ \",'1'!J5&'2'!J5&'3'!J5&'4'!J5&'5'!J5&'6'!J5&'7'!J5&'8'!J5&'9'!J5)","v":"123456789"},{"$f":"IF(ISNUMBER(K5),\" ■ \",'1'!K5&'2'!K5&'3'!K5&'4'!K5&'5'!K5&'6'!K5&'7'!K5&'8'!K5&'9'!K5)","v":"123456789"},null,"spent time",{"$f":"IF(ISERROR(AA4-AA3),\"\",AA4-AA3)","v":""}]
[null,null,null,null,null,null,null,null,null,null,null,{"$f":"'1'!L6&'2'!L6&'3'!L6&'4'!L6&'5'!L6&'6'!L6&'7'!L6&'8'!L6&'9'!L6","v":""},null,null,null,{"$f":"IF(ISNUMBER(C6),\" ■ \",'1'!C6&'2'!C6&'3'!C6&'4'!C6&'5'!C6&'6'!C6&'7'!C6&'8'!C6&'9'!C6)","v":"123456789"},{"$f":"IF(ISNUMBER(D6),\" ■ \",'1'!D6&'2'!D6&'3'!D6&'4'!D6&'5'!D6&'6'!D6&'7'!D6&'8'!D6&'9'!D6)","v":"123456789"},{"$f":"IF(ISNUMBER(E6),\" ■ \",'1'!E6&'2'!E6&'3'!E6&'4'!E6&'5'!E6&'6'!E6&'7'!E6&'8'!E6&'9'!E6)","v":"123456789"},{"$f":"IF(ISNUMBER(F6),\" ■ \",'1'!F6&'2'!F6&'3'!F6&'4'!F6&'5'!F6&'6'!F6&'7'!F6&'8'!F6&'9'!F6)","v":"123456789"},{"$f":"IF(ISNUMBER(G6),\" ■ \",'1'!G6&'2'!G6&'3'!G6&'4'!G6&'5'!G6&'6'!G6&'7'!G6&'8'!G6&'9'!G6)","v":"123456789"},{"$f":"IF(ISNUMBER(H6),\" ■ \",'1'!H6&'2'!H6&'3'!H6&'4'!H6&'5'!H6&'6'!H6&'7'!H6&'8'!H6&'9'!H6)","v":"123456789"},{"$f":"IF(ISNUMBER(I6),\" ■ \",'1'!I6&'2'!I6&'3'!I6&'4'!I6&'5'!I6&'6'!I6&'7'!I6&'8'!I6&'9'!I6)","v":"123456789"},{"$f":"IF(ISNUMBER(J6),\" ■ \",'1'!J6&'2'!J6&'3'!J6&'4'!J6&'5'!J6&'6'!J6&'7'!J6&'8'!J6&'9'!J6)","v":"123456789"},{"$f":"IF(ISNUMBER(K6),\" ■ \",'1'!K6&'2'!K6&'3'!K6&'4'!K6&'5'!K6&'6'!K6&'7'!K6&'8'!K6&'9'!K6)","v":"123456789"}]
[null,null,null,null,null,null,null,null,null,null,null,{"$f":"'1'!L7&'2'!L7&'3'!L7&'4'!L7&'5'!L7&'6'!L7&'7'!L7&'8'!L7&'9'!L7","v":""},null,null,null,{"$f":"IF(ISNUMBER(C7),\" ■ \",'1'!C7&'2'!C7&'3'!C7&'4'!C7&'5'!C7&'6'!C7&'7'!C7&'8'!C7&'9'!C7)","v":"123456789"},{"$f":"IF(ISNUMBER(D7),\" ■ \",'1'!D7&'2'!D7&'3'!D7&'4'!D7&'5'!D7&'6'!D7&'7'!D7&'8'!D7&'9'!D7)","v":"123456789"},{"$f":"IF(ISNUMBER(E7),\" ■ \",'1'!E7&'2'!E7&'3'!E7&'4'!E7&'5'!E7&'6'!E7&'7'!E7&'8'!E7&'9'!E7)","v":"123456789"},{"$f":"IF(ISNUMBER(F7),\" ■ \",'1'!F7&'2'!F7&'3'!F7&'4'!F7&'5'!F7&'6'!F7&'7'!F7&'8'!F7&'9'!F7)","v":"123456789"},{"$f":"IF(ISNUMBER(G7),\" ■ \",'1'!G7&'2'!G7&'3'!G7&'4'!G7&'5'!G7&'6'!G7&'7'!G7&'8'!G7&'9'!G7)","v":"123456789"},{"$f":"IF(ISNUMBER(H7),\" ■ \",'1'!H7&'2'!H7&'3'!H7&'4'!H7&'5'!H7&'6'!H7&'7'!H7&'8'!H7&'9'!H7)","v":"123456789"},{"$f":"IF(ISNUMBER(I7),\" ■ \",'1'!I7&'2'!I7&'3'!I7&'4'!I7&'5'!I7&'6'!I7&'7'!I7&'8'!I7&'9'!I7)","v":"123456789"},{"$f":"IF(ISNUMBER(J7),\" ■ \",'1'!J7&'2'!J7&'3'!J7&'4'!J7&'5'!J7&'6'!J7&'7'!J7&'8'!J7&'9'!J7)","v":"123456789"},{"$f":"IF(ISNUMBER(K7),\" ■ \",'1'!K7&'2'!K7&'3'!K7&'4'!K7&'5'!K7&'6'!K7&'7'!K7&'8'!K7&'9'!K7)","v":"123456789"}]
[null,null,null,null,null,null,null,null,null,null,null,{"$f":"'1'!L8&'2'!L8&'3'!L8&'4'!L8&'5'!L8&'6'!L8&'7'!L8&'8'!L8&'9'!L8","v":""},null,null,null,{"$f":"IF(ISNUMBER(C8),\" ■ \",'1'!C8&'2'!C8&'3'!C8&'4'!C8&'5'!C8&'6'!C8&'7'!C8&'8'!C8&'9'!C8)","v":"123456789"},{"$f":"IF(ISNUMBER(D8),\" ■ \",'1'!D8&'2'!D8&'3'!D8&'4'!D8&'5'!D8&'6'!D8&'7'!D8&'8'!D8&'9'!D8)","v":"123456789"},{"$f":"IF(ISNUMBER(E8),\" ■ \",'1'!E8&'2'!E8&'3'!E8&'4'!E8&'5'!E8&'6'!E8&'7'!E8&'8'!E8&'9'!E8)","v":"123456789"},{"$f":"IF(ISNUMBER(F8),\" ■ \",'1'!F8&'2'!F8&'3'!F8&'4'!F8&'5'!F8&'6'!F8&'7'!F8&'8'!F8&'9'!F8)","v":"123456789"},{"$f":"IF(ISNUMBER(G8),\" ■ \",'1'!G8&'2'!G8&'3'!G8&'4'!G8&'5'!G8&'6'!G8&'7'!G8&'8'!G8&'9'!G8)","v":"123456789"},{"$f":"IF(ISNUMBER(H8),\" ■ \",'1'!H8&'2'!H8&'3'!H8&'4'!H8&'5'!H8&'6'!H8&'7'!H8&'8'!H8&'9'!H8)","v":"123456789"},{"$f":"IF(ISNUMBER(I8),\" ■ \",'1'!I8&'2'!I8&'3'!I8&'4'!I8&'5'!I8&'6'!I8&'7'!I8&'8'!I8&'9'!I8)","v":"123456789"},{"$f":"IF(ISNUMBER(J8),\" ■ \",'1'!J8&'2'!J8&'3'!J8&'4'!J8&'5'!J8&'6'!J8&'7'!J8&'8'!J8&'9'!J8)","v":"123456789"},{"$f":"IF(ISNUMBER(K8),\" ■ \",'1'!K8&'2'!K8&'3'!K8&'4'!K8&'5'!K8&'6'!K8&'7'!K8&'8'!K8&'9'!K8)","v":"123456789"}]
[null,null,null,null,null,null,null,null,null,null,null,{"$f":"'1'!L9&'2'!L9&'3'!L9&'4'!L9&'5'!L9&'6'!L9&'7'!L9&'8'!L9&'9'!L9","v":""},null,null,null,{"$f":"IF(ISNUMBER(C9),\" ■ \",'1'!C9&'2'!C9&'3'!C9&'4'!C9&'5'!C9&'6'!C9&'7'!C9&'8'!C9&'9'!C9)","v":"123456789"},{"$f":"IF(ISNUMBER(D9),\" ■ \",'1'!D9&'2'!D9&'3'!D9&'4'!D9&'5'!D9&'6'!D9&'7'!D9&'8'!D9&'9'!D9)","v":"123456789"},{"$f":"IF(ISNUMBER(E9),\" ■ \",'1'!E9&'2'!E9&'3'!E9&'4'!E9&'5'!E9&'6'!E9&'7'!E9&'8'!E9&'9'!E9)","v":"123456789"},{"$f":"IF(ISNUMBER(F9),\" ■ \",'1'!F9&'2'!F9&'3'!F9&'4'!F9&'5'!F9&'6'!F9&'7'!F9&'8'!F9&'9'!F9)","v":"123456789"},{"$f":"IF(ISNUMBER(G9),\" ■ \",'1'!G9&'2'!G9&'3'!G9&'4'!G9&'5'!G9&'6'!G9&'7'!G9&'8'!G9&'9'!G9)","v":"123456789"},{"$f":"IF(ISNUMBER(H9),\" ■ \",'1'!H9&'2'!H9&'3'!H9&'4'!H9&'5'!H9&'6'!H9&'7'!H9&'8'!H9&'9'!H9)","v":"123456789"},{"$f":"IF(ISNUMBER(I9),\" ■ \",'1'!I9&'2'!I9&'3'!I9&'4'!I9&'5'!I9&'6'!I9&'7'!I9&'8'!I9&'9'!I9)","v":"123456789"},{"$f":"IF(ISNUMBER(J9),\" ■ \",'1'!J9&'2'!J9&'3'!J9&'4'!J9&'5'!J9&'6'!J9&'7'!J9&'8'!J9&'9'!J9)","v":"123456789"},{"$f":"IF(ISNUMBER(K9),\" ■ \",'1'!K9&'2'!K9&'3'!K9&'4'!K9&'5'!K9&'6'!K9&'7'!K9&'8'!K9&'9'!K9)","v":"123456789"}]
[null,null,null,null,null,null,null,null,null,null,null,{"$f":"'1'!L10&'2'!L10&'3'!L10&'4'!L10&'5'!L10&'6'!L10&'7'!L10&'8'!L10&'9'!L10","v":""},null,null,null,{"$f":"IF(ISNUMBER(C10),\" ■ \",'1'!C10&'2'!C10&'3'!C10&'4'!C10&'5'!C10&'6'!C10&'7'!C10&'8'!C10&'9'!C10)","v":"123456789"},{"$f":"IF(ISNUMBER(D10),\" ■ \",'1'!D10&'2'!D10&'3'!D10&'4'!D10&'5'!D10&'6'!D10&'7'!D10&'8'!D10&'9'!D10)","v":"123456789"},{"$f":"IF(ISNUMBER(E10),\" ■ \",'1'!E10&'2'!E10&'3'!E10&'4'!E10&'5'!E10&'6'!E10&'7'!E10&'8'!E10&'9'!E10)","v":"123456789"},{"$f":"IF(ISNUMBER(F10),\" ■ \",'1'!F10&'2'!F10&'3'!F10&'4'!F10&'5'!F10&'6'!F10&'7'!F10&'8'!F10&'9'!F10)","v":"123456789"},{"$f":"IF(ISNUMBER(G10),\" ■ \",'1'!G10&'2'!G10&'3'!G10&'4'!G10&'5'!G10&'6'!G10&'7'!G10&'8'!G10&'9'!G10)","v":"123456789"},{"$f":"IF(ISNUMBER(H10),\" ■ \",'1'!H10&'2'!H10&'3'!H10&'4'!H10&'5'!H10&'6'!H10&'7'!H10&'8'!H10&'9'!H10)","v":"123456789"},{"$f":"IF(ISNUMBER(I10),\" ■ \",'1'!I10&'2'!I10&'3'!I10&'4'!I10&'5'!I10&'6'!I10&'7'!I10&'8'!I10&'9'!I10)","v":"123456789"},{"$f":"IF(ISNUMBER(J10),\" ■ \",'1'!J10&'2'!J10&'3'!J10&'4'!J10&'5'!J10&'6'!J10&'7'!J10&'8'!J10&'9'!J10)","v":"123456789"},{"$f":"IF(ISNUMBER(K10),\" ■ \",'1'!K10&'2'!K10&'3'!K10&'4'!K10&'5'!K10&'6'!K10&'7'!K10&'8'!K10&'9'!K10)","v":"123456789"}]
[null,null,null,null,null,null,null,null,null,null,null,{"$f":"'1'!L11&'2'!L11&'3'!L11&'4'!L11&'5'!L11&'6'!L11&'7'!L11&'8'!L11&'9'!L11","v":""},null,null,null,{"$f":"IF(ISNUMBER(C11),\" ■ \",'1'!C11&'2'!C11&'3'!C11&'4'!C11&'5'!C11&'6'!C11&'7'!C11&'8'!C11&'9'!C11)","v":"123456789"},{"$f":"IF(ISNUMBER(D11),\" ■ \",'1'!D11&'2'!D11&'3'!D11&'4'!D11&'5'!D11&'6'!D11&'7'!D11&'8'!D11&'9'!D11)","v":"123456789"},{"$f":"IF(ISNUMBER(E11),\" ■ \",'1'!E11&'2'!E11&'3'!E11&'4'!E11&'5'!E11&'6'!E11&'7'!E11&'8'!E11&'9'!E11)","v":"123456789"},{"$f":"IF(ISNUMBER(F11),\" ■ \",'1'!F11&'2'!F11&'3'!F11&'4'!F11&'5'!F11&'6'!F11&'7'!F11&'8'!F11&'9'!F11)","v":"123456789"},{"$f":"IF(ISNUMBER(G11),\" ■ \",'1'!G11&'2'!G11&'3'!G11&'4'!G11&'5'!G11&'6'!G11&'7'!G11&'8'!G11&'9'!G11)","v":"123456789"},{"$f":"IF(ISNUMBER(H11),\" ■ \",'1'!H11&'2'!H11&'3'!H11&'4'!H11&'5'!H11&'6'!H11&'7'!H11&'8'!H11&'9'!H11)","v":"123456789"},{"$f":"IF(ISNUMBER(I11),\" ■ \",'1'!I11&'2'!I11&'3'!I11&'4'!I11&'5'!I11&'6'!I11&'7'!I11&'8'!I11&'9'!I11)","v":"123456789"},{"$f":"IF(ISNUMBER(J11),\" ■ \",'1'!J11&'2'!J11&'3'!J11&'4'!J11&'5'!J11&'6'!J11&'7'!J11&'8'!J11&'9'!J11)","v":"123456789"},{"$f":"IF(ISNUMBER(K11),\" ■ \",'1'!K11&'2'!K11&'3'!K11&'4'!K11&'5'!K11&'6'!K11&'7'!K11&'8'!K11&'9'!K11)","v":"123456789"}]
[null,null,{"$f":"'1'!C12&'2'!C12&'3'!C12&'4'!C12&'5'!C12&'6'!C12&'7'!C12&'8'!C12&'9'!C12","v":""},{"$f":"'1'!D12&'2'!D12&'3'!D12&'4'!D12&'5'!D12&'6'!D12&'7'!D12&'8'!D12&'9'!D12","v":""},{"$f":"'1'!E12&'2'!E12&'3'!E12&'4'!E12&'5'!E12&'6'!E12&'7'!E12&'8'!E12&'9'!E12","v":""},{"$f":"'1'!F12&'2'!F12&'3'!F12&'4'!F12&'5'!F12&'6'!F12&'7'!F12&'8'!F12&'9'!F12","v":""},{"$f":"'1'!G12&'2'!G12&'3'!G12&'4'!G12&'5'!G12&'6'!G12&'7'!G12&'8'!G12&'9'!G12","v":""},{"$f":"'1'!H12&'2'!H12&'3'!H12&'4'!H12&'5'!H12&'6'!H12&'7'!H12&'8'!H12&'9'!H12","v":""},{"$f":"'1'!I12&'2'!I12&'3'!I12&'4'!I12&'5'!I12&'6'!I12&'7'!I12&'8'!I12&'9'!I12","v":""},{"$f":"'1'!J12&'2'!J12&'3'!J12&'4'!J12&'5'!J12&'6'!J12&'7'!J12&'8'!J12&'9'!J12","v":""},{"$f":"'1'!K12&'2'!K12&'3'!K12&'4'!K12&'5'!K12&'6'!K12&'7'!K12&'8'!K12&'9'!K12","v":""},{"$f":"'1'!L12&'2'!L12&'3'!L12&'4'!L12&'5'!L12&'6'!L12&'7'!L12&'8'!L12&'9'!L12","v":""},{"$f":"'1'!M12&'2'!M12&'3'!M12&'4'!M12&'5'!M12&'6'!M12&'7'!M12&'8'!M12&'9'!M12","v":""},{"$f":"'1'!N12&'2'!N12&'3'!N12&'4'!N12&'5'!N12&'6'!N12&'7'!N12&'8'!N12&'9'!N12","v":""}]
[null,null,null,null,null,null,null,null,null,null,null,{"$f":"'1'!L13&'2'!L13&'3'!L13&'4'!L13&'5'!L13&'6'!L13&'7'!L13&'8'!L13&'9'!L13","v":""},{"$f":"'1'!M13&'2'!M13&'3'!M13&'4'!M13&'5'!M13&'6'!M13&'7'!M13&'8'!M13&'9'!M13","v":""},{"$f":"'1'!N13&'2'!N13&'3'!N13&'4'!N13&'5'!N13&'6'!N13&'7'!N13&'8'!N13&'9'!N13","v":""}]
[null,null,null,null,null,null,null,null,null,null,null,{"$f":"'1'!L14&'2'!L14&'3'!L14&'4'!L14&'5'!L14&'6'!L14&'7'!L14&'8'!L14&'9'!L14","v":""},{"$f":"'1'!M14&'2'!M14&'3'!M14&'4'!M14&'5'!M14&'6'!M14&'7'!M14&'8'!M14&'9'!M14","v":""},{"$f":"'1'!N14&'2'!N14&'3'!N14&'4'!N14&'5'!N14&'6'!N14&'7'!N14&'8'!N14&'9'!N14","v":""}]
[null,"number",1,2,3,4,5,6,7,8,9,{"$f":"SUM(C16:K16)","v":81}]
[null,"remain",{"$f":"9-COUNTIF($C$3:$K$11,C15)","v":9},{"$f":"9-COUNTIF($C$3:$K$11,D15)","v":9},9,9,9,9,9,9,9]

{"sheet":"1","index":1,"n_rows":17,"n_cols":17,"rows_kept":17,"cut":false,"hidden":true,"merged":[]}
[]
[null,1]
[null,null,{"$f":"IF(main!C3>=1,\"\",IF(IF(COUNTIF(main!$C$3:$E$5,$B$2)=1,0,1)*$M3*C$13=0,\"\",$B$2))","v":1},{"$f":"IF(main!D3>=1,\"\",IF(IF(COUNTIF(main!$C$3:$E$5,$B$2)=1,0,1)*$M3*D$13=0,\"\",$B$2))","v":1},{"$f":"IF(main!E3>=1,\"\",IF(IF(COUNTIF(main!$C$3:$E$5,$B$2)=1,0,1)*$M3*E$13=0,\"\",$B$2))","v":1},{"$f":"IF(main!F3>=1,\"\",IF(IF(COUNTIF(main!$F$3:$H$5,$B$2)=1,0,1)*$M3*F$13=0,\"\",$B$2))","v":1},{"$f":"IF(main!G3>=1,\"\",IF(IF(COUNTIF(main!$F$3:$H$5,$B$2)=1,0,1)*$M3*G$13=0,\"\",$B$2))","v":1},{"$f":"IF(main!H3>=1,\"\",IF(IF(COUNTIF(main!$F$3:$H$5,$B$2)=1,0,1)*$M3*H$13=0,\"\",$B$2))","v":1},{"$f":"IF(main!I3>=1,\"\",IF(IF(COUNTIF(main!$I$3:$K$5,$B$2)=1,0,1)*$M3*I$13=0,\"\",$B$2))","v":1},{"$f":"IF(main!J3>=1,\"\",IF(IF(COUNTIF(main!$I$3:$K$5,$B$2)=1,0,1)*$M3*J$13=0,\"\",$B$2))","v":1},{"$f":"IF(main!K3>=1,\"\",IF(IF(COUNTIF(main!$I$3:$K$5,$B$2)=1,0,1)*$M3*K$13=0,\"\",$B$2))","v":1},{"$f":"IF(COUNT(C3:K3)=1,$B$2,\"\")","v":""},{"$f":"1-COUNTIF(main!C3:K3,$B$2)","v":1},{"$f":"COUNTIF(C3:K3,$B$2)","v":9}]
[null,null,{"$f":"IF(main!C4>=1,\"\",IF(IF(COUNTIF(main!$C$3:$E$5,$B$2)=1,0,1)*$M4*C$13=0,\"\",$B$2))","v":1},{"$f":"IF(main!D4>=1,\"\",IF(IF(COUNTIF(main!$C$3:$E$5,$B$2)=1,0,1)*$M4*D$13=0,\"\",$B$2))","v":1},{"$f":"IF(main!E4>=1,\"\",IF(IF(COUNTIF(main!$C$3:$E$5,$B$2)=1,0,1)*$M4*E$13=0,\"\",$B$2))","v":1},{"$f":"IF(main!F4>=1,\"\",IF(IF(COUNTIF(main!$F$3:$H$5,$B$2)=1,0,1)*$M4*F$13=0,\"\",$B$2))","v":1},{"$f":"IF(main!G4>=1,\"\",IF(IF(COUNTIF(main!$F$3:$H$5,$B$2)=1,0,1)*$M4*G$13=0,\"\",$B$2))","v":1},{"$f":"IF(main!H4>=1,\"\",IF(IF(COUNTIF(main!$F$3:$H$5,$B$2)=1,0,1)*$M4*H$13=0,\"\",$B$2))","v":1},{"$f":"IF(main!I4>=1,\"\",IF(IF(COUNTIF(main!$I$3:$K$5,$B$2)=1,0,1)*$M4*I$13=0,\"\",$B$2))","v":1},{"$f":"IF(main!J4>=1,\"\",IF(IF(COUNTIF(main!$I$3:$K$5,$B$2)=1,0,1)*$M4*J$13=0,\"\",$B$2))","v":1},{"$f":"IF(main!K4>=1,\"\",IF(IF(COUNTIF(main!$I$3:$K$5,$B$2)=1,0,1)*$M4*K$13=0,\"\",$B$2))","v":1},{"$f":"IF(COUNT(C4:K4)=1,$B$2,\"\")","v":""},{"$f":"1-COUNTIF(main!C4:K4,$B$2)","v":1},{"$f":"COUNTIF(C4:K4,$B$2)","v":9}]
[null,null,{"$f":"IF(main!C5>=1,\"\",IF(IF(COUNTIF(main!$C$3:$E$5,$B$2)=1,0,1)*$M5*C$13=0,\"\",$B$2))","v":1},{"$f":"IF(main!D5>=1,\"\",IF(IF(COUNTIF(main!$C$3:$E$5,$B$2)=1,0,1)*$M5*D$13=0,\"\",$B$2))","v":1},{"$f":"IF(main!E5>=1,\"\",IF(IF(COUNTIF(main!$C$3:$E$5,$B$2)=1,0,1)*$M5*E$13=0,\"\",$B$2))","v":1},{"$f":"IF(main!F5>=1,\"\",IF(IF(COUNTIF(main!$F$3:$H$5,$B$2)=1,0,1)*$M5*F$13=0,\"\",$B$2))","v":1},{"$f":"IF(main!G5>=1,\"\",IF(IF(COUNTIF(main!$F$3:$H$5,$B$2)=1,0,1)*$M5*G$13=0,\"\",$B$2))","v":1},{"$f":"IF(main!H5>=1,\"\",IF(IF(COUNTIF(main!$F$3:$H$5,$B$2)=1,0,1)*$M5*H$13=0,\"\",$B$2))","v":1},{"$f":"IF(main!I5>=1,\"\",IF(IF(COUNTIF(main!$I$3:$K$5,$B$2)=1,0,1)*$M5*I$13=0,\"\",$B$2))","v":1},{"$f":"IF(main!J5>=1,\"\",IF(IF(COUNTIF(main!$I$3:$K$5,$B$2)=1,0,1)*$M5*J$13=0,\"\",$B$2))","v":1},{"$f":"IF(main!K5>=1,\"\",IF(IF(COUNTIF(main!$I$3:$K$5,$B$2)=1,0,1)*$M5*K$13=0,\"\",$B$2))","v":1},"",{"$f":"1-COUNTIF(main!C5:K5,$B$2)","v":1},9]
[null,null,{"$f":"IF(main!C6>=1,\"\",IF(IF(COUNTIF(main!$C$6:$E$8,$B$2)=1,0,1)*$M6*C$13=0,\"\",$B$2))","v":1},{"$f":"IF(main!D6>=1,\"\",IF(IF(COUNTIF(main!$C$6:$E$8,$B$2)=1,0,1)*$M6*D$13=0,\"\",$B$2))","v":1},{"$f":"IF(main!E6>=1,\"\",IF(IF(COUNTIF(main!$C$6:$E$8,$B$2)=1,0,1)*$M6*E$13=0,\"\",$B$2))","v":1},{"$f":"IF(main!F6>=1,\"\",IF(IF(COUNTIF(main!$F$6:$H$8,$B$2)=1,0,1)*$M6*F$13=0,\"\",$B$2))","v":1},{"$f":"IF(main!G6>=1,\"\",IF(IF(COUNTIF(main!$F$6:$H$8,$B$2)=1,0,1)*$M6*G$13=0,\"\",$B$2))","v":1},{"$f":"IF(main!H6>=1,\"\",IF(IF(COUNTIF(main!$F$6:$H$8,$B$2)=1,0,1)*$M6*H$13=0,\"\",$B$2))","v":1},{"$f":"IF(main!I6>=1,\"\",IF(IF(COUNTIF(main!$I$6:$K$8,$B$2)=1,0,1)*$M6*I$13=0,\"\",$B$2))","v":1},{"$f":"IF(main!J6>=1,\"\",IF(IF(COUNTIF(main!$I$6:$K$8,$B$2)=1,0,1)*$M6*J$13=0,\"\",$B$2))","v":1},{"$f":"IF(main!K6>=1,\"\",IF(IF(COUNTIF(main!$I$6:$K$8,$B$2)=1,0,1)*$M6*K$13=0,\"\",$B$2))","v":1},"",{"$f":"1-COUNTIF(main!C6:K6,$B$2)","v":1},9]
[null,null,{"$f":"IF(main!C7>=1,\"\",IF(IF(COUNTIF(main!$C$6:$E$8,$B$2)=1,0,1)*$M7*C$13=0,\"\",$B$2))","v":1},{"$f":"IF(main!D7>=1,\"\",IF(IF(COUNTIF(main!$C$6:$E$8,$B$2)=1,0,1)*$M7*D$13=0,\"\",$B$2))","v":1},{"$f":"IF(main!E7>=1,\"\",IF(IF(COUNTIF(main!$C$6:$E$8,$B$2)=1,0,1)*$M7*E$13=0,\"\",$B$2))","v":1},{"$f":"IF(main!F7>=1,\"\",IF(IF(COUNTIF(main!$F$6:$H$8,$B$2)=1,0,1)*$M7*F$13=0,\"\",$B$2))","v":1},{"$f":"IF(main!G7>=1,\"\",IF(IF(COUNTIF(main!$F$6:$H$8,$B$2)=1,0,1)*$M7*G$13=0,\"\",$B$2))","v":1},{"$f":"IF(main!H7>=1,\"\",IF(IF(COUNTIF(main!$F$6:$H$8,$B$2)=1,0,1)*$M7*H$13=0,\"\",$B$2))","v":1},{"$f":"IF(main!I7>=1,\"\",IF(IF(COUNTIF(main!$I$6:$K$8,$B$2)=1,0,1)*$M7*I$13=0,\"\",$B$2))","v":1},{"$f":"IF(main!J7>=1,\"\",IF(IF(COUNTIF(main!$I$6:$K$8,$B$2)=1,0,1)*$M7*J$13=0,\"\",$B$2))","v":1},{"$f":"IF(main!K7>=1,\"\",IF(IF(COUNTIF(main!$I$6:$K$8,$B$2)=1,0,1)*$M7*K$13=0,\"\",$B$2))","v":1},"",{"$f":"1-COUNTIF(main!C7:K7,$B$2)","v":1},9]
[null,null,{"$f":"IF(main!C8>=1,\"\",IF(IF(COUNTIF(main!$C$6:$E$8,$B$2)=1,0,1)*$M8*C$13=0,\"\",$B$2))","v":1},{"$f":"IF(main!D8>=1,\"\",IF(IF(COUNTIF(main!$C$6:$E$8,$B$2)=1,0,1)*$M8*D$13=0,\"\",$B$2))","v":1},{"$f":"IF(main!E8>=1,\"\",IF(IF(COUNTIF(main!$C$6:$E$8,$B$2)=1,0,1)*$M8*E$13=0,\"\",$B$2))","v":1},{"$f":"IF(main!F8>=1,\"\",IF(IF(COUNTIF(main!$F$6:$H$8,$B$2)=1,0,1)*$M8*F$13=0,\"\",$B$2))","v":1},{"$f":"IF(main!G8>=1,\"\",IF(IF(COUNTIF(main!$F$6:$H$8,$B$2)=1,0,1)*$M8*G$13=0,\"\",$B$2))","v":1},{"$f":"IF(main!H8>=1,\"\",IF(IF(COUNTIF(main!$F$6:$H$8,$B$2)=1,0,1)*$M8*H$13=0,\"\",$B$2))","v":1},{"$f":"IF(main!I8>=1,\"\",IF(IF(COUNTIF(main!$I$6:$K$8,$B$2)=1,0,1)*$M8*I$13=0,\"\",$B$2))","v":1},{"$f":"IF(main!J8>=1,\"\",IF(IF(COUNTIF(main!$I$6:$K$8,$B$2)=1,0,1)*$M8*J$13=0,\"\",$B$2))","v":1},{"$f":"IF(main!K8>=1,\"\",IF(IF(COUNTIF(main!$I$6:$K$8,$B$2)=1,0,1)*$M8*K$13=0,\"\",$B$2))","v":1},"",{"$f":"1-COUNTIF(main!C8:K8,$B$2)","v":1},9]
[null,null,{"$f":"IF(main!C9>=1,\"\",IF(IF(COUNTIF(main!$C$9:$E$11,$B$2)=1,0,1)*$M9*C$13=0,\"\",$B$2))","v":1},{"$f":"IF(main!D9>=1,\"\",IF(IF(COUNTIF(main!$C$9:$E$11,$B$2)=1,0,1)*$M9*D$13=0,\"\",$B$2))","v":1},{"$f":"IF(main!E9>=1,\"\",IF(IF(COUNTIF(main!$C$9:$E$11,$B$2)=1,0,1)*$M9*E$13=0,\"\",$B$2))","v":1},{"$f":"IF(main!F9>=1,\"\",IF(IF(COUNTIF(main!$F$9:$H$11,$B$2)=1,0,1)*$M9*F$13=0,\"\",$B$2))","v":1},{"$f":"IF(main!G9>=1,\"\",IF(IF(COUNTIF(main!$F$9:$H$11,$B$2)=1,0,1)*$M9*G$13=0,\"\",$B$2))","v":1},{"$f":"IF(main!H9>=1,\"\",IF(IF(COUNTIF(main!$F$9:$H$11,$B$2)=1,0,1)*$M9*H$13=0,\"\",$B$2))","v":1},{"$f":"IF(main!I9>=1,\"\",IF(IF(COUNTIF(main!$I$9:$K$11,$B$2)=1,0,1)*$M9*I$13=0,\"\",$B$2))","v":1},{"$f":"IF(main!J9>=1,\"\",IF(IF(COUNTIF(main!$I$9:$K$11,$B$2)=1,0,1)*$M9*J$13=0,\"\",$B$2))","v":1},{"$f":"IF(main!K9>=1,\"\",IF(IF(COUNTIF(main!$I$9:$K$11,$B$2)=1,0,1)*$M9*K$13=0,\"\",$B$2))","v":1},"",{"$f":"1-COUNTIF(main!C9:K9,$B$2)","v":1},9]
[null,null,{"$f":"IF(main!C10>=1,\"\",IF(IF(COUNTIF(main!$C$9:$E$11,$B$2)=1,0,1)*$M10*C$13=0,\"\",$B$2))","v":1},{"$f":"IF(main!D10>=1,\"\",IF(IF(COUNTIF(main!$C$9:$E$11,$B$2)=1,0,1)*$M10*D$13=0,\"\",$B$2))","v":1},{"$f":"IF(main!E10>=1,\"\",IF(IF(COUNTIF(main!$C$9:$E$11,$B$2)=1,0,1)*$M10*E$13=0,\"\",$B$2))","v":1},{"$f":"IF(main!F10>=1,\"\",IF(IF(COUNTIF(main!$F$9:$H$11,$B$2)=1,0,1)*$M10*F$13=0,\"\",$B$2))","v":1},{"$f":"IF(main!G10>=1,\"\",IF(IF(COUNTIF(main!$F$9:$H$11,$B$2)=1,0,1)*$M10*G$13=0,\"\",$B$2))","v":1},{"$f":"IF(main!H10>=1,\"\",IF(IF(COUNTIF(main!$F$9:$H$11,$B$2)=1,0,1)*$M10*H$13=0,\"\",$B$2))","v":1},{"$f":"IF(main!I10>=1,\"\",IF(IF(COUNTIF(main!$I$9:$K$11,$B$2)=1,0,1)*$M10*I$13=0,\"\",$B$2))","v":1},{"$f":"IF(main!J10>=1,\"\",IF(IF(COUNTIF(main!$I$9:$K$11,$B$2)=1,0,1)*$M10*J$13=0,\"\",$B$2))","v":1},{"$f":"IF(main!K10>=1,\"\",IF(IF(COUNTIF(main!$I$9:$K$11,$B$2)=1,0,1)*$M10*K$13=0,\"\",$B$2))","v":1},"",{"$f":"1-COUNTIF(main!C10:K10,$B$2)","v":1},9]
[null,null,{"$f":"IF(main!C11>=1,\"\",IF(IF(COUNTIF(main!$C$9:$E$11,$B$2)=1,0,1)*$M11*C$13=0,\"\",$B$2))","v":1},{"$f":"IF(main!D11>=1,\"\",IF(IF(COUNTIF(main!$C$9:$E$11,$B$2)=1,0,1)*$M11*D$13=0,\"\",$B$2))","v":1},{"$f":"IF(main!E11>=1,\"\",IF(IF(COUNTIF(main!$C$9:$E$11,$B$2)=1,0,1)*$M11*E$13=0,\"\",$B$2))","v":1},{"$f":"IF(main!F11>=1,\"\",IF(IF(COUNTIF(main!$F$9:$H$11,$B$2)=1,0,1)*$M11*F$13=0,\"\",$B$2))","v":1},{"$f":"IF(main!G11>=1,\"\",IF(IF(COUNTIF(main!$F$9:$H$11,$B$2)=1,0,1)*$M11*G$13=0,\"\",$B$2))","v":1},{"$f":"IF(main!H11>=1,\"\",IF(IF(COUNTIF(main!$F$9:$H$11,$B$2)=1,0,1)*$M11*H$13=0,\"\",$B$2))","v":1},{"$f":"IF(main!I11>=1,\"\",IF(IF(COUNTIF(main!$I$9:$K$11,$B$2)=1,0,1)*$M11*I$13=0,\"\",$B$2))","v":1},{"$f":"IF(main!J11>=1,\"\",IF(IF(COUNTIF(main!$I$9:$K$11,$B$2)=1,0,1)*$M11*J$13=0,\"\",$B$2))","v":1},{"$f":"IF(main!K11>=1,\"\",IF(IF(COUNTIF(main!$I$9:$K$11,$B$2)=1,0,1)*$M11*K$13=0,\"\",$B$2))","v":1},"",{"$f":"1-COUNTIF(main!C11:K11,$B$2)","v":1},9]
[null,null,{"$f":"IF(COUNT(C3:C11)=1,$B$2,\"\")","v":""},{"$f":"IF(COUNT(D3:D11)=1,$B$2,\"\")","v":""},"","","","","","","",{"$f":"IF(COUNT(C3:E5)=1,$B$2,\"\")","v":""},{"$f":"IF(COUNT(F3:H5)=1,$B$2,\"\")","v":""},{"$f":"IF(COUNT(I3:K5)=1,$B$2,\"\")","v":""}]
[null,null,{"$f":"1-COUNTIF(main!C3:C11,$B$2)","v":1},{"$f":"1-COUNTIF(main!D3:D11,$B$2)","v":1},{"$f":"1-COUNTIF(main!E3:E11,$B$2)","v":1},{"$f":"1-COUNTIF(main!F3:F11,$B$2)","v":1},{"$f":"1-COUNTIF(main!G3:G11,$B$2)","v":1},{"$f":"1-COUNTIF(main!H3:H11,$B$2)","v":1},{"$f":"1-COUNTIF(main!I3:I11,$B$2)","v":1},{"$f":"1-COUNTIF(main!J3:J11,$B$2)","v":1},{"$f":"1-COUNTIF(main!K3:K11,$B$2)","v":1},{"$f":"IF(COUNT(C6:E8)=1,$B$2,\"\")","v":""},{"$f":"IF(COUNT(F6:H8)=1,$B$2,\"\")","v":""},{"$f":"IF(COUNT(I6:K8)=1,$B$2,\"\")","v":""}]
[null,null,{"$f":"COUNTIF(C3:C11,$B$2)","v":9},{"$f":"COUNTIF(D3:D11,$B$2)","v":9},9,9,9,9,9,9,9,{"$f":"IF(COUNT(C9:E11)=1,$B$2,\"\")","v":""},{"$f":"IF(COUNT(F9:H11)=1,$B$2,\"\")","v":""},{"$f":"IF(COUNT(I9:K11)=1,$B$2,\"\")","v":""}]
[null,null,null,null,null,null,null,null,null,null,null,null,null,null,{"$f":"COUNTIF(C3:E5,$B$2)","v":9},{"$f":"COUNTIF(F3:H5,$B$2)","v":9},{"$f":"COUNTIF(I3:K5,$B$2)","v":9}]
[null,null,null,null,null,null,null,null,null,null,null,null,null,null,{"$f":"COUNTIF(C6:E8,$B$2)","v":9},{"$f":"COUNTIF(F6:H8,$B$2)","v":9},{"$f":"COUNTIF(I6:K8,$B$2)","v":9}]
[null,null,null,null,null,null,null,null,null,null,null,null,null,null,{"$f":"COUNTIF(C9:E11,$B$2)","v":9},{"$f":"COUNTIF(F9:H11,$B$2)","v":9},{"$f":"COUNTIF(I9:K11,$B$2)","v":9}]

{"sheet":"2","index":2,"n_rows":17,"n_cols":17,"rows_kept":17,"cut":false,"hidden":true,"merged":[]}
[]
[null,2]
[null,null,{"$f":"IF(main!C3>=1,\"\",IF(IF(COUNTIF(main!$C$3:$E$5,$B$2)=1,0,1)*$M3*C$13=0,\"\",$B$2))","v":2},{"$f":"IF(main!D3>=1,\"\",IF(IF(COUNTIF(main!$C$3:$E$5,$B$2)=1,0,1)*$M3*D$13=0,\"\",$B$2))","v":2},{"$f":"IF(main!E3>=1,\"\",IF(IF(COUNTIF(main!$C$3:$E$5,$B$2)=1,0,1)*$M3*E$13=0,\"\",$B$2))","v":2},{"$f":"IF(main!F3>=1,\"\",IF(IF(COUNTIF(main!$F$3:$H$5,$B$2)=1,0,1)*$M3*F$13=0,\"\",$B$2))","v":2},{"$f":"IF(main!G3>=1,\"\",IF(IF(COUNTIF(main!$F$3:$H$5,$B$2)=1,0,1)*$M3*G$13=0,\"\",$B$2))","v":2},{"$f":"IF(main!H3>=1,\"\",IF(IF(COUNTIF(main!$F$3:$H$5,$B$2)=1,0,1)*$M3*H$13=0,\"\",$B$2))","v":2},{"$f":"IF(main!I3>=1,\"\",IF(IF(COUNTIF(main!$I$3:$K$5,$B$2)=1,0,1)*$M3*I$13=0,\"\",$B$2))","v":2},{"$f":"IF(main!J3>=1,\"\",IF(IF(COUNTIF(main!$I$3:$K$5,$B$2)=1,0,1)*$M3*J$13=0,\"\",$B$2))","v":2},{"$f":"IF(main!K3>=1,\"\",IF(IF(COUNTIF(main!$I$3:$K$5,$B$2)=1,0,1)*$M3*K$13=0,\"\",$B$2))","v":2},{"$f":"IF(COUNT(C3:K3)=1,$B$2,\"\")","v":""},{"$f":"1-COUNTIF(main!C3:K3,$B$2)","v":1},{"$f":"COUNTIF(C3:K3,$B$2)","v":9}]
[null,null,{"$f":"IF(main!C4>=1,\"\",IF(IF(COUNTIF(main!$C$3:$E$5,$B$2)=1,0,1)*$M4*C$13=0,\"\",$B$2))","v":2},{"$f":"IF(main!D4>=1,\"\",IF(IF(COUNTIF(main!$C$3:$E$5,$B$2)=1,0,1)*$M4*D$13=0,\"\",$B$2))","v":2},{"$f":"IF(main!E4>=1,\"\",IF(IF(COUNTIF(main!$C$3:$E$5,$B$2)=1,0,1)*$M4*E$13=0,\"\",$B$2))","v":2},{"$f":"IF(main!F4>=1,\"\",IF(IF(COUNTIF(main!$F$3:$H$5,$B$2)=1,0,1)*$M4*F$13=0,\"\",$B$2))","v":2},{"$f":"IF(main!G4>=1,\"\",IF(IF(COUNTIF(main!$F$3:$H$5,$B$2)=1,0,1)*$M4*G$13=0,\"\",$B$2))","v":2},{"$f":"IF(main!H4>=1,\"\",IF(IF(COUNTIF(main!$F$3:$H$5,$B$2)=1,0,1)*$M4*H$13=0,\"\",$B$2))","v":2},{"$f":"IF(main!I4>=1,\"\",IF(IF(COUNTIF(main!$I$3:$K$5,$B$2)=1,0,1)*$M4*I$13=0,\"\",$B$2))","v":2},{"$f":"IF(main!J4>=1,\"\",IF(IF(COUNTIF(main!$I$3:$K$5,$B$2)=1,0,1)*$M4*J$13=0,\"\",$B$2))","v":2},{"$f":"IF(main!K4>=1,\"\",IF(IF(COUNTIF(main!$I$3:$K$5,$B$2)=1,0,1)*$M4*K$13=0,\"\",$B$2))","v":2},{"$f":"IF(COUNT(C4:K4)=1,$B$2,\"\")","v":""},{"$f":"1-COUNTIF(main!C4:K4,$B$2)","v":1},{"$f":"COUNTIF(C4:K4,$B$2)","v":9}]
[null,null,{"$f":"IF(main!C5>=1,\"\",IF(IF(COUNTIF(main!$C$3:$E$5,$B$2)=1,0,1)*$M5*C$13=0,\"\",$B$2))","v":2},{"$f":"IF(main!D5>=1,\"\",IF(IF(COUNTIF(main!$C$3:$E$5,$B$2)=1,0,1)*$M5*D$13=0,\"\",$B$2))","v":2},{"$f":"IF(main!E5>=1,\"\",IF(IF(COUNTIF(main!$C$3:$E$5,$B$2)=1,0,1)*$M5*E$13=0,\"\",$B$2))","v":2},{"$f":"IF(main!F5>=1,\"\",IF(IF(COUNTIF(main!$F$3:$H$5,$B$2)=1,0,1)*$M5*F$13=0,\"\",$B$2))","v":2},{"$f":"IF(main!G5>=1,\"\",IF(IF(COUNTIF(main!$F$3:$H$5,$B$2)=1,0,1)*$M5*G$13=0,\"\",$B$2))","v":2},{"$f":"IF(main!H5>=1,\"\",IF(IF(COUNTIF(main!$F$3:$H$5,$B$2)=1,0,1)*$M5*H$13=0,\"\",$B$2))","v":2},{"$f":"IF(main!I5>=1,\"\",IF(IF(COUNTIF(main!$I$3:$K$5,$B$2)=1,0,1)*$M5*I$13=0,\"\",$B$2))","v":2},{"$f":"IF(main!J5>=1,\"\",IF(IF(COUNTIF(main!$I$3:$K$5,$B$2)=1,0,1)*$M5*J$13=0,\"\",$B$2))","v":2},{"$f":"IF(main!K5>=1,\"\",IF(IF(COUNTIF(main!$I$3:$K$5,$B$2)=1,0,1)*$M5*K$13=0,\"\",$B$2))","v":2},"",{"$f":"1-COUNTIF(main!C5:K5,$B$2)","v":1},9]
[null,null,{"$f":"IF(main!C6>=1,\"\",IF(IF(COUNTIF(main!$C$6:$E$8,$B$2)=1,0,1)*$M6*C$13=0,\"\",$B$2))","v":2},{"$f":"IF(main!D6>=1,\"\",IF(IF(COUNTIF(main!$C$6:$E$8,$B$2)=1,0,1)*$M6*D$13=0,\"\",$B$2))","v":2},{"$f":"IF(main!E6>=1,\"\",IF(IF(COUNTIF(main!$C$6:$E$8,$B$2)=1,0,1)*$M6*E$13=0,\"\",$B$2))","v":2},{"$f":"IF(main!F6>=1,\"\",IF(IF(COUNTIF(main!$F$6:$H$8,$B$2)=1,0,1)*$M6*F$13=0,\"\",$B$2))","v":2},{"$f":"IF(main!G6>=1,\"\",IF(IF(COUNTIF(main!$F$6:$H$8,$B$2)=1,0,1)*$M6*G$13=0,\"\",$B$2))","v":2},{"$f":"IF(main!H6>=1,\"\",IF(IF(COUNTIF(main!$F$6:$H$8,$B$2)=1,0,1)*$M6*H$13=0,\"\",$B$2))","v":2},{"$f":"IF(main!I6>=1,\"\",IF(IF(COUNTIF(main!$I$6:$K$8,$B$2)=1,0,1)*$M6*I$13=0,\"\",$B$2))","v":2},{"$f":"IF(main!J6>=1,\"\",IF(IF(COUNTIF(main!$I$6:$K$8,$B$2)=1,0,1)*$M6*J$13=0,\"\",$B$2))","v":2},{"$f":"IF(main!K6>=1,\"\",IF(IF(COUNTIF(main!$I$6:$K$8,$B$2)=1,0,1)*$M6*K$13=0,\"\",$B$2))","v":2},"",{"$f":"1-COUNTIF(main!C6:K6,$B$2)","v":1},9]
[null,null,{"$f":"IF(main!C7>=1,\"\",IF(IF(COUNTIF(main!$C$6:$E$8,$B$2)=1,0,1)*$M7*C$13=0,\"\",$B$2))","v":2},{"$f":"IF(main!D7>=1,\"\",IF(IF(COUNTIF(main!$C$6:$E$8,$B$2)=1,0,1)*$M7*D$13=0,\"\",$B$2))","v":2},{"$f":"IF(main!E7>=1,\"\",IF(IF(COUNTIF(main!$C$6:$E$8,$B$2)=1,0,1)*$M7*E$13=0,\"\",$B$2))","v":2},{"$f":"IF(main!F7>=1,\"\",IF(IF(COUNTIF(main!$F$6:$H$8,$B$2)=1,0,1)*$M7*F$13=0,\"\",$B$2))","v":2},{"$f":"IF(main!G7>=1,\"\",IF(IF(COUNTIF(main!$F$6:$H$8,$B$2)=1,0,1)*$M7*G$13=0,\"\",$B$2))","v":2},{"$f":"IF(main!H7>=1,\"\",IF(IF(COUNTIF(main!$F$6:$H$8,$B$2)=1,0,1)*$M7*H$13=0,\"\",$B$2))","v":2},{"$f":"IF(main!I7>=1,\"\",IF(IF(COUNTIF(main!$I$6:$K$8,$B$2)=1,0,1)*$M7*I$13=0,\"\",$B$2))","v":2},{"$f":"IF(main!J7>=1,\"\",IF(IF(COUNTIF(main!$I$6:$K$8,$B$2)=1,0,1)*$M7*J$13=0,\"\",$B$2))","v":2},{"$f":"IF(main!K7>=1,\"\",IF(IF(COUNTIF(main!$I$6:$K$8,$B$2)=1,0,1)*$M7*K$13=0,\"\",$B$2))","v":2},"",{"$f":"1-COUNTIF(main!C7:K7,$B$2)","v":1},9]
[null,null,{"$f":"IF(main!C8>=1,\"\",IF(IF(COUNTIF(main!$C$6:$E$8,$B$2)=1,0,1)*$M8*C$13=0,\"\",$B$2))","v":2},{"$f":"IF(main!D8>=1,\"\",IF(IF(COUNTIF(main!$C$6:$E$8,$B$2)=1,0,1)*$M8*D$13=0,\"\",$B$2))","v":2},{"$f":"IF(main!E8>=1,\"\",IF(IF(COUNTIF(main!$C$6:$E$8,$B$2)=1,0,1)*$M8*E$13=0,\"\",$B$2))","v":2},{"$f":"IF(main!F8>=1,\"\",IF(IF(COUNTIF(main!$F$6:$H$8,$B$2)=1,0,1)*$M8*F$13=0,\"\",$B$2))","v":2},{"$f":"IF(main!G8>=1,\"\",IF(IF(COUNTIF(main!$F$6:$H$8,$B$2)=1,0,1)*$M8*G$13=0,\"\",$B$2))","v":2},{"$f":"IF(main!H8>=1,\"\",IF(IF(COUNTIF(main!$F$6:$H$8,$B$2)=1,0,1)*$M8*H$13=0,\"\",$B$2))","v":2},{"$f":"IF(main!I8>=1,\"\",IF(IF(COUNTIF(main!$I$6:$K$8,$B$2)=1,0,1)*$M8*I$13=0,\"\",$B$2))","v":2},{"$f":"IF(main!J8>=1,\"\",IF(IF(COUNTIF(main!$I$6:$K$8,$B$2)=1,0,1)*$M8*J$13=0,\"\",$B$2))","v":2},{"$f":"IF(main!K8>=1,\"\",IF(IF(COUNTIF(main!$I$6:$K$8,$B$2)=1,0,1)*$M8*K$13=0,\"\",$B$2))","v":2},"",{"$f":"1-COUNTIF(main!C8:K8,$B$2)","v":1},9]
[null,null,{"$f":"IF(main!C9>=1,\"\",IF(IF(COUNTIF(main!$C$9:$E$11,$B$2)=1,0,1)*$M9*C$13=0,\"\",$B$2))","v":2},{"$f":"IF(main!D9>=1,\"\",IF(IF(COUNTIF(main!$C$9:$E$11,$B$2)=1,0,1)*$M9*D$13=0,\"\",$B$2))","v":2},{"$f":"IF(main!E9>=1,\"\",IF(IF(COUNTIF(main!$C$9:$E$11,$B$2)=1,0,1)*$M9*E$13=0,\"\",$B$2))","v":2},{"$f":"IF(main!F9>=1,\"\",IF(IF(COUNTIF(main!$F$9:$H$11,$B$2)=1,0,1)*$M9*F$13=0,\"\",$B$2))","v":2},{"$f":"IF(main!G9>=1,\"\",IF(IF(COUNTIF(main!$F$9:$H$11,$B$2)=1,0,1)*$M9*G$13=0,\"\",$B$2))","v":2},{"$f":"IF(main!H9>=1,\"\",IF(IF(COUNTIF(main!$F$9:$H$11,$B$2)=1,0,1)*$M9*H$13=0,\"\",$B$2))","v":2},{"$f":"IF(main!I9>=1,\"\",IF(IF(COUNTIF(main!$I$9:$K$11,$B$2)=1,0,1)*$M9*I$13=0,\"\",$B$2))","v":2},{"$f":"IF(main!J9>=1,\"\",IF(IF(COUNTIF(main!$I$9:$K$11,$B$2)=1,0,1)*$M9*J$13=0,\"\",$B$2))","v":2},{"$f":"IF(main!K9>=1,\"\",IF(IF(COUNTIF(main!$I$9:$K$11,$B$2)=1,0,1)*$M9*K$13=0,\"\",$B$2))","v":2},"",{"$f":"1-COUNTIF(main!C9:K9,$B$2)","v":1},9]
[null,null,{"$f":"IF(main!C10>=1,\"\",IF(IF(COUNTIF(main!$C$9:$E$11,$B$2)=1,0,1)*$M10*C$13=0,\"\",$B$2))","v":2},{"$f":"IF(main!D10>=1,\"\",IF(IF(COUNTIF(main!$C$9:$E$11,$B$2)=1,0,1)*$M10*D$13=0,\"\",$B$2))","v":2},{"$f":"IF(main!E10>=1,\"\",IF(IF(COUNTIF(main!$C$9:$E$11,$B$2)=1,0,1)*$M10*E$13=0,\"\",$B$2))","v":2},{"$f":"IF(main!F10>=1,\"\",IF(IF(COUNTIF(main!$F$9:$H$11,$B$2)=1,0,1)*$M10*F$13=0,\"\",$B$2))","v":2},{"$f":"IF(main!G10>=1,\"\",IF(IF(COUNTIF(main!$F$9:$H$11,$B$2)=1,0,1)*$M10*G$13=0,\"\",$B$2))","v":2},{"$f":"IF(main!H10>=1,\"\",IF(IF(COUNTIF(main!$F$9:$H$11,$B$2)=1,0,1)*$M10*H$13=0,\"\",$B$2))","v":2},{"$f":"IF(main!I10>=1,\"\",IF(IF(COUNTIF(main!$I$9:$K$11,$B$2)=1,0,1)*$M10*I$13=0,\"\",$B$2))","v":2},{"$f":"IF(main!J10>=1,\"\",IF(IF(COUNTIF(main!$I$9:$K$11,$B$2)=1,0,1)*$M10*J$13=0,\"\",$B$2))","v":2},{"$f":"IF(main!K10>=1,\"\",IF(IF(COUNTIF(main!$I$9:$K$11,$B$2)=1,0,1)*$M10*K$13=0,\"\",$B$2))","v":2},"",{"$f":"1-COUNTIF(main!C10:K10,$B$2)","v":1},9]
[null,null,{"$f":"IF(main!C11>=1,\"\",IF(IF(COUNTIF(main!$C$9:$E$11,$B$2)=1,0,1)*$M11*C$13=0,\"\",$B$2))","v":2},{"$f":"IF(main!D11>=1,\"\",IF(IF(COUNTIF(main!$C$9:$E$11,$B$2)=1,0,1)*$M11*D$13=0,\"\",$B$2))","v":2},{"$f":"IF(main!E11>=1,\"\",IF(IF(COUNTIF(main!$C$9:$E$11,$B$2)=1,0,1)*$M11*E$13=0,\"\",$B$2))","v":2},{"$f":"IF(main!F11>=1,\"\",IF(IF(COUNTIF(main!$F$9:$H$11,$B$2)=1,0,1)*$M11*F$13=0,\"\",$B$2))","v":2},{"$f":"IF(main!G11>=1,\"\",IF(IF(COUNTIF(main!$F$9:$H$11,$B$2)=1,0,1)*$M11*G$13=0,\"\",$B$2))","v":2},{"$f":"IF(main!H11>=1,\"\",IF(IF(COUNTIF(main!$F$9:$H$11,$B$2)=1,0,1)*$M11*H$13=0,\"\",$B$2))","v":2},{"$f":"IF(main!I11>=1,\"\",IF(IF(COUNTIF(main!$I$9:$K$11,$B$2)=1,0,1)*$M11*I$13=0,\"\",$B$2))","v":2},{"$f":"IF(main!J11>=1,\"\",IF(IF(COUNTIF(main!$I$9:$K$11,$B$2)=1,0,1)*$M11*J$13=0,\"\",$B$2))","v":2},{"$f":"IF(main!K11>=1,\"\",IF(IF(COUNTIF(main!$I$9:$K$11,$B$2)=1,0,1)*$M11*K$13=0,\"\",$B$2))","v":2},"",{"$f":"1-COUNTIF(main!C11:K11,$B$2)","v":1},9]
[null,null,{"$f":"IF(COUNT(C3:C11)=1,$B$2,\"\")","v":""},{"$f":"IF(COUNT(D3:D11)=1,$B$2,\"\")","v":""},"","","","","","","",{"$f":"IF(COUNT(C3:E5)=1,$B$2,\"\")","v":""},{"$f":"IF(COUNT(F3:H5)=1,$B$2,\"\")","v":""},{"$f":"IF(COUNT(I3:K5)=1,$B$2,\"\")","v":""}]
[null,null,{"$f":"1-COUNTIF(main!C3:C11,$B$2)","v":1},{"$f":"1-COUNTIF(main!D3:D11,$B$2)","v":1},{"$f":"1-COUNTIF(main!E3:E11,$B$2)","v":1},{"$f":"1-COUNTIF(main!F3:F11,$B$2)","v":1},{"$f":"1-COUNTIF(main!G3:G11,$B$2)","v":1},{"$f":"1-COUNTIF(main!H3:H11,$B$2)","v":1},{"$f":"1-COUNTIF(main!I3:I11,$B$2)","v":1},{"$f":"1-COUNTIF(main!J3:J11,$B$2)","v":1},{"$f":"1-COUNTIF(main!K3:K11,$B$2)","v":1},{"$f":"IF(COUNT(C6:E8)=1,$B$2,\"\")","v":""},{"$f":"IF(COUNT(F6:H8)=1,$B$2,\"\")","v":""},{"$f":"IF(COUNT(I6:K8)=1,$B$2,\"\")","v":""}]
[null,null,{"$f":"COUNTIF(C3:C11,$B$2)","v":9},{"$f":"COUNTIF(D3:D11,$B$2)","v":9},9,9,9,9,9,9,9,{"$f":"IF(COUNT(C9:E11)=1,$B$2,\"\")","v":""},{"$f":"IF(COUNT(F9:H11)=1,$B$2,\"\")","v":""},{"$f":"IF(COUNT(I9:K11)=1,$B$2,\"\")","v":""}]
[null,null,null,null,null,null,null,null,null,null,null,null,null,null,{"$f":"COUNTIF(C3:E5,$B$2)","v":9},{"$f":"COUNTIF(F3:H5,$B$2)","v":9},{"$f":"COUNTIF(I3:K5,$B$2)","v":9}]
[null,null,null,null,null,null,null,null,null,null,null,null,null,null,{"$f":"COUNTIF(C6:E8,$B$2)","v":9},{"$f":"COUNTIF(F6:H8,$B$2)","v":9},{"$f":"COUNTIF(I6:K8,$B$2)","v":9}]
[null,null,null,null,null,null,null,null,null,null,null,null,null,null,{"$f":"COUNTIF(C9:E11,$B$2)","v":9},{"$f":"COUNTIF(F9:H11,$B$2)","v":9},{"$f":"COUNTIF(I9:K11,$B$2)","v":9}]

{"sheet":"3","index":3,"n_rows":17,"n_cols":17,"rows_kept":17,"cut":false,"hidden":true,"merged":[]}
[]
[null,3]
[null,null,{"$f":"IF(main!C3>=1,\"\",IF(IF(COUNTIF(main!$C$3:$E$5,$B$2)=1,0,1)*$M3*C$13=0,\"\",$B$2))","v":3},{"$f":"IF(main!D3>=1,\"\",IF(IF(COUNTIF(main!$C$3:$E$5,$B$2)=1,0,1)*$M3*D$13=0,\"\",$B$2))","v":3},{"$f":"IF(main!E3>=1,\"\",IF(IF(COUNTIF(main!$C$3:$E$5,$B$2)=1,0,1)*$M3*E$13=0,\"\",$B$2))","v":3},{"$f":"IF(main!F3>=1,\"\",IF(IF(COUNTIF(main!$F$3:$H$5,$B$2)=1,0,1)*$M3*F$13=0,\"\",$B$2))","v":3},{"$f":"IF(main!G3>=1,\"\",IF(IF(COUNTIF(main!$F$3:$H$5,$B$2)=1,0,1)*$M3*G$13=0,\"\",$B$2))","v":3},{"$f":"IF(main!H3>=1,\"\",IF(IF(COUNTIF(main!$F$3:$H$5,$B$2)=1,0,1)*$M3*H$13=0,\"\",$B$2))","v":3},{"$f":"IF(main!I3>=1,\"\",IF(IF(COUNTIF(main!$I$3:$K$5,$B$2)=1,0,1)*$M3*I$13=0,\"\",$B$2))","v":3},{"$f":"IF(main!J3>=1,\"\",IF(IF(COUNTIF(main!$I$3:$K$5,$B$2)=1,0,1)*$M3*J$13=0,\"\",$B$2))","v":3},{"$f":"IF(main!K3>=1,\"\",IF(IF(COUNTIF(main!$I$3:$K$5,$B$2)=1,0,1)*$M3*K$13=0,\"\",$B$2))","v":3},{"$f":"IF(COUNT(C3:K3)=1,$B$2,\"\")","v":""},{"$f":"1-COUNTIF(main!C3:K3,$B$2)","v":1},{"$f":"COUNTIF(C3:K3,$B$2)","v":9}]
[null,null,{"$f":"IF(main!C4>=1,\"\",IF(IF(COUNTIF(main!$C$3:$E$5,$B$2)=1,0,1)*$M4*C$13=0,\"\",$B$2))","v":3},{"$f":"IF(main!D4>=1,\"\",IF(IF(COUNTIF(main!$C$3:$E$5,$B$2)=1,0,1)*$M4*D$13=0,\"\",$B$2))","v":3},{"$f":"IF(main!E4>=1,\"\",IF(IF(COUNTIF(main!$C$3:$E$5,$B$2)=1,0,1)*$M4*E$13=0,\"\",$B$2))","v":3},{"$f":"IF(main!F4>=1,\"\",IF(IF(COUNTIF(main!$F$3:$H$5,$B$2)=1,0,1)*$M4*F$13=0,\"\",$B$2))","v":3},{"$f":"IF(main!G4>=1,\"\",IF(IF(COUNTIF(main!$F$3:$H$5,$B$2)=1,0,1)*$M4*G$13=0,\"\",$B$2))","v":3},{"$f":"IF(main!H4>=1,\"\",IF(IF(COUNTIF(main!$F$3:$H$5,$B$2)=1,0,1)*$M4*H$13=0,\"\",$B$2))","v":3},{"$f":"IF(main!I4>=1,\"\",IF(IF(COUNTIF(main!$I$3:$K$5,$B$2)=1,0,1)*$M4*I$13=0,\"\",$B$2))","v":3},{"$f":"IF(main!J4>=1,\"\",IF(IF(COUNTIF(main!$I$3:$K$5,$B$2)=1,0,1)*$M4*J$13=0,\"\",$B$2))","v":3},{"$f":"IF(main!K4>=1,\"\",IF(IF(COUNTIF(main!$I$3:$K$5,$B$2)=1,0,1)*$M4*K$13=0,\"\",$B$2))","v":3},{"$f":"IF(COUNT(C4:K4)=1,$B$2,\"\")","v":""},{"$f":"1-COUNTIF(main!C4:K4,$B$2)","v":1},{"$f":"COUNTIF(C4:K4,$B$2)","v":9}]
[null,null,{"$f":"IF(main!C5>=1,\"\",IF(IF(COUNTIF(main!$C$3:$E$5,$B$2)=1,0,1)*$M5*C$13=0,\"\",$B$2))","v":3},{"$f":"IF(main!D5>=1,\"\",IF(IF(COUNTIF(main!$C$3:$E$5,$B$2)=1,0,1)*$M5*D$13=0,\"\",$B$2))","v":3},{"$f":"IF(main!E5>=1,\"\",IF(IF(COUNTIF(main!$C$3:$E$5,$B$2)=1,0,1)*$M5*E$13=0,\"\",$B$2))","v":3},{"$f":"IF(main!F5>=1,\"\",IF(IF(COUNTIF(main!$F$3:$H$5,$B$2)=1,0,1)*$M5*F$13=0,\"\",$B$2))","v":3},{"$f":"IF(main!G5>=1,\"\",IF(IF(COUNTIF(main!$F$3:$H$5,$B$2)=1,0,1)*$M5*G$13=0,\"\",$B$2))","v":3},{"$f":"IF(main!H5>=1,\"\",IF(IF(COUNTIF(main!$F$3:$H$5,$B$2)=1,0,1)*$M5*H$13=0,\"\",$B$2))","v":3},{"$f":"IF(main!I5>=1,\"\",IF(IF(COUNTIF(main!$I$3:$K$5,$B$2)=1,0,1)*$M5*I$13=0,\"\",$B$2))","v":3},{"$f":"IF(main!J5>=1,\"\",IF(IF(COUNTIF(main!$I$3:$K$5,$B$2)=1,0,1)*$M5*J$13=0,\"\",$B$2))","v":3},{"$f":"IF(main!K5>=1,\"\",IF(IF(COUNTIF(main!$I$3:$K$5,$B$2)=1,0,1)*$M5*K$13=0,\"\",$B$2))","v":3},"",{"$f":"1-COUNTIF(main!C5:K5,$B$2)","v":1},9]
[null,null,{"$f":"IF(main!C6>=1,\"\",IF(IF(COUNTIF(main!$C$6:$E$8,$B$2)=1,0,1)*$M6*C$13=0,\"\",$B$2))","v":3},{"$f":"IF(main!D6>=1,\"\",IF(IF(COUNTIF(main!$C$6:$E$8,$B$2)=1,0,1)*$M6*D$13=0,\"\",$B$2))","v":3},{"$f":"IF(main!E6>=1,\"\",IF(IF(COUNTIF(main!$C$6:$E$8,$B$2)=1,0,1)*$M6*E$13=0,\"\",$B$2))","v":3},{"$f":"IF(main!F6>=1,\"\",IF(IF(COUNTIF(main!$F$6:$H$8,$B$2)=1,0,1)*$M6*F$13=0,\"\",$B$2))","v":3},{"$f":"IF(main!G6>=1,\"\",IF(IF(COUNTIF(main!$F$6:$H$8,$B$2)=1,0,1)*$M6*G$13=0,\"\",$B$2))","v":3},{"$f":"IF(main!H6>=1,\"\",IF(IF(COUNTIF(main!$F$6:$H$8,$B$2)=1,0,1)*$M6*H$13=0,\"\",$B$2))","v":3},{"$f":"IF(main!I6>=1,\"\",IF(IF(COUNTIF(main!$I$6:$K$8,$B$2)=1,0,1)*$M6*I$13=0,\"\",$B$2))","v":3},{"$f":"IF(main!J6>=1,\"\",IF(IF(COUNTIF(main!$I$6:$K$8,$B$2)=1,0,1)*$M6*J$13=0,\"\",$B$2))","v":3},{"$f":"IF(main!K6>=1,\"\",IF(IF(COUNTIF(main!$I$6:$K$8,$B$2)=1,0,1)*$M6*K$13=0,\"\",$B$2))","v":3},"",{"$f":"1-COUNTIF(main!C6:K6,$B$2)","v":1},9]
[null,null,{"$f":"IF(main!C7>=1,\"\",IF(IF(COUNTIF(main!$C$6:$E$8,$B$2)=1,0,1)*$M7*C$13=0,\"\",$B$2))","v":3},{"$f":"IF(main!D7>=1,\"\",IF(IF(COUNTIF(main!$C$6:$E$8,$B$2)=1,0,1)*$M7*D$13=0,\"\",$B$2))","v":3},{"$f":"IF(main!E7>=1,\"\",IF(IF(COUNTIF(main!$C$6:$E$8,$B$2)=1,0,1)*$M7*E$13=0,\"\",$B$2))","v":3},{"$f":"IF(main!F7>=1,\"\",IF(IF(COUNTIF(main!$F$6:$H$8,$B$2)=1,0,1)*$M7*F$13=0,\"\",$B$2))","v":3},{"$f":"IF(main!G7>=1,\"\",IF(IF(COUNTIF(main!$F$6:$H$8,$B$2)=1,0,1)*$M7*G$13=0,\"\",$B$2))","v":3},{"$f":"IF(main!H7>=1,\"\",IF(IF(COUNTIF(main!$F$6:$H$8,$B$2)=1,0,1)*$M7*H$13=0,\"\",$B$2))","v":3},{"$f":"IF(main!I7>=1,\"\",IF(IF(COUNTIF(main!$I$6:$K$8,$B$2)=1,0,1)*$M7*I$13=0,\"\",$B$2))","v":3},{"$f":"IF(main!J7>=1,\"\",IF(IF(COUNTIF(main!$I$6:$K$8,$B$2)=1,0,1)*$M7*J$13=0,\"\",$B$2))","v":3},{"$f":"IF(main!K7>=1,\"\",IF(IF(COUNTIF(main!$I$6:$K$8,$B$2)=1,0,1)*$M7*K$13=0,\"\",$B$2))","v":3},"",{"$f":"1-COUNTIF(main!C7:K7,$B$2)","v":1},9]
[null,null,{"$f":"IF(main!C8>=1,\"\",IF(IF(COUNTIF(main!$C$6:$E$8,$B$2)=1,0,1)*$M8*C$13=0,\"\",$B$2))","v":3},{"$f":"IF(main!D8>=1,\"\",IF(IF(COUNTIF(main!$C$6:$E$8,$B$2)=1,0,1)*$M8*D$13=0,\"\",$B$2))","v":3},{"$f":"IF(main!E8>=1,\"\",IF(IF(COUNTIF(main!$C$6:$E$8,$B$2)=1,0,1)*$M8*E$13=0,\"\",$B$2))","v":3},{"$f":"IF(main!F8>=1,\"\",IF(IF(COUNTIF(main!$F$6:$H$8,$B$2)=1,0,1)*$M8*F$13=0,\"\",$B$2))","v":3},{"$f":"IF(main!G8>=1,\"\",IF(IF(COUNTIF(main!$F$6:$H$8,$B$2)=1,0,1)*$M8*G$13=0,\"\",$B$2))","v":3},{"$f":"IF(main!H8>=1,\"\",IF(IF(COUNTIF(main!$F$6:$H$8,$B$2)=1,0,1)*$M8*H$13=0,\"\",$B$2))","v":3},{"$f":"IF(main!I8>=1,\"\",IF(IF(COUNTIF(main!$I$6:$K$8,$B$2)=1,0,1)*$M8*I$13=0,\"\",$B$2))","v":3},{"$f":"IF(main!J8>=1,\"\",IF(IF(COUNTIF(main!$I$6:$K$8,$B$2)=1,0,1)*$M8*J$13=0,\"\",$B$2))","v":3},{"$f":"IF(main!K8>=1,\"\",IF(IF(COUNTIF(main!$I$6:$K$8,$B$2)=1,0,1)*$M8*K$13=0,\"\",$B$2))","v":3},"",{"$f":"1-COUNTIF(main!C8:K8,$B$2)","v":1},9]
[null,null,{"$f":"IF(main!C9>=1,\"\",IF(IF(COUNTIF(main!$C$9:$E$11,$B$2)=1,0,1)*$M9*C$13=0,\"\",$B$2))","v":3},{"$f":"IF(main!D9>=1,\"\",IF(IF(COUNTIF(main!$C$9:$E$11,$B$2)=1,0,1)*$M9*D$13=0,\"\",$B$2))","v":3},{"$f":"IF(main!E9>=1,\"\",IF(IF(COUNTIF(main!$C$9:$E$11,$B$2)=1,0,1)*$M9*E$13=0,\"\",$B$2))","v":3},{"$f":"IF(main!F9>=1,\"\",IF(IF(COUNTIF(main!$F$9:$H$11,$B$2)=1,0,1)*$M9*F$13=0,\"\",$B$2))","v":3},{"$f":"IF(main!G9>=1,\"\",IF(IF(COUNTIF(main!$F$9:$H$11,$B$2)=1,0,1)*$M9*G$13=0,\"\",$B$2))","v":3},{"$f":"IF(main!H9>=1,\"\",IF(IF(COUNTIF(main!$F$9:$H$11,$B$2)=1,0,1)*$M9*H$13=0,\"\",$B$2))","v":3},{"$f":"IF(main!I9>=1,\"\",IF(IF(COUNTIF(main!$I$9:$K$11,$B$2)=1,0,1)*$M9*I$13=0,\"\",$B$2))","v":3},{"$f":"IF(main!J9>=1,\"\",IF(IF(COUNTIF(main!$I$9:$K$11,$B$2)=1,0,1)*$M9*J$13=0,\"\",$B$2))","v":3},{"$f":"IF(main!K9>=1,\"\",IF(IF(COUNTIF(main!$I$9:$K$11,$B$2)=1,0,1)*$M9*K$13=0,\"\",$B$2))","v":3},"",{"$f":"1-COUNTIF(main!C9:K9,$B$2)","v":1},9]
[null,null,{"$f":"IF(main!C10>=1,\"\",IF(IF(COUNTIF(main!$C$9:$E$11,$B$2)=1,0,1)*$M10*C$13=0,\"\",$B$2))","v":3},{"$f":"IF(main!D10>=1,\"\",IF(IF(COUNTIF(main!$C$9:$E$11,$B$2)=1,0,1)*$M10*D$13=0,\"\",$B$2))","v":3},{"$f":"IF(main!E10>=1,\"\",IF(IF(COUNTIF(main!$C$9:$E$11,$B$2)=1,0,1)*$M10*E$13=0,\"\",$B$2))","v":3},{"$f":"IF(main!F10>=1,\"\",IF(IF(COUNTIF(main!$F$9:$H$11,$B$2)=1,0,1)*$M10*F$13=0,\"\",$B$2))","v":3},{"$f":"IF(main!G10>=1,\"\",IF(IF(COUNTIF(main!$F$9:$H$11,$B$2)=1,0,1)*$M10*G$13=0,\"\",$B$2))","v":3},{"$f":"IF(main!H10>=1,\"\",IF(IF(COUNTIF(main!$F$9:$H$11,$B$2)=1,0,1)*$M10*H$13=0,\"\",$B$2))","v":3},{"$f":"IF(main!I10>=1,\"\",IF(IF(COUNTIF(main!$I$9:$K$11,$B$2)=1,0,1)*$M10*I$13=0,\"\",$B$2))","v":3},{"$f":"IF(main!J10>=1,\"\",IF(IF(COUNTIF(main!$I$9:$K$11,$B$2)=1,0,1)*$M10*J$13=0,\"\",$B$2))","v":3},{"$f":"IF(main!K10>=1,\"\",IF(IF(COUNTIF(main!$I$9:$K$11,$B$2)=1,0,1)*$M10*K$13=0,\"\",$B$2))","v":3},"",{"$f":"1-COUNTIF(main!C10:K10,$B$2)","v":1},9]
[null,null,{"$f":"IF(main!C11>=1,\"\",IF(IF(COUNTIF(main!$C$9:$E$11,$B$2)=1,0,1)*$M11*C$13=0,\"\",$B$2))","v":3},{"$f":"IF(main!D11>=1,\"\",IF(IF(COUNTIF(main!$C$9:$E$11,$B$2)=1,0,1)*$M11*D$13=0,\"\",$B$2))","v":3},{"$f":"IF(main!E11>=1,\"\",IF(IF(COUNTIF(main!$C$9:$E$11,$B$2)=1,0,1)*$M11*E$13=0,\"\",$B$2))","v":3},{"$f":"IF(main!F11>=1,\"\",IF(IF(COUNTIF(main!$F$9:$H$11,$B$2)=1,0,1)*$M11*F$13=0,\"\",$B$2))","v":3},{"$f":"IF(main!G11>=1,\"\",IF(IF(COUNTIF(main!$F$9:$H$11,$B$2)=1,0,1)*$M11*G$13=0,\"\",$B$2))","v":3},{"$f":"IF(main!H11>=1,\"\",IF(IF(COUNTIF(main!$F$9:$H$11,$B$2)=1,0,1)*$M11*H$13=0,\"\",$B$2))","v":3},{"$f":"IF(main!I11>=1,\"\",IF(IF(COUNTIF(main!$I$9:$K$11,$B$2)=1,0,1)*$M11*I$13=0,\"\",$B$2))","v":3},{"$f":"IF(main!J11>=1,\"\",IF(IF(COUNTIF(main!$I$9:$K$11,$B$2)=1,0,1)*$M11*J$13=0,\"\",$B$2))","v":3},{"$f":"IF(main!K11>=1,\"\",IF(IF(COUNTIF(main!$I$9:$K$11,$B$2)=1,0,1)*$M11*K$13=0,\"\",$B$2))","v":3},"",{"$f":"1-COUNTIF(main!C11:K11,$B$2)","v":1},9]
[null,null,{"$f":"IF(COUNT(C3:C11)=1,$B$2,\"\")","v":""},{"$f":"IF(COUNT(D3:D11)=1,$B$2,\"\")","v":""},"","","","","","","",{"$f":"IF(COUNT(C3:E5)=1,$B$2,\"\")","v":""},{"$f":"IF(COUNT(F3:H5)=1,$B$2,\"\")","v":""},{"$f":"IF(COUNT(I3:K5)=1,$B$2,\"\")","v":""}]
[null,null,{"$f":"1-COUNTIF(main!C3:C11,$B$2)","v":1},{"$f":"1-COUNTIF(main!D3:D11,$B$2)","v":1},{"$f":"1-COUNTIF(main!E3:E11,$B$2)","v":1},{"$f":"1-COUNTIF(main!F3:F11,$B$2)","v":1},{"$f":"1-COUNTIF(main!G3:G11,$B$2)","v":1},{"$f":"1-COUNTIF(main!H3:H11,$B$2)","v":1},{"$f":"1-COUNTIF(main!I3:I11,$B$2)","v":1},{"$f":"1-COUNTIF(main!J3:J11,$B$2)","v":1},{"$f":"1-COUNTIF(main!K3:K11,$B$2)","v":1},{"$f":"IF(COUNT(C6:E8)=1,$B$2,\"\")","v":""},{"$f":"IF(COUNT(F6:H8)=1,$B$2,\"\")","v":""},{"$f":"IF(COUNT(I6:K8)=1,$B$2,\"\")","v":""}]
[null,null,{"$f":"COUNTIF(C3:C11,$B$2)","v":9},{"$f":"COUNTIF(D3:D11,$B$2)","v":9},9,9,9,9,9,9,9,{"$f":"IF(COUNT(C9:E11)=1,$B$2,\"\")","v":""},{"$f":"IF(COUNT(F9:H11)=1,$B$2,\"\")","v":""},{"$f":"IF(COUNT(I9:K11)=1,$B$2,\"\")","v":""}]
[null,null,null,null,null,null,null,null,null,null,null,null,null,null,{"$f":"COUNTIF(C3:E5,$B$2)","v":9},{"$f":"COUNTIF(F3:H5,$B$2)","v":9},{"$f":"COUNTIF(I3:K5,$B$2)","v":9}]
[null,null,null,null,null,null,null,null,null,null,null,null,null,null,{"$f":"COUNTIF(C6:E8,$B$2)","v":9},{"$f":"COUNTIF(F6:H8,$B$2)","v":9},{"$f":"COUNTIF(I6:K8,$B$2)","v":9}]
[null,null,null,null,null,null,null,null,null,null,null,null,null,null,{"$f":"COUNTIF(C9:E11,$B$2)","v":9},{"$f":"COUNTIF(F9:H11,$B$2)","v":9},{"$f":"COUNTIF(I9:K11,$B$2)","v":9}]

{"sheet":"4","index":4,"n_rows":17,"n_cols":17,"rows_kept":17,"cut":false,"hidden":true,"merged":[]}
[]
[null,4]
[null,null,{"$f":"IF(main!C3>=1,\"\",IF(IF(COUNTIF(main!$C$3:$E$5,$B$2)=1,0,1)*$M3*C$13=0,\"\",$B$2))","v":4},{"$f":"IF(main!D3>=1,\"\",IF(IF(COUNTIF(main!$C$3:$E$5,$B$2)=1,0,1)*$M3*D$13=0,\"\",$B$2))","v":4},{"$f":"IF(main!E3>=1,\"\",IF(IF(COUNTIF(main!$C$3:$E$5,$B$2)=1,0,1)*$M3*E$13=0,\"\",$B$2))","v":4},{"$f":"IF(main!F3>=1,\"\",IF(IF(COUNTIF(main!$F$3:$H$5,$B$2)=1,0,1)*$M3*F$13=0,\"\",$B$2))","v":4},{"$f":"IF(main!G3>=1,\"\",IF(IF(COUNTIF(main!$F$3:$H$5,$B$2)=1,0,1)*$M3*G$13=0,\"\",$B$2))","v":4},{"$f":"IF(main!H3>=1,\"\",IF(IF(COUNTIF(main!$F$3:$H$5,$B$2)=1,0,1)*$M3*H$13=0,\"\",$B$2))","v":4},{"$f":"IF(main!I3>=1,\"\",IF(IF(COUNTIF(main!$I$3:$K$5,$B$2)=1,0,1)*$M3*I$13=0,\"\",$B$2))","v":4},{"$f":"IF(main!J3>=1,\"\",IF(IF(COUNTIF(main!$I$3:$K$5,$B$2)=1,0,1)*$M3*J$13=0,\"\",$B$2))","v":4},{"$f":"IF(main!K3>=1,\"\",IF(IF(COUNTIF(main!$I$3:$K$5,$B$2)=1,0,1)*$M3*K$13=0,\"\",$B$2))","v":4},{"$f":"IF(COUNT(C3:K3)=1,$B$2,\"\")","v":""},{"$f":"1-COUNTIF(main!C3:K3,$B$2)","v":1},{"$f":"COUNTIF(C3:K3,$B$2)","v":9}]
[null,null,{"$f":"IF(main!C4>=1,\"\",IF(IF(COUNTIF(main!$C$3:$E$5,$B$2)=1,0,1)*$M4*C$13=0,\"\",$B$2))","v":4},{"$f":"IF(main!D4>=1,\"\",IF(IF(COUNTIF(main!$C$3:$E$5,$B$2)=1,0,1)*$M4*D$13=0,\"\",$B$2))","v":4},{"$f":"IF(main!E4>=1,\"\",IF(IF(COUNTIF(main!$C$3:$E$5,$B$2)=1,0,1)*$M4*E$13=0,\"\",$B$2))","v":4},{"$f":"IF(main!F4>=1,\"\",IF(IF(COUNTIF(main!$F$3:$H$5,$B$2)=1,0,1)*$M4*F$13=0,\"\",$B$2))","v":4},{"$f":"IF(main!G4>=1,\"\",IF(IF(COUNTIF(main!$F$3:$H$5,$B$2)=1,0,1)*$M4*G$13=0,\"\",$B$2))","v":4},{"$f":"IF(main!H4>=1,\"\",IF(IF(COUNTIF(main!$F$3:$H$5,$B$2)=1,0,1)*$M4*H$13=0,\"\",$B$2))","v":4},{"$f":"IF(main!I4>=1,\"\",IF(IF(COUNTIF(main!$I$3:$K$5,$B$2)=1,0,1)*$M4*I$13=0,\"\",$B$2))","v":4},{"$f":"IF(main!J4>=1,\"\",IF(IF(COUNTIF(main!$I$3:$K$5,$B$2)=1,0,1)*$M4*J$13=0,\"\",$B$2))","v":4},{"$f":"IF(main!K4>=1,\"\",IF(IF(COUNTIF(main!$I$3:$K$5,$B$2)=1,0,1)*$M4*K$13=0,\"\",$B$2))","v":4},{"$f":"IF(COUNT(C4:K4)=1,$B$2,\"\")","v":""},{"$f":"1-COUNTIF(main!C4:K4,$B$2)","v":1},{"$f":"COUNTIF(C4:K4,$B$2)","v":9}]
[null,null,{"$f":"IF(main!C5>=1,\"\",IF(IF(COUNTIF(main!$C$3:$E$5,$B$2)=1,0,1)*$M5*C$13=0,\"\",$B$2))","v":4},{"$f":"IF(main!D5>=1,\"\",IF(IF(COUNTIF(main!$C$3:$E$5,$B$2)=1,0,1)*$M5*D$13=0,\"\",$B$2))","v":4},{"$f":"IF(main!E5>=1,\"\",IF(IF(COUNTIF(main!$C$3:$E$5,$B$2)=1,0,1)*$M5*E$13=0,\"\",$B$2))","v":4},{"$f":"IF(main!F5>=1,\"\",IF(IF(COUNTIF(main!$F$3:$H$5,$B$2)=1,0,1)*$M5*F$13=0,\"\",$B$2))","v":4},{"$f":"IF(main!G5>=1,\"\",IF(IF(COUNTIF(main!$F$3:$H$5,$B$2)=1,0,1)*$M5*G$13=0,\"\",$B$2))","v":4},{"$f":"IF(main!H5>=1,\"\",IF(IF(COUNTIF(main!$F$3:$H$5,$B$2)=1,0,1)*$M5*H$13=0,\"\",$B$2))","v":4},{"$f":"IF(main!I5>=1,\"\",IF(IF(COUNTIF(main!$I$3:$K$5,$B$2)=1,0,1)*$M5*I$13=0,\"\",$B$2))","v":4},{"$f":"IF(main!J5>=1,\"\",IF(IF(COUNTIF(main!$I$3:$K$5,$B$2)=1,0,1)*$M5*J$13=0,\"\",$B$2))","v":4},{"$f":"IF(main!K5>=1,\"\",IF(IF(COUNTIF(main!$I$3:$K$5,$B$2)=1,0,1)*$M5*K$13=0,\"\",$B$2))","v":4},"",{"$f":"1-COUNTIF(main!C5:K5,$B$2)","v":1},9]
[null,null,{"$f":"IF(main!C6>=1,\"\",IF(IF(COUNTIF(main!$C$6:$E$8,$B$2)=1,0,1)*$M6*C$13=0,\"\",$B$2))","v":4},{"$f":"IF(main!D6>=1,\"\",IF(IF(COUNTIF(main!$C$6:$E$8,$B$2)=1,0,1)*$M6*D$13=0,\"\",$B$2))","v":4},{"$f":"IF(main!E6>=1,\"\",IF(IF(COUNTIF(main!$C$6:$E$8,$B$2)=1,0,1)*$M6*E$13=0,\"\",$B$2))","v":4},{"$f":"IF(main!F6>=1,\"\",IF(IF(COUNTIF(main!$F$6:$H$8,$B$2)=1,0,1)*$M6*F$13=0,\"\",$B$2))","v":4},{"$f":"IF(main!G6>=1,\"\",IF(IF(COUNTIF(main!$F$6:$H$8,$B$2)=1,0,1)*$M6*G$13=0,\"\",$B$2))","v":4},{"$f":"IF(main!H6>=1,\"\",IF(IF(COUNTIF(main!$F$6:$H$8,$B$2)=1,0,1)*$M6*H$13=0,\"\",$B$2))","v":4},{"$f":"IF(main!I6>=1,\"\",IF(IF(COUNTIF(main!$I$6:$K$8,$B$2)=1,0,1)*$M6*I$13=0,\"\",$B$2))","v":4},{"$f":"IF(main!J6>=1,\"\",IF(IF(COUNTIF(main!$I$6:$K$8,$B$2)=1,0,1)*$M6*J$13=0,\"\",$B$2))","v":4},{"$f":"IF(main!K6>=1,\"\",IF(IF(COUNTIF(main!$I$6:$K$8,$B$2)=1,0,1)*$M6*K$13=0,\"\",$B$2))","v":4},"",{"$f":"1-COUNTIF(main!C6:K6,$B$2)","v":1},9]
[null,null,{"$f":"IF(main!C7>=1,\"\",IF(IF(COUNTIF(main!$C$6:$E$8,$B$2)=1,0,1)*$M7*C$13=0,\"\",$B$2))","v":4},{"$f":"IF(main!D7>=1,\"\",IF(IF(COUNTIF(main!$C$6:$E$8,$B$2)=1,0,1)*$M7*D$13=0,\"\",$B$2))","v":4},{"$f":"IF(main!E7>=1,\"\",IF(IF(COUNTIF(main!$C$6:$E$8,$B$2)=1,0,1)*$M7*E$13=0,\"\",$B$2))","v":4},{"$f":"IF(main!F7>=1,\"\",IF(IF(COUNTIF(main!$F$6:$H$8,$B$2)=1,0,1)*$M7*F$13=0,\"\",$B$2))","v":4},{"$f":"IF(main!G7>=1,\"\",IF(IF(COUNTIF(main!$F$6:$H$8,$B$2)=1,0,1)*$M7*G$13=0,\"\",$B$2))","v":4},{"$f":"IF(main!H7>=1,\"\",IF(IF(COUNTIF(main!$F$6:$H$8,$B$2)=1,0,1)*$M7*H$13=0,\"\",$B$2))","v":4},{"$f":"IF(main!I7>=1,\"\",IF(IF(COUNTIF(main!$I$6:$K$8,$B$2)=1,0,1)*$M7*I$13=0,\"\",$B$2))","v":4},{"$f":"IF(main!J7>=1,\"\",IF(IF(COUNTIF(main!$I$6:$K$8,$B$2)=1,0,1)*$M7*J$13=0,\"\",$B$2))","v":4},{"$f":"IF(main!K7>=1,\"\",IF(IF(COUNTIF(main!$I$6:$K$8,$B$2)=1,0,1)*$M7*K$13=0,\"\",$B$2))","v":4},"",{"$f":"1-COUNTIF(main!C7:K7,$B$2)","v":1},9]
[null,null,{"$f":"IF(main!C8>=1,\"\",IF(IF(COUNTIF(main!$C$6:$E$8,$B$2)=1,0,1)*$M8*C$13=0,\"\",$B$2))","v":4},{"$f":"IF(main!D8>=1,\"\",IF(IF(COUNTIF(main!$C$6:$E$8,$B$2)=1,0,1)*$M8*D$13=0,\"\",$B$2))","v":4},{"$f":"IF(main!E8>=1,\"\",IF(IF(COUNTIF(main!$C$6:$E$8,$B$2)=1,0,1)*$M8*E$13=0,\"\",$B$2))","v":4},{"$f":"IF(main!F8>=1,\"\",IF(IF(COUNTIF(main!$F$6:$H$8,$B$2)=1,0,1)*$M8*F$13=0,\"\",$B$2))","v":4},{"$f":"IF(main!G8>=1,\"\",IF(IF(COUNTIF(main!$F$6:$H$8,$B$2)=1,0,1)*$M8*G$13=0,\"\",$B$2))","v":4},{"$f":"IF(main!H8>=1,\"\",IF(IF(COUNTIF(main!$F$6:$H$8,$B$2)=1,0,1)*$M8*H$13=0,\"\",$B$2))","v":4},{"$f":"IF(main!I8>=1,\"\",IF(IF(COUNTIF(main!$I$6:$K$8,$B$2)=1,0,1)*$M8*I$13=0,\"\",$B$2))","v":4},{"$f":"IF(main!J8>=1,\"\",IF(IF(COUNTIF(main!$I$6:$K$8,$B$2)=1,0,1)*$M8*J$13=0,\"\",$B$2))","v":4},{"$f":"IF(main!K8>=1,\"\",IF(IF(COUNTIF(main!$I$6:$K$8,$B$2)=1,0,1)*$M8*K$13=0,\"\",$B$2))","v":4},"",{"$f":"1-COUNTIF(main!C8:K8,$B$2)","v":1},9]
[null,null,{"$f":"IF(main!C9>=1,\"\",IF(IF(COUNTIF(main!$C$9:$E$11,$B$2)=1,0,1)*$M9*C$13=0,\"\",$B$2))","v":4},{"$f":"IF(main!D9>=1,\"\",IF(IF(COUNTIF(main!$C$9:$E$11,$B$2)=1,0,1)*$M9*D$13=0,\"\",$B$2))","v":4},{"$f":"IF(main!E9>=1,\"\",IF(IF(COUNTIF(main!$C$9:$E$11,$B$2)=1,0,1)*$M9*E$13=0,\"\",$B$2))","v":4},{"$f":"IF(main!F9>=1,\"\",IF(IF(COUNTIF(main!$F$9:$H$11,$B$2)=1,0,1)*$M9*F$13=0,\"\",$B$2))","v":4},{"$f":"IF(main!G9>=1,\"\",IF(IF(COUNTIF(main!$F$9:$H$11,$B$2)=1,0,1)*$M9*G$13=0,\"\",$B$2))","v":4},{"$f":"IF(main!H9>=1,\"\",IF(IF(COUNTIF(main!$F$9:$H$11,$B$2)=1,0,1)*$M9*H$13=0,\"\",$B$2))","v":4},{"$f":"IF(main!I9>=1,\"\",IF(IF(COUNTIF(main!$I$9:$K$11,$B$2)=1,0,1)*$M9*I$13=0,\"\",$B$2))","v":4},{"$f":"IF(main!J9>=1,\"\",IF(IF(COUNTIF(main!$I$9:$K$11,$B$2)=1,0,1)*$M9*J$13=0,\"\",$B$2))","v":4},{"$f":"IF(main!K9>=1,\"\",IF(IF(COUNTIF(main!$I$9:$K$11,$B$2)=1,0,1)*$M9*K$13=0,\"\",$B$2))","v":4},"",{"$f":"1-COUNTIF(main!C9:K9,$B$2)","v":1},9]
[null,null,{"$f":"IF(main!C10>=1,\"\",IF(IF(COUNTIF(main!$C$9:$E$11,$B$2)=1,0,1)*$M10*C$13=0,\"\",$B$2))","v":4},{"$f":"IF(main!D10>=1,\"\",IF(IF(COUNTIF(main!$C$9:$E$11,$B$2)=1,0,1)*$M10*D$13=0,\"\",$B$2))","v":4},{"$f":"IF(main!E10>=1,\"\",IF(IF(COUNTIF(main!$C$9:$E$11,$B$2)=1,0,1)*$M10*E$13=0,\"\",$B$2))","v":4},{"$f":"IF(main!F10>=1,\"\",IF(IF(COUNTIF(main!$F$9:$H$11,$B$2)=1,0,1)*$M10*F$13=0,\"\",$B$2))","v":4},{"$f":"IF(main!G10>=1,\"\",IF(IF(COUNTIF(main!$F$9:$H$11,$B$2)=1,0,1)*$M10*G$13=0,\"\",$B$2))","v":4},{"$f":"IF(main!H10>=1,\"\",IF(IF(COUNTIF(main!$F$9:$H$11,$B$2)=1,0,1)*$M10*H$13=0,\"\",$B$2))","v":4},{"$f":"IF(main!I10>=1,\"\",IF(IF(COUNTIF(main!$I$9:$K$11,$B$2)=1,0,1)*$M10*I$13=0,\"\",$B$2))","v":4},{"$f":"IF(main!J10>=1,\"\",IF(IF(COUNTIF(main!$I$9:$K$11,$B$2)=1,0,1)*$M10*J$13=0,\"\",$B$2))","v":4},{"$f":"IF(main!K10>=1,\"\",IF(IF(COUNTIF(main!$I$9:$K$11,$B$2)=1,0,1)*$M10*K$13=0,\"\",$B$2))","v":4},"",{"$f":"1-COUNTIF(main!C10:K10,$B$2)","v":1},9]
[null,null,{"$f":"IF(main!C11>=1,\"\",IF(IF(COUNTIF(main!$C$9:$E$11,$B$2)=1,0,1)*$M11*C$13=0,\"\",$B$2))","v":4},{"$f":"IF(main!D11>=1,\"\",IF(IF(COUNTIF(main!$C$9:$E$11,$B$2)=1,0,1)*$M11*D$13=0,\"\",$B$2))","v":4},{"$f":"IF(main!E11>=1,\"\",IF(IF(COUNTIF(main!$C$9:$E$11,$B$2)=1,0,1)*$M11*E$13=0,\"\",$B$2))","v":4},{"$f":"IF(main!F11>=1,\"\",IF(IF(COUNTIF(main!$F$9:$H$11,$B$2)=1,0,1)*$M11*F$13=0,\"\",$B$2))","v":4},{"$f":"IF(main!G11>=1,\"\",IF(IF(COUNTIF(main!$F$9:$H$11,$B$2)=1,0,1)*$M11*G$13=0,\"\",$B$2))","v":4},{"$f":"IF(main!H11>=1,\"\",IF(IF(COUNTIF(main!$F$9:$H$11,$B$2)=1,0,1)*$M11*H$13=0,\"\",$B$2))","v":4},{"$f":"IF(main!I11>=1,\"\",IF(IF(COUNTIF(main!$I$9:$K$11,$B$2)=1,0,1)*$M11*I$13=0,\"\",$B$2))","v":4},{"$f":"IF(main!J11>=1,\"\",IF(IF(COUNTIF(main!$I$9:$K$11,$B$2)=1,0,1)*$M11*J$13=0,\"\",$B$2))","v":4},{"$f":"IF(main!K11>=1,\"\",IF(IF(COUNTIF(main!$I$9:$K$11,$B$2)=1,0,1)*$M11*K$13=0,\"\",$B$2))","v":4},"",{"$f":"1-COUNTIF(main!C11:K11,$B$2)","v":1},9]
[null,null,{"$f":"IF(COUNT(C3:C11)=1,$B$2,\"\")","v":""},{"$f":"IF(COUNT(D3:D11)=1,$B$2,\"\")","v":""},"","","","","","","",{"$f":"IF(COUNT(C3:E5)=1,$B$2,\"\")","v":""},{"$f":"IF(COUNT(F3:H5)=1,$B$2,\"\")","v":""},{"$f":"IF(COUNT(I3:K5)=1,$B$2,\"\")","v":""}]
[null,null,{"$f":"1-COUNTIF(main!C3:C11,$B$2)","v":1},{"$f":"1-COUNTIF(main!D3:D11,$B$2)","v":1},{"$f":"1-COUNTIF(main!E3:E11,$B$2)","v":1},{"$f":"1-COUNTIF(main!F3:F11,$B$2)","v":1},{"$f":"1-COUNTIF(main!G3:G11,$B$2)","v":1},{"$f":"1-COUNTIF(main!H3:H11,$B$2)","v":1},{"$f":"1-COUNTIF(main!I3:I11,$B$2)","v":1},{"$f":"1-COUNTIF(main!J3:J11,$B$2)","v":1},{"$f":"1-COUNTIF(main!K3:K11,$B$2)","v":1},{"$f":"IF(COUNT(C6:E8)=1,$B$2,\"\")","v":""},{"$f":"IF(COUNT(F6:H8)=1,$B$2,\"\")","v":""},{"$f":"IF(COUNT(I6:K8)=1,$B$2,\"\")","v":""}]
[null,null,{"$f":"COUNTIF(C3:C11,$B$2)","v":9},{"$f":"COUNTIF(D3:D11,$B$2)","v":9},9,9,9,9,9,9,9,{"$f":"IF(COUNT(C9:E11)=1,$B$2,\"\")","v":""},{"$f":"IF(COUNT(F9:H11)=1,$B$2,\"\")","v":""},{"$f":"IF(COUNT(I9:K11)=1,$B$2,\"\")","v":""}]
[null,null,null,null,null,null,null,null,null,null,null,null,null,null,{"$f":"COUNTIF(C3:E5,$B$2)","v":9},{"$f":"COUNTIF(F3:H5,$B$2)","v":9},{"$f":"COUNTIF(I3:K5,$B$2)","v":9}]
[null,null,null,null,null,null,null,null,null,null,null,null,null,null,{"$f":"COUNTIF(C6:E8,$B$2)","v":9},{"$f":"COUNTIF(F6:H8,$B$2)","v":9},{"$f":"COUNTIF(I6:K8,$B$2)","v":9}]
[null,null,null,null,null,null,null,null,null,null,null,null,null,null,{"$f":"COUNTIF(C9:E11,$B$2)","v":9},{"$f":"COUNTIF(F9:H11,$B$2)","v":9},{"$f":"COUNTIF(I9:K11,$B$2)","v":9}]

{"sheet":"5","index":5,"n_rows":17,"n_cols":17,"rows_kept":17,"cut":false,"hidden":true,"merged":[]}
[]
[null,5]
[null,null,{"$f":"IF(main!C3>=1,\"\",IF(IF(COUNTIF(main!$C$3:$E$5,$B$2)=1,0,1)*$M3*C$13=0,\"\",$B$2))","v":5},{"$f":"IF(main!D3>=1,\"\",IF(IF(COUNTIF(main!$C$3:$E$5,$B$2)=1,0,1)*$M3*D$13=0,\"\",$B$2))","v":5},{"$f":"IF(main!E3>=1,\"\",IF(IF(COUNTIF(main!$C$3:$E$5,$B$2)=1,0,1)*$M3*E$13=0,\"\",$B$2))","v":5},{"$f":"IF(main!F3>=1,\"\",IF(IF(COUNTIF(main!$F$3:$H$5,$B$2)=1,0,1)*$M3*F$13=0,\"\",$B$2))","v":5},{"$f":"IF(main!G3>=1,\"\",IF(IF(COUNTIF(main!$F$3:$H$5,$B$2)=1,0,1)*$M3*G$13=0,\"\",$B$2))","v":5},{"$f":"IF(main!H3>=1,\"\",IF(IF(COUNTIF(main!$F$3:$H$5,$B$2)=1,0,1)*$M3*H$13=0,\"\",$B$2))","v":5},{"$f":"IF(main!I3>=1,\"\",IF(IF(COUNTIF(main!$I$3:$K$5,$B$2)=1,0,1)*$M3*I$13=0,\"\",$B$2))","v":5},{"$f":"IF(main!J3>=1,\"\",IF(IF(COUNTIF(main!$I$3:$K$5,$B$2)=1,0,1)*$M3*J$13=0,\"\",$B$2))","v":5},{"$f":"IF(main!K3>=1,\"\",IF(IF(COUNTIF(main!$I$3:$K$5,$B$2)=1,0,1)*$M3*K$13=0,\"\",$B$2))","v":5},{"$f":"IF(COUNT(C3:K3)=1,$B$2,\"\")","v":""},{"$f":"1-COUNTIF(main!C3:K3,$B$2)","v":1},{"$f":"COUNTIF(C3:K3,$B$2)","v":9}]
[null,null,{"$f":"IF(main!C4>=1,\"\",IF(IF(COUNTIF(main!$C$3:$E$5,$B$2)=1,0,1)*$M4*C$13=0,\"\",$B$2))","v":5},{"$f":"IF(main!D4>=1,\"\",IF(IF(COUNTIF(main!$C$3:$E$5,$B$2)=1,0,1)*$M4*D$13=0,\"\",$B$2))","v":5},{"$f":"IF(main!E4>=1,\"\",IF(IF(COUNTIF(main!$C$3:$E$5,$B$2)=1,0,1)*$M4*E$13=0,\"\",$B$2))","v":5},{"$f":"IF(main!F4>=1,\"\",IF(IF(COUNTIF(main!$F$3:$H$5,$B$2)=1,0,1)*$M4*F$13=0,\"\",$B$2))","v":5},{"$f":"IF(main!G4>=1,\"\",IF(IF(COUNTIF(main!$F$3:$H$5,$B$2)=1,0,1)*$M4*G$13=0,\"\",$B$2))","v":5},{"$f":"IF(main!H4>=1,\"\",IF(IF(COUNTIF(main!$F$3:$H$5,$B$2)=1,0,1)*$M4*H$13=0,\"\",$B$2))","v":5},{"$f":"IF(main!I4>=1,\"\",IF(IF(COUNTIF(main!$I$3:$K$5,$B$2)=1,0,1)*$M4*I$13=0,\"\",$B$2))","v":5},{"$f":"IF(main!J4>=1,\"\",IF(IF(COUNTIF(main!$I$3:$K$5,$B$2)=1,0,1)*$M4*J$13=0,\"\",$B$2))","v":5},{"$f":"IF(main!K4>=1,\"\",IF(IF(COUNTIF(main!$I$3:$K$5,$B$2)=1,0,1)*$M4*K$13=0,\"\",$B$2))","v":5},{"$f":"IF(COUNT(C4:K4)=1,$B$2,\"\")","v":""},{"$f":"1-COUNTIF(main!C4:K4,$B$2)","v":1},{"$f":"COUNTIF(C4:K4,$B$2)","v":9}]
[null,null,{"$f":"IF(main!C5>=1,\"\",IF(IF(COUNTIF(main!$C$3:$E$5,$B$2)=1,0,1)*$M5*C$13=0,\"\",$B$2))","v":5},{"$f":"IF(main!D5>=1,\"\",IF(IF(COUNTIF(main!$C$3:$E$5,$B$2)=1,0,1)*$M5*D$13=0,\"\",$B$2))","v":5},{"$f":"IF(main!E5>=1,\"\",IF(IF(COUNTIF(main!$C$3:$E$5,$B$2)=1,0,1)*$M5*E$13=0,\"\",$B$2))","v":5},{"$f":"IF(main!F5>=1,\"\",IF(IF(COUNTIF(main!$F$3:$H$5,$B$2)=1,0,1)*$M5*F$13=0,\"\",$B$2))","v":5},{"$f":"IF(main!G5>=1,\"\",IF(IF(COUNTIF(main!$F$3:$H$5,$B$2)=1,0,1)*$M5*G$13=0,\"\",$B$2))","v":5},{"$f":"IF(main!H5>=1,\"\",IF(IF(COUNTIF(main!$F$3:$H$5,$B$2)=1,0,1)*$M5*H$13=0,\"\",$B$2))","v":5},{"$f":"IF(main!I5>=1,\"\",IF(IF(COUNTIF(main!$I$3:$K$5,$B$2)=1,0,1)*$M5*I$13=0,\"\",$B$2))","v":5},{"$f":"IF(main!J5>=1,\"\",IF(IF(COUNTIF(main!$I$3:$K$5,$B$2)=1,0,1)*$M5*J$13=0,\"\",$B$2))","v":5},{"$f":"IF(main!K5>=1,\"\",IF(IF(COUNTIF(main!$I$3:$K$5,$B$2)=1,0,1)*$M5*K$13=0,\"\",$B$2))","v":5},"",{"$f":"1-COUNTIF(main!C5:K5,$B$2)","v":1},9]
[null,null,{"$f":"IF(main!C6>=1,\"\",IF(IF(COUNTIF(main!$C$6:$E$8,$B$2)=1,0,1)*$M6*C$13=0,\"\",$B$2))","v":5},{"$f":"IF(main!D6>=1,\"\",IF(IF(COUNTIF(main!$C$6:$E$8,$B$2)=1,0,1)*$M6*D$13=0,\"\",$B$2))","v":5},{"$f":"IF(main!E6>=1,\"\",IF(IF(COUNTIF(main!$C$6:$E$8,$B$2)=1,0,1)*$M6*E$13=0,\"\",$B$2))","v":5},{"$f":"IF(main!F6>=1,\"\",IF(IF(COUNTIF(main!$F$6:$H$8,$B$2)=1,0,1)*$M6*F$13=0,\"\",$B$2))","v":5},{"$f":"IF(main!G6>=1,\"\",IF(IF(COUNTIF(main!$F$6:$H$8,$B$2)=1,0,1)*$M6*G$13=0,\"\",$B$2))","v":5},{"$f":"IF(main!H6>=1,\"\",IF(IF(COUNTIF(main!$F$6:$H$8,$B$2)=1,0,1)*$M6*H$13=0,\"\",$B$2))","v":5},{"$f":"IF(main!I6>=1,\"\",IF(IF(COUNTIF(main!$I$6:$K$8,$B$2)=1,0,1)*$M6*I$13=0,\"\",$B$2))","v":5},{"$f":"IF(main!J6>=1,\"\",IF(IF(COUNTIF(main!$I$6:$K$8,$B$2)=1,0,1)*$M6*J$13=0,\"\",$B$2))","v":5},{"$f":"IF(main!K6>=1,\"\",IF(IF(COUNTIF(main!$I$6:$K$8,$B$2)=1,0,1)*$M6*K$13=0,\"\",$B$2))","v":5},"",{"$f":"1-COUNTIF(main!C6:K6,$B$2)","v":1},9]
[null,null,{"$f":"IF(main!C7>=1,\"\",IF(IF(COUNTIF(main!$C$6:$E$8,$B$2)=1,0,1)*$M7*C$13=0,\"\",$B$2))","v":5},{"$f":"IF(main!D7>=1,\"\",IF(IF(COUNTIF(main!$C$6:$E$8,$B$2)=1,0,1)*$M7*D$13=0,\"\",$B$2))","v":5},{"$f":"IF(main!E7>=1,\"\",IF(IF(COUNTIF(main!$C$6:$E$8,$B$2)=1,0,1)*$M7*E$13=0,\"\",$B$2))","v":5},{"$f":"IF(main!F7>=1,\"\",IF(IF(COUNTIF(main!$F$6:$H$8,$B$2)=1,0,1)*$M7*F$13=0,\"\",$B$2))","v":5},{"$f":"IF(main!G7>=1,\"\",IF(IF(COUNTIF(main!$F$6:$H$8,$B$2)=1,0,1)*$M7*G$13=0,\"\",$B$2))","v":5},{"$f":"IF(main!H7>=1,\"\",IF(IF(COUNTIF(main!$F$6:$H$8,$B$2)=1,0,1)*$M7*H$13=0,\"\",$B$2))","v":5},{"$f":"IF(main!I7>=1,\"\",IF(IF(COUNTIF(main!$I$6:$K$8,$B$2)=1,0,1)*$M7*I$13=0,\"\",$B$2))","v":5},{"$f":"IF(main!J7>=1,\"\",IF(IF(COUNTIF(main!$I$6:$K$8,$B$2)=1,0,1)*$M7*J$13=0,\"\",$B$2))","v":5},{"$f":"IF(main!K7>=1,\"\",IF(IF(COUNTIF(main!$I$6:$K$8,$B$2)=1,0,1)*$M7*K$13=0,\"\",$B$2))","v":5},"",{"$f":"1-COUNTIF(main!C7:K7,$B$2)","v":1},9]
[null,null,{"$f":"IF(main!C8>=1,\"\",IF(IF(COUNTIF(main!$C$6:$E$8,$B$2)=1,0,1)*$M8*C$13=0,\"\",$B$2))","v":5},{"$f":"IF(main!D8>=1,\"\",IF(IF(COUNTIF(main!$C$6:$E$8,$B$2)=1,0,1)*$M8*D$13=0,\"\",$B$2))","v":5},{"$f":"IF(main!E8>=1,\"\",IF(IF(COUNTIF(main!$C$6:$E$8,$B$2)=1,0,1)*$M8*E$13=0,\"\",$B$2))","v":5},{"$f":"IF(main!F8>=1,\"\",IF(IF(COUNTIF(main!$F$6:$H$8,$B$2)=1,0,1)*$M8*F$13=0,\"\",$B$2))","v":5},{"$f":"IF(main!G8>=1,\"\",IF(IF(COUNTIF(main!$F$6:$H$8,$B$2)=1,0,1)*$M8*G$13=0,\"\",$B$2))","v":5},{"$f":"IF(main!H8>=1,\"\",IF(IF(COUNTIF(main!$F$6:$H$8,$B$2)=1,0,1)*$M8*H$13=0,\"\",$B$2))","v":5},{"$f":"IF(main!I8>=1,\"\",IF(IF(COUNTIF(main!$I$6:$K$8,$B$2)=1,0,1)*$M8*I$13=0,\"\",$B$2))","v":5},{"$f":"IF(main!J8>=1,\"\",IF(IF(COUNTIF(main!$I$6:$K$8,$B$2)=1,0,1)*$M8*J$13=0,\"\",$B$2))","v":5},{"$f":"IF(main!K8>=1,\"\",IF(IF(COUNTIF(main!$I$6:$K$8,$B$2)=1,0,1)*$M8*K$13=0,\"\",$B$2))","v":5},"",{"$f":"1-COUNTIF(main!C8:K8,$B$2)","v":1},9]
[null,null,{"$f":"IF(main!C9>=1,\"\",IF(IF(COUNTIF(main!$C$9:$E$11,$B$2)=1,0,1)*$M9*C$13=0,\"\",$B$2))","v":5},{"$f":"IF(main!D9>=1,\"\",IF(IF(COUNTIF(main!$C$9:$E$11,$B$2)=1,0,1)*$M9*D$13=0,\"\",$B$2))","v":5},{"$f":"IF(main!E9>=1,\"\",IF(IF(COUNTIF(main!$C$9:$E$11,$B$2)=1,0,1)*$M9*E$13=0,\"\",$B$2))","v":5},{"$f":"IF(main!F9>=1,\"\",IF(IF(COUNTIF(main!$F$9:$H$11,$B$2)=1,0,1)*$M9*F$13=0,\"\",$B$2))","v":5},{"$f":"IF(main!G9>=1,\"\",IF(IF(COUNTIF(main!$F$9:$H$11,$B$2)=1,0,1)*$M9*G$13=0,\"\",$B$2))","v":5},{"$f":"IF(main!H9>=1,\"\",IF(IF(COUNTIF(main!$F$9:$H$11,$B$2)=1,0,1)*$M9*H$13=0,\"\",$B$2))","v":5},{"$f":"IF(main!I9>=1,\"\",IF(IF(COUNTIF(main!$I$9:$K$11,$B$2)=1,0,1)*$M9*I$13=0,\"\",$B$2))","v":5},{"$f":"IF(main!J9>=1,\"\",IF(IF(COUNTIF(main!$I$9:$K$11,$B$2)=1,0,1)*$M9*J$13=0,\"\",$B$2))","v":5},{"$f":"IF(main!K9>=1,\"\",IF(IF(COUNTIF(main!$I$9:$K$11,$B$2)=1,0,1)*$M9*K$13=0,\"\",$B$2))","v":5},"",{"$f":"1-COUNTIF(main!C9:K9,$B$2)","v":1},9]
[null,null,{"$f":"IF(main!C10>=1,\"\",IF(IF(COUNTIF(main!$C$9:$E$11,$B$2)=1,0,1)*$M10*C$13=0,\"\",$B$2))","v":5},{"$f":"IF(main!D10>=1,\"\",IF(IF(COUNTIF(main!$C$9:$E$11,$B$2)=1,0,1)*$M10*D$13=0,\"\",$B$2))","v":5},{"$f":"IF(main!E10>=1,\"\",IF(IF(COUNTIF(main!$C$9:$E$11,$B$2)=1,0,1)*$M10*E$13=0,\"\",$B$2))","v":5},{"$f":"IF(main!F10>=1,\"\",IF(IF(COUNTIF(main!$F$9:$H$11,$B$2)=1,0,1)*$M10*F$13=0,\"\",$B$2))","v":5},{"$f":"IF(main!G10>=1,\"\",IF(IF(COUNTIF(main!$F$9:$H$11,$B$2)=1,0,1)*$M10*G$13=0,\"\",$B$2))","v":5},{"$f":"IF(main!H10>=1,\"\",IF(IF(COUNTIF(main!$F$9:$H$11,$B$2)=1,0,1)*$M10*H$13=0,\"\",$B$2))","v":5},{"$f":"IF(main!I10>=1,\"\",IF(IF(COUNTIF(main!$I$9:$K$11,$B$2)=1,0,1)*$M10*I$13=0,\"\",$B$2))","v":5},{"$f":"IF(main!J10>=1,\"\",IF(IF(COUNTIF(main!$I$9:$K$11,$B$2)=1,0,1)*$M10*J$13=0,\"\",$B$2))","v":5},{"$f":"IF(main!K10>=1,\"\",IF(IF(COUNTIF(main!$I$9:$K$11,$B$2)=1,0,1)*$M10*K$13=0,\"\",$B$2))","v":5},"",{"$f":"1-COUNTIF(main!C10:K10,$B$2)","v":1},9]
[null,null,{"$f":"IF(main!C11>=1,\"\",IF(IF(COUNTIF(main!$C$9:$E$11,$B$2)=1,0,1)*$M11*C$13=0,\"\",$B$2))","v":5},{"$f":"IF(main!D11>=1,\"\",IF(IF(COUNTIF(main!$C$9:$E$11,$B$2)=1,0,1)*$M11*D$13=0,\"\",$B$2))","v":5},{"$f":"IF(main!E11>=1,\"\",IF(IF(COUNTIF(main!$C$9:$E$11,$B$2)=1,0,1)*$M11*E$13=0,\"\",$B$2))","v":5},{"$f":"IF(main!F11>=1,\"\",IF(IF(COUNTIF(main!$F$9:$H$11,$B$2)=1,0,1)*$M11*F$13=0,\"\",$B$2))","v":5},{"$f":"IF(main!G11>=1,\"\",IF(IF(COUNTIF(main!$F$9:$H$11,$B$2)=1,0,1)*$M11*G$13=0,\"\",$B$2))","v":5},{"$f":"IF(main!H11>=1,\"\",IF(IF(COUNTIF(main!$F$9:$H$11,$B$2)=1,0,1)*$M11*H$13=0,\"\",$B$2))","v":5},{"$f":"IF(main!I11>=1,\"\",IF(IF(COUNTIF(main!$I$9:$K$11,$B$2)=1,0,1)*$M11*I$13=0,\"\",$B$2))","v":5},{"$f":"IF(main!J11>=1,\"\",IF(IF(COUNTIF(main!$I$9:$K$11,$B$2)=1,0,1)*$M11*J$13=0,\"\",$B$2))","v":5},{"$f":"IF(main!K11>=1,\"\",IF(IF(COUNTIF(main!$I$9:$K$11,$B$2)=1,0,1)*$M11*K$13=0,\"\",$B$2))","v":5},"",{"$f":"1-COUNTIF(main!C11:K11,$B$2)","v":1},9]
[null,null,{"$f":"IF(COUNT(C3:C11)=1,$B$2,\"\")","v":""},{"$f":"IF(COUNT(D3:D11)=1,$B$2,\"\")","v":""},"","","","","","","",{"$f":"IF(COUNT(C3:E5)=1,$B$2,\"\")","v":""},{"$f":"IF(COUNT(F3:H5)=1,$B$2,\"\")","v":""},{"$f":"IF(COUNT(I3:K5)=1,$B$2,\"\")","v":""}]
[null,null,{"$f":"1-COUNTIF(main!C3:C11,$B$2)","v":1},{"$f":"1-COUNTIF(main!D3:D11,$B$2)","v":1},{"$f":"1-COUNTIF(main!E3:E11,$B$2)","v":1},{"$f":"1-COUNTIF(main!F3:F11,$B$2)","v":1},{"$f":"1-COUNTIF(main!G3:G11,$B$2)","v":1},{"$f":"1-COUNTIF(main!H3:H11,$B$2)","v":1},{"$f":"1-COUNTIF(main!I3:I11,$B$2)","v":1},{"$f":"1-COUNTIF(main!J3:J11,$B$2)","v":1},{"$f":"1-COUNTIF(main!K3:K11,$B$2)","v":1},{"$f":"IF(COUNT(C6:E8)=1,$B$2,\"\")","v":""},{"$f":"IF(COUNT(F6:H8)=1,$B$2,\"\")","v":""},{"$f":"IF(COUNT(I6:K8)=1,$B$2,\"\")","v":""}]
[null,null,{"$f":"COUNTIF(C3:C11,$B$2)","v":9},{"$f":"COUNTIF(D3:D11,$B$2)","v":9},9,9,9,9,9,9,9,{"$f":"IF(COUNT(C9:E11)=1,$B$2,\"\")","v":""},{"$f":"IF(COUNT(F9:H11)=1,$B$2,\"\")","v":""},{"$f":"IF(COUNT(I9:K11)=1,$B$2,\"\")","v":""}]
[null,null,null,null,null,null,null,null,null,null,null,null,null,null,{"$f":"COUNTIF(C3:E5,$B$2)","v":9},{"$f":"COUNTIF(F3:H5,$B$2)","v":9},{"$f":"COUNTIF(I3:K5,$B$2)","v":9}]
[null,null,null,null,null,null,null,null,null,null,null,null,null,null,{"$f":"COUNTIF(C6:E8,$B$2)","v":9},{"$f":"COUNTIF(F6:H8,$B$2)","v":9},{"$f":"COUNTIF(I6:K8,$B$2)","v":9}]
[null,null,null,null,null,null,null,null,null,null,null,null,null,null,{"$f":"COUNTIF(C9:E11,$B$2)","v":9},{"$f":"COUNTIF(F9:H11,$B$2)","v":9},{"$f":"COUNTIF(I9:K11,$B$2)","v":9}]

{"sheet":"6","index":6,"n_rows":17,"n_cols":17,"rows_kept":17,"cut":false,"hidden":true,"merged":[]}
[]
[null,6]
[null,null,{"$f":"IF(main!C3>=1,\"\",IF(IF(COUNTIF(main!$C$3:$E$5,$B$2)=1,0,1)*$M3*C$13=0,\"\",$B$2))","v":6},{"$f":"IF(main!D3>=1,\"\",IF(IF(COUNTIF(main!$C$3:$E$5,$B$2)=1,0,1)*$M3*D$13=0,\"\",$B$2))","v":6},{"$f":"IF(main!E3>=1,\"\",IF(IF(COUNTIF(main!$C$3:$E$5,$B$2)=1,0,1)*$M3*E$13=0,\"\",$B$2))","v":6},{"$f":"IF(main!F3>=1,\"\",IF(IF(COUNTIF(main!$F$3:$H$5,$B$2)=1,0,1)*$M3*F$13=0,\"\",$B$2))","v":6},{"$f":"IF(main!G3>=1,\"\",IF(IF(COUNTIF(main!$F$3:$H$5,$B$2)=1,0,1)*$M3*G$13=0,\"\",$B$2))","v":6},{"$f":"IF(main!H3>=1,\"\",IF(IF(COUNTIF(main!$F$3:$H$5,$B$2)=1,0,1)*$M3*H$13=0,\"\",$B$2))","v":6},{"$f":"IF(main!I3>=1,\"\",IF(IF(COUNTIF(main!$I$3:$K$5,$B$2)=1,0,1)*$M3*I$13=0,\"\",$B$2))","v":6},{"$f":"IF(main!J3>=1,\"\",IF(IF(COUNTIF(main!$I$3:$K$5,$B$2)=1,0,1)*$M3*J$13=0,\"\",$B$2))","v":6},{"$f":"IF(main!K3>=1,\"\",IF(IF(COUNTIF(main!$I$3:$K$5,$B$2)=1,0,1)*$M3*K$13=0,\"\",$B$2))","v":6},{"$f":"IF(COUNT(C3:K3)=1,$B$2,\"\")","v":""},{"$f":"1-COUNTIF(main!C3:K3,$B$2)","v":1},{"$f":"COUNTIF(C3:K3,$B$2)","v":9}]
[null,null,{"$f":"IF(main!C4>=1,\"\",IF(IF(COUNTIF(main!$C$3:$E$5,$B$2)=1,0,1)*$M4*C$13=0,\"\",$B$2))","v":6},{"$f":"IF(main!D4>=1,\"\",IF(IF(COUNTIF(main!$C$3:$E$5,$B$2)=1,0,1)*$M4*D$13=0,\"\",$B$2))","v":6},{"$f":"IF(main!E4>=1,\"\",IF(IF(COUNTIF(main!$C$3:$E$5,$B$2)=1,0,1)*$M4*E$13=0,\"\",$B$2))","v":6},{"$f":"IF(main!F4>=1,\"\",IF(IF(COUNTIF(main!$F$3:$H$5,$B$2)=1,0,1)*$M4*F$13=0,\"\",$B$2))","v":6},{"$f":"IF(main!G4>=1,\"\",IF(IF(COUNTIF(main!$F$3:$H$5,$B$2)=1,0,1)*$M4*G$13=0,\"\",$B$2))","v":6},{"$f":"IF(main!H4>=1,\"\",IF(IF(COUNTIF(main!$F$3:$H$5,$B$2)=1,0,1)*$M4*H$13=0,\"\",$B$2))","v":6},{"$f":"IF(main!I4>=1,\"\",IF(IF(COUNTIF(main!$I$3:$K$5,$B$2)=1,0,1)*$M4*I$13=0,\"\",$B$2))","v":6},{"$f":"IF(main!J4>=1,\"\",IF(IF(COUNTIF(main!$I$3:$K$5,$B$2)=1,0,1)*$M4*J$13=0,\"\",$B$2))","v":6},{"$f":"IF(main!K4>=1,\"\",IF(IF(COUNTIF(main!$I$3:$K$5,$B$2)=1,0,1)*$M4*K$13=0,\"\",$B$2))","v":6},{"$f":"IF(COUNT(C4:K4)=1,$B$2,\"\")","v":""},{"$f":"1-COUNTIF(main!C4:K4,$B$2)","v":1},{"$f":"COUNTIF(C4:K4,$B$2)","v":9}]
[null,null,{"$f":"IF(main!C5>=1,\"\",IF(IF(COUNTIF(main!$C$3:$E$5,$B$2)=1,0,1)*$M5*C$13=0,\"\",$B$2))","v":6},{"$f":"IF(main!D5>=1,\"\",IF(IF(COUNTIF(main!$C$3:$E$5,$B$2)=1,0,1)*$M5*D$13=0,\"\",$B$2))","v":6},{"$f":"IF(main!E5>=1,\"\",IF(IF(COUNTIF(main!$C$3:$E$5,$B$2)=1,0,1)*$M5*E$13=0,\"\",$B$2))","v":6},{"$f":"IF(main!F5>=1,\"\",IF(IF(COUNTIF(main!$F$3:$H$5,$B$2)=1,0,1)*$M5*F$13=0,\"\",$B$2))","v":6},{"$f":"IF(main!G5>=1,\"\",IF(IF(COUNTIF(main!$F$3:$H$5,$B$2)=1,0,1)*$M5*G$13=0,\"\",$B$2))","v":6},{"$f":"IF(main!H5>=1,\"\",IF(IF(COUNTIF(main!$F$3:$H$5,$B$2)=1,0,1)*$M5*H$13=0,\"\",$B$2))","v":6},{"$f":"IF(main!I5>=1,\"\",IF(IF(COUNTIF(main!$I$3:$K$5,$B$2)=1,0,1)*$M5*I$13=0,\"\",$B$2))","v":6},{"$f":"IF(main!J5>=1,\"\",IF(IF(COUNTIF(main!$I$3:$K$5,$B$2)=1,0,1)*$M5*J$13=0,\"\",$B$2))","v":6},{"$f":"IF(main!K5>=1,\"\",IF(IF(COUNTIF(main!$I$3:$K$5,$B$2)=1,0,1)*$M5*K$13=0,\"\",$B$2))","v":6},"",{"$f":"1-COUNTIF(main!C5:K5,$B$2)","v":1},9]
[null,null,{"$f":"IF(main!C6>=1,\"\",IF(IF(COUNTIF(main!$C$6:$E$8,$B$2)=1,0,1)*$M6*C$13=0,\"\",$B$2))","v":6},{"$f":"IF(main!D6>=1,\"\",IF(IF(COUNTIF(main!$C$6:$E$8,$B$2)=1,0,1)*$M6*D$13=0,\"\",$B$2))","v":6},{"$f":"IF(main!E6>=1,\"\",IF(IF(COUNTIF(main!$C$6:$E$8,$B$2)=1,0,1)*$M6*E$13=0,\"\",$B$2))","v":6},{"$f":"IF(main!F6>=1,\"\",IF(IF(COUNTIF(main!$F$6:$H$8,$B$2)=1,0,1)*$M6*F$13=0,\"\",$B$2))","v":6},{"$f":"IF(main!G6>=1,\"\",IF(IF(COUNTIF(main!$F$6:$H$8,$B$2)=1,0,1)*$M6*G$13=0,\"\",$B$2))","v":6},{"$f":"IF(main!H6>=1,\"\",IF(IF(COUNTIF(main!$F$6:$H$8,$B$2)=1,0,1)*$M6*H$13=0,\"\",$B$2))","v":6},{"$f":"IF(main!I6>=1,\"\",IF(IF(COUNTIF(main!$I$6:$K$8,$B$2)=1,0,1)*$M6*I$13=0,\"\",$B$2))","v":6},{"$f":"IF(main!J6>=1,\"\",IF(IF(COUNTIF(main!$I$6:$K$8,$B$2)=1,0,1)*$M6*J$13=0,\"\",$B$2))","v":6},{"$f":"IF(main!K6>=1,\"\",IF(IF(COUNTIF(main!$I$6:$K$8,$B$2)=1,0,1)*$M6*K$13=0,\"\",$B$2))","v":6},"",{"$f":"1-COUNTIF(main!C6:K6,$B$2)","v":1},9]
[null,null,{"$f":"IF(main!C7>=1,\"\",IF(IF(COUNTIF(main!$C$6:$E$8,$B$2)=1,0,1)*$M7*C$13=0,\"\",$B$2))","v":6},{"$f":"IF(main!D7>=1,\"\",IF(IF(COUNTIF(main!$C$6:$E$8,$B$2)=1,0,1)*$M7*D$13=0,\"\",$B$2))","v":6},{"$f":"IF(main!E7>=1,\"\",IF(IF(COUNTIF(main!$C$6:$E$8,$B$2)=1,0,1)*$M7*E$13=0,\"\",$B$2))","v":6},{"$f":"IF(main!F7>=1,\"\",IF(IF(COUNTIF(main!$F$6:$H$8,$B$2)=1,0,1)*$M7*F$13=0,\"\",$B$2))","v":6},{"$f":"IF(main!G7>=1,\"\",IF(IF(COUNTIF(main!$F$6:$H$8,$B$2)=1,0,1)*$M7*G$13=0,\"\",$B$2))","v":6},{"$f":"IF(main!H7>=1,\"\",IF(IF(COUNTIF(main!$F$6:$H$8,$B$2)=1,0,1)*$M7*H$13=0,\"\",$B$2))","v":6},{"$f":"IF(main!I7>=1,\"\",IF(IF(COUNTIF(main!$I$6:$K$8,$B$2)=1,0,1)*$M7*I$13=0,\"\",$B$2))","v":6},{"$f":"IF(main!J7>=1,\"\",IF(IF(COUNTIF(main!$I$6:$K$8,$B$2)=1,0,1)*$M7*J$13=0,\"\",$B$2))","v":6},{"$f":"IF(main!K7>=1,\"\",IF(IF(COUNTIF(main!$I$6:$K$8,$B$2)=1,0,1)*$M7*K$13=0,\"\",$B$2))","v":6},"",{"$f":"1-COUNTIF(main!C7:K7,$B$2)","v":1},9]
[null,null,{"$f":"IF(main!C8>=1,\"\",IF(IF(COUNTIF(main!$C$6:$E$8,$B$2)=1,0,1)*$M8*C$13=0,\"\",$B$2))","v":6},{"$f":"IF(main!D8>=1,\"\",IF(IF(COUNTIF(main!$C$6:$E$8,$B$2)=1,0,1)*$M8*D$13=0,\"\",$B$2))","v":6},{"$f":"IF(main!E8>=1,\"\",IF(IF(COUNTIF(main!$C$6:$E$8,$B$2)=1,0,1)*$M8*E$13=0,\"\",$B$2))","v":6},{"$f":"IF(main!F8>=1,\"\",IF(IF(COUNTIF(main!$F$6:$H$8,$B$2)=1,0,1)*$M8*F$13=0,\"\",$B$2))","v":6},{"$f":"IF(main!G8>=1,\"\",IF(IF(COUNTIF(main!$F$6:$H$8,$B$2)=1,0,1)*$M8*G$13=0,\"\",$B$2))","v":6},{"$f":"IF(main!H8>=1,\"\",IF(IF(COUNTIF(main!$F$6:$H$8,$B$2)=1,0,1)*$M8*H$13=0,\"\",$B$2))","v":6},{"$f":"IF(main!I8>=1,\"\",IF(IF(COUNTIF(main!$I$6:$K$8,$B$2)=1,0,1)*$M8*I$13=0,\"\",$B$2))","v":6},{"$f":"IF(main!J8>=1,\"\",IF(IF(COUNTIF(main!$I$6:$K$8,$B$2)=1,0,1)*$M8*J$13=0,\"\",$B$2))","v":6},{"$f":"IF(main!K8>=1,\"\",IF(IF(COUNTIF(main!$I$6:$K$8,$B$2)=1,0,1)*$M8*K$13=0,\"\",$B$2))","v":6},"",{"$f":"1-COUNTIF(main!C8:K8,$B$2)","v":1},9]
[null,null,{"$f":"IF(main!C9>=1,\"\",IF(IF(COUNTIF(main!$C$9:$E$11,$B$2)=1,0,1)*$M9*C$13=0,\"\",$B$2))","v":6},{"$f":"IF(main!D9>=1,\"\",IF(IF(COUNTIF(main!$C$9:$E$11,$B$2)=1,0,1)*$M9*D$13=0,\"\",$B$2))","v":6},{"$f":"IF(main!E9>=1,\"\",IF(IF(COUNTIF(main!$C$9:$E$11,$B$2)=1,0,1)*$M9*E$13=0,\"\",$B$2))","v":6},{"$f":"IF(main!F9>=1,\"\",IF(IF(COUNTIF(main!$F$9:$H$11,$B$2)=1,0,1)*$M9*F$13=0,\"\",$B$2))","v":6},{"$f":"IF(main!G9>=1,\"\",IF(IF(COUNTIF(main!$F$9:$H$11,$B$2)=1,0,1)*$M9*G$13=0,\"\",$B$2))","v":6},{"$f":"IF(main!H9>=1,\"\",IF(IF(COUNTIF(main!$F$9:$H$11,$B$2)=1,0,1)*$M9*H$13=0,\"\",$B$2))","v":6},{"$f":"IF(main!I9>=1,\"\",IF(IF(COUNTIF(main!$I$9:$K$11,$B$2)=1,0,1)*$M9*I$13=0,\"\",$B$2))","v":6},{"$f":"IF(main!J9>=1,\"\",IF(IF(COUNTIF(main!$I$9:$K$11,$B$2)=1,0,1)*$M9*J$13=0,\"\",$B$2))","v":6},{"$f":"IF(main!K9>=1,\"\",IF(IF(COUNTIF(main!$I$9:$K$11,$B$2)=1,0,1)*$M9*K$13=0,\"\",$B$2))","v":6},"",{"$f":"1-COUNTIF(main!C9:K9,$B$2)","v":1},9]
[null,null,{"$f":"IF(main!C10>=1,\"\",IF(IF(COUNTIF(main!$C$9:$E$11,$B$2)=1,0,1)*$M10*C$13=0,\"\",$B$2))","v":6},{"$f":"IF(main!D10>=1,\"\",IF(IF(COUNTIF(main!$C$9:$E$11,$B$2)=1,0,1)*$M10*D$13=0,\"\",$B$2))","v":6},{"$f":"IF(main!E10>=1,\"\",IF(IF(COUNTIF(main!$C$9:$E$11,$B$2)=1,0,1)*$M10*E$13=0,\"\",$B$2))","v":6},{"$f":"IF(main!F10>=1,\"\",IF(IF(COUNTIF(main!$F$9:$H$11,$B$2)=1,0,1)*$M10*F$13=0,\"\",$B$2))","v":6},{"$f":"IF(main!G10>=1,\"\",IF(IF(COUNTIF(main!$F$9:$H$11,$B$2)=1,0,1)*$M10*G$13=0,\"\",$B$2))","v":6},{"$f":"IF(main!H10>=1,\"\",IF(IF(COUNTIF(main!$F$9:$H$11,$B$2)=1,0,1)*$M10*H$13=0,\"\",$B$2))","v":6},{"$f":"IF(main!I10>=1,\"\",IF(IF(COUNTIF(main!$I$9:$K$11,$B$2)=1,0,1)*$M10*I$13=0,\"\",$B$2))","v":6},{"$f":"IF(main!J10>=1,\"\",IF(IF(COUNTIF(main!$I$9:$K$11,$B$2)=1,0,1)*$M10*J$13=0,\"\",$B$2))","v":6},{"$f":"IF(main!K10>=1,\"\",IF(IF(COUNTIF(main!$I$9:$K$11,$B$2)=1,0,1)*$M10*K$13=0,\"\",$B$2))","v":6},"",{"$f":"1-COUNTIF(main!C10:K10,$B$2)","v":1},9]
[null,null,{"$f":"IF(main!C11>=1,\"\",IF(IF(COUNTIF(main!$C$9:$E$11,$B$2)=1,0,1)*$M11*C$13=0,\"\",$B$2))","v":6},{"$f":"IF(main!D11>=1,\"\",IF(IF(COUNTIF(main!$C$9:$E$11,$B$2)=1,0,1)*$M11*D$13=0,\"\",$B$2))","v":6},{"$f":"IF(main!E11>=1,\"\",IF(IF(COUNTIF(main!$C$9:$E$11,$B$2)=1,0,1)*$M11*E$13=0,\"\",$B$2))","v":6},{"$f":"IF(main!F11>=1,\"\",IF(IF(COUNTIF(main!$F$9:$H$11,$B$2)=1,0,1)*$M11*F$13=0,\"\",$B$2))","v":6},{"$f":"IF(main!G11>=1,\"\",IF(IF(COUNTIF(main!$F$9:$H$11,$B$2)=1,0,1)*$M11*G$13=0,\"\",$B$2))","v":6},{"$f":"IF(main!H11>=1,\"\",IF(IF(COUNTIF(main!$F$9:$H$11,$B$2)=1,0,1)*$M11*H$13=0,\"\",$B$2))","v":6},{"$f":"IF(main!I11>=1,\"\",IF(IF(COUNTIF(main!$I$9:$K$11,$B$2)=1,0,1)*$M11*I$13=0,\"\",$B$2))","v":6},{"$f":"IF(main!J11>=1,\"\",IF(IF(COUNTIF(main!$I$9:$K$11,$B$2)=1,0,1)*$M11*J$13=0,\"\",$B$2))","v":6},{"$f":"IF(main!K11>=1,\"\",IF(IF(COUNTIF(main!$I$9:$K$11,$B$2)=1,0,1)*$M11*K$13=0,\"\",$B$2))","v":6},"",{"$f":"1-COUNTIF(main!C11:K11,$B$2)","v":1},9]
[null,null,{"$f":"IF(COUNT(C3:C11)=1,$B$2,\"\")","v":""},{"$f":"IF(COUNT(D3:D11)=1,$B$2,\"\")","v":""},"","","","","","","",{"$f":"IF(COUNT(C3:E5)=1,$B$2,\"\")","v":""},{"$f":"IF(COUNT(F3:H5)=1,$B$2,\"\")","v":""},{"$f":"IF(COUNT(I3:K5)=1,$B$2,\"\")","v":""}]
[null,null,{"$f":"1-COUNTIF(main!C3:C11,$B$2)","v":1},{"$f":"1-COUNTIF(main!D3:D11,$B$2)","v":1},{"$f":"1-COUNTIF(main!E3:E11,$B$2)","v":1},{"$f":"1-COUNTIF(main!F3:F11,$B$2)","v":1},{"$f":"1-COUNTIF(main!G3:G11,$B$2)","v":1},{"$f":"1-COUNTIF(main!H3:H11,$B$2)","v":1},{"$f":"1-COUNTIF(main!I3:I11,$B$2)","v":1},{"$f":"1-COUNTIF(main!J3:J11,$B$2)","v":1},{"$f":"1-COUNTIF(main!K3:K11,$B$2)","v":1},{"$f":"IF(COUNT(C6:E8)=1,$B$2,\"\")","v":""},{"$f":"IF(COUNT(F6:H8)=1,$B$2,\"\")","v":""},{"$f":"IF(COUNT(I6:K8)=1,$B$2,\"\")","v":""}]
[null,null,{"$f":"COUNTIF(C3:C11,$B$2)","v":9},{"$f":"COUNTIF(D3:D11,$B$2)","v":9},9,9,9,9,9,9,9,{"$f":"IF(COUNT(C9:E11)=1,$B$2,\"\")","v":""},{"$f":"IF(COUNT(F9:H11)=1,$B$2,\"\")","v":""},{"$f":"IF(COUNT(I9:K11)=1,$B$2,\"\")","v":""}]
[null,null,null,null,null,null,null,null,null,null,null,null,null,null,{"$f":"COUNTIF(C3:E5,$B$2)","v":9},{"$f":"COUNTIF(F3:H5,$B$2)","v":9},{"$f":"COUNTIF(I3:K5,$B$2)","v":9}]
[null,null,null,null,null,null,null,null,null,null,null,null,null,null,{"$f":"COUNTIF(C6:E8,$B$2)","v":9},{"$f":"COUNTIF(F6:H8,$B$2)","v":9},{"$f":"COUNTIF(I6:K8,$B$2)","v":9}]
[null,null,null,null,null,null,null,null,null,null,null,null,null,null,{"$f":"COUNTIF(C9:E11,$B$2)","v":9},{"$f":"COUNTIF(F9:H11,$B$2)","v":9},{"$f":"COUNTIF(I9:K11,$B$2)","v":9}]

{"sheet":"7","index":7,"n_rows":17,"n_cols":17,"rows_kept":17,"cut":false,"hidden":true,"merged":[]}
[]
[null,7]
[null,null,{"$f":"IF(main!C3>=1,\"\",IF(IF(COUNTIF(main!$C$3:$E$5,$B$2)=1,0,1)*$M3*C$13=0,\"\",$B$2))","v":7},{"$f":"IF(main!D3>=1,\"\",IF(IF(COUNTIF(main!$C$3:$E$5,$B$2)=1,0,1)*$M3*D$13=0,\"\",$B$2))","v":7},{"$f":"IF(main!E3>=1,\"\",IF(IF(COUNTIF(main!$C$3:$E$5,$B$2)=1,0,1)*$M3*E$13=0,\"\",$B$2))","v":7},{"$f":"IF(main!F3>=1,\"\",IF(IF(COUNTIF(main!$F$3:$H$5,$B$2)=1,0,1)*$M3*F$13=0,\"\",$B$2))","v":7},{"$f":"IF(main!G3>=1,\"\",IF(IF(COUNTIF(main!$F$3:$H$5,$B$2)=1,0,1)*$M3*G$13=0,\"\",$B$2))","v":7},{"$f":"IF(main!H3>=1,\"\",IF(IF(COUNTIF(main!$F$3:$H$5,$B$2)=1,0,1)*$M3*H$13=0,\"\",$B$2))","v":7},{"$f":"IF(main!I3>=1,\"\",IF(IF(COUNTIF(main!$I$3:$K$5,$B$2)=1,0,1)*$M3*I$13=0,\"\",$B$2))","v":7},{"$f":"IF(main!J3>=1,\"\",IF(IF(COUNTIF(main!$I$3:$K$5,$B$2)=1,0,1)*$M3*J$13=0,\"\",$B$2))","v":7},{"$f":"IF(main!K3>=1,\"\",IF(IF(COUNTIF(main!$I$3:$K$5,$B$2)=1,0,1)*$M3*K$13=0,\"\",$B$2))","v":7},{"$f":"IF(COUNT(C3:K3)=1,$B$2,\"\")","v":""},{"$f":"1-COUNTIF(main!C3:K3,$B$2)","v":1},{"$f":"COUNTIF(C3:K3,$B$2)","v":9}]
[null,null,{"$f":"IF(main!C4>=1,\"\",IF(IF(COUNTIF(main!$C$3:$E$5,$B$2)=1,0,1)*$M4*C$13=0,\"\",$B$2))","v":7},{"$f":"IF(main!D4>=1,\"\",IF(IF(COUNTIF(main!$C$3:$E$5,$B$2)=1,0,1)*$M4*D$13=0,\"\",$B$2))","v":7},{"$f":"IF(main!E4>=1,\"\",IF(IF(COUNTIF(main!$C$3:$E$5,$B$2)=1,0,1)*$M4*E$13=0,\"\",$B$2))","v":7},{"$f":"IF(main!F4>=1,\"\",IF(IF(COUNTIF(main!$F$3:$H$5,$B$2)=1,0,1)*$M4*F$13=0,\"\",$B$2))","v":7},{"$f":"IF(main!G4>=1,\"\",IF(IF(COUNTIF(main!$F$3:$H$5,$B$2)=1,0,1)*$M4*G$13=0,\"\",$B$2))","v":7},{"$f":"IF(main!H4>=1,\"\",IF(IF(COUNTIF(main!$F$3:$H$5,$B$2)=1,0,1)*$M4*H$13=0,\"\",$B$2))","v":7},{"$f":"IF(main!I4>=1,\"\",IF(IF(COUNTIF(main!$I$3:$K$5,$B$2)=1,0,1)*$M4*I$13=0,\"\",$B$2))","v":7},{"$f":"IF(main!J4>=1,\"\",IF(IF(COUNTIF(main!$I$3:$K$5,$B$2)=1,0,1)*$M4*J$13=0,\"\",$B$2))","v":7},{"$f":"IF(main!K4>=1,\"\",IF(IF(COUNTIF(main!$I$3:$K$5,$B$2)=1,0,1)*$M4*K$13=0,\"\",$B$2))","v":7},{"$f":"IF(COUNT(C4:K4)=1,$B$2,\"\")","v":""},{"$f":"1-COUNTIF(main!C4:K4,$B$2)","v":1},{"$f":"COUNTIF(C4:K4,$B$2)","v":9}]
[null,null,{"$f":"IF(main!C5>=1,\"\",IF(IF(COUNTIF(main!$C$3:$E$5,$B$2)=1,0,1)*$M5*C$13=0,\"\",$B$2))","v":7},{"$f":"IF(main!D5>=1,\"\",IF(IF(COUNTIF(main!$C$3:$E$5,$B$2)=1,0,1)*$M5*D$13=0,\"\",$B$2))","v":7},{"$f":"IF(main!E5>=1,\"\",IF(IF(COUNTIF(main!$C$3:$E$5,$B$2)=1,0,1)*$M5*E$13=0,\"\",$B$2))","v":7},{"$f":"IF(main!F5>=1,\"\",IF(IF(COUNTIF(main!$F$3:$H$5,$B$2)=1,0,1)*$M5*F$13=0,\"\",$B$2))","v":7},{"$f":"IF(main!G5>=1,\"\",IF(IF(COUNTIF(main!$F$3:$H$5,$B$2)=1,0,1)*$M5*G$13=0,\"\",$B$2))","v":7},{"$f":"IF(main!H5>=1,\"\",IF(IF(COUNTIF(main!$F$3:$H$5,$B$2)=1,0,1)*$M5*H$13=0,\"\",$B$2))","v":7},{"$f":"IF(main!I5>=1,\"\",IF(IF(COUNTIF(main!$I$3:$K$5,$B$2)=1,0,1)*$M5*I$13=0,\"\",$B$2))","v":7},{"$f":"IF(main!J5>=1,\"\",IF(IF(COUNTIF(main!$I$3:$K$5,$B$2)=1,0,1)*$M5*J$13=0,\"\",$B$2))","v":7},{"$f":"IF(main!K5>=1,\"\",IF(IF(COUNTIF(main!$I$3:$K$5,$B$2)=1,0,1)*$M5*K$13=0,\"\",$B$2))","v":7},"",{"$f":"1-COUNTIF(main!C5:K5,$B$2)","v":1},9]
[null,null,{"$f":"IF(main!C6>=1,\"\",IF(IF(COUNTIF(main!$C$6:$E$8,$B$2)=1,0,1)*$M6*C$13=0,\"\",$B$2))","v":7},{"$f":"IF(main!D6>=1,\"\",IF(IF(COUNTIF(main!$C$6:$E$8,$B$2)=1,0,1)*$M6*D$13=0,\"\",$B$2))","v":7},{"$f":"IF(main!E6>=1,\"\",IF(IF(COUNTIF(main!$C$6:$E$8,$B$2)=1,0,1)*$M6*E$13=0,\"\",$B$2))","v":7},{"$f":"IF(main!F6>=1,\"\",IF(IF(COUNTIF(main!$F$6:$H$8,$B$2)=1,0,1)*$M6*F$13=0,\"\",$B$2))","v":7},{"$f":"IF(main!G6>=1,\"\",IF(IF(COUNTIF(main!$F$6:$H$8,$B$2)=1,0,1)*$M6*G$13=0,\"\",$B$2))","v":7},{"$f":"IF(main!H6>=1,\"\",IF(IF(COUNTIF(main!$F$6:$H$8,$B$2)=1,0,1)*$M6*H$13=0,\"\",$B$2))","v":7},{"$f":"IF(main!I6>=1,\"\",IF(IF(COUNTIF(main!$I$6:$K$8,$B$2)=1,0,1)*$M6*I$13=0,\"\",$B$2))","v":7},{"$f":"IF(main!J6>=1,\"\",IF(IF(COUNTIF(main!$I$6:$K$8,$B$2)=1,0,1)*$M6*J$13=0,\"\",$B$2))","v":7},{"$f":"IF(main!K6>=1,\"\",IF(IF(COUNTIF(main!$I$6:$K$8,$B$2)=1,0,1)*$M6*K$13=0,\"\",$B$2))","v":7},"",{"$f":"1-COUNTIF(main!C6:K6,$B$2)","v":1},9]
[null,null,{"$f":"IF(main!C7>=1,\"\",IF(IF(COUNTIF(main!$C$6:$E$8,$B$2)=1,0,1)*$M7*C$13=0,\"\",$B$2))","v":7},{"$f":"IF(main!D7>=1,\"\",IF(IF(COUNTIF(main!$C$6:$E$8,$B$2)=1,0,1)*$M7*D$13=0,\"\",$B$2))","v":7},{"$f":"IF(main!E7>=1,\"\",IF(IF(COUNTIF(main!$C$6:$E$8,$B$2)=1,0,1)*$M7*E$13=0,\"\",$B$2))","v":7},{"$f":"IF(main!F7>=1,\"\",IF(IF(COUNTIF(main!$F$6:$H$8,$B$2)=1,0,1)*$M7*F$13=0,\"\",$B$2))","v":7},{"$f":"IF(main!G7>=1,\"\",IF(IF(COUNTIF(main!$F$6:$H$8,$B$2)=1,0,1)*$M7*G$13=0,\"\",$B$2))","v":7},{"$f":"IF(main!H7>=1,\"\",IF(IF(COUNTIF(main!$F$6:$H$8,$B$2)=1,0,1)*$M7*H$13=0,\"\",$B$2))","v":7},{"$f":"IF(main!I7>=1,\"\",IF(IF(COUNTIF(main!$I$6:$K$8,$B$2)=1,0,1)*$M7*I$13=0,\"\",$B$2))","v":7},{"$f":"IF(main!J7>=1,\"\",IF(IF(COUNTIF(main!$I$6:$K$8,$B$2)=1,0,1)*$M7*J$13=0,\"\",$B$2))","v":7},{"$f":"IF(main!K7>=1,\"\",IF(IF(COUNTIF(main!$I$6:$K$8,$B$2)=1,0,1)*$M7*K$13=0,\"\",$B$2))","v":7},"",{"$f":"1-COUNTIF(main!C7:K7,$B$2)","v":1},9]
[null,null,{"$f":"IF(main!C8>=1,\"\",IF(IF(COUNTIF(main!$C$6:$E$8,$B$2)=1,0,1)*$M8*C$13=0,\"\",$B$2))","v":7},{"$f":"IF(main!D8>=1,\"\",IF(IF(COUNTIF(main!$C$6:$E$8,$B$2)=1,0,1)*$M8*D$13=0,\"\",$B$2))","v":7},{"$f":"IF(main!E8>=1,\"\",IF(IF(COUNTIF(main!$C$6:$E$8,$B$2)=1,0,1)*$M8*E$13=0,\"\",$B$2))","v":7},{"$f":"IF(main!F8>=1,\"\",IF(IF(COUNTIF(main!$F$6:$H$8,$B$2)=1,0,1)*$M8*F$13=0,\"\",$B$2))","v":7},{"$f":"IF(main!G8>=1,\"\",IF(IF(COUNTIF(main!$F$6:$H$8,$B$2)=1,0,1)*$M8*G$13=0,\"\",$B$2))","v":7},{"$f":"IF(main!H8>=1,\"\",IF(IF(COUNTIF(main!$F$6:$H$8,$B$2)=1,0,1)*$M8*H$13=0,\"\",$B$2))","v":7},{"$f":"IF(main!I8>=1,\"\",IF(IF(COUNTIF(main!$I$6:$K$8,$B$2)=1,0,1)*$M8*I$13=0,\"\",$B$2))","v":7},{"$f":"IF(main!J8>=1,\"\",IF(IF(COUNTIF(main!$I$6:$K$8,$B$2)=1,0,1)*$M8*J$13=0,\"\",$B$2))","v":7},{"$f":"IF(main!K8>=1,\"\",IF(IF(COUNTIF(main!$I$6:$K$8,$B$2)=1,0,1)*$M8*K$13=0,\"\",$B$2))","v":7},"",{"$f":"1-COUNTIF(main!C8:K8,$B$2)","v":1},9]
[null,null,{"$f":"IF(main!C9>=1,\"\",IF(IF(COUNTIF(main!$C$9:$E$11,$B$2)=1,0,1)*$M9*C$13=0,\"\",$B$2))","v":7},{"$f":"IF(main!D9>=1,\"\",IF(IF(COUNTIF(main!$C$9:$E$11,$B$2)=1,0,1)*$M9*D$13=0,\"\",$B$2))","v":7},{"$f":"IF(main!E9>=1,\"\",IF(IF(COUNTIF(main!$C$9:$E$11,$B$2)=1,0,1)*$M9*E$13=0,\"\",$B$2))","v":7},{"$f":"IF(main!F9>=1,\"\",IF(IF(COUNTIF(main!$F$9:$H$11,$B$2)=1,0,1)*$M9*F$13=0,\"\",$B$2))","v":7},{"$f":"IF(main!G9>=1,\"\",IF(IF(COUNTIF(main!$F$9:$H$11,$B$2)=1,0,1)*$M9*G$13=0,\"\",$B$2))","v":7},{"$f":"IF(main!H9>=1,\"\",IF(IF(COUNTIF(main!$F$9:$H$11,$B$2)=1,0,1)*$M9*H$13=0,\"\",$B$2))","v":7},{"$f":"IF(main!I9>=1,\"\",IF(IF(COUNTIF(main!$I$9:$K$11,$B$2)=1,0,1)*$M9*I$13=0,\"\",$B$2))","v":7},{"$f":"IF(main!J9>=1,\"\",IF(IF(COUNTIF(main!$I$9:$K$11,$B$2)=1,0,1)*$M9*J$13=0,\"\",$B$2))","v":7},{"$f":"IF(main!K9>=1,\"\",IF(IF(COUNTIF(main!$I$9:$K$11,$B$2)=1,0,1)*$M9*K$13=0,\"\",$B$2))","v":7},"",{"$f":"1-COUNTIF(main!C9:K9,$B$2)","v":1},9]
[null,null,{"$f":"IF(main!C10>=1,\"\",IF(IF(COUNTIF(main!$C$9:$E$11,$B$2)=1,0,1)*$M10*C$13=0,\"\",$B$2))","v":7},{"$f":"IF(main!D10>=1,\"\",IF(IF(COUNTIF(main!$C$9:$E$11,$B$2)=1,0,1)*$M10*D$13=0,\"\",$B$2))","v":7},{"$f":"IF(main!E10>=1,\"\",IF(IF(COUNTIF(main!$C$9:$E$11,$B$2)=1,0,1)*$M10*E$13=0,\"\",$B$2))","v":7},{"$f":"IF(main!F10>=1,\"\",IF(IF(COUNTIF(main!$F$9:$H$11,$B$2)=1,0,1)*$M10*F$13=0,\"\",$B$2))","v":7},{"$f":"IF(main!G10>=1,\"\",IF(IF(COUNTIF(main!$F$9:$H$11,$B$2)=1,0,1)*$M10*G$13=0,\"\",$B$2))","v":7},{"$f":"IF(main!H10>=1,\"\",IF(IF(COUNTIF(main!$F$9:$H$11,$B$2)=1,0,1)*$M10*H$13=0,\"\",$B$2))","v":7},{"$f":"IF(main!I10>=1,\"\",IF(IF(COUNTIF(main!$I$9:$K$11,$B$2)=1,0,1)*$M10*I$13=0,\"\",$B$2))","v":7},{"$f":"IF(main!J10>=1,\"\",IF(IF(COUNTIF(main!$I$9:$K$11,$B$2)=1,0,1)*$M10*J$13=0,\"\",$B$2))","v":7},{"$f":"IF(main!K10>=1,\"\",IF(IF(COUNTIF(main!$I$9:$K$11,$B$2)=1,0,1)*$M10*K$13=0,\"\",$B$2))","v":7},"",{"$f":"1-COUNTIF(main!C10:K10,$B$2)","v":1},9]
[null,null,{"$f":"IF(main!C11>=1,\"\",IF(IF(COUNTIF(main!$C$9:$E$11,$B$2)=1,0,1)*$M11*C$13=0,\"\",$B$2))","v":7},{"$f":"IF(main!D11>=1,\"\",IF(IF(COUNTIF(main!$C$9:$E$11,$B$2)=1,0,1)*$M11*D$13=0,\"\",$B$2))","v":7},{"$f":"IF(main!E11>=1,\"\",IF(IF(COUNTIF(main!$C$9:$E$11,$B$2)=1,0,1)*$M11*E$13=0,\"\",$B$2))","v":7},{"$f":"IF(main!F11>=1,\"\",IF(IF(COUNTIF(main!$F$9:$H$11,$B$2)=1,0,1)*$M11*F$13=0,\"\",$B$2))","v":7},{"$f":"IF(main!G11>=1,\"\",IF(IF(COUNTIF(main!$F$9:$H$11,$B$2)=1,0,1)*$M11*G$13=0,\"\",$B$2))","v":7},{"$f":"IF(main!H11>=1,\"\",IF(IF(COUNTIF(main!$F$9:$H$11,$B$2)=1,0,1)*$M11*H$13=0,\"\",$B$2))","v":7},{"$f":"IF(main!I11>=1,\"\",IF(IF(COUNTIF(main!$I$9:$K$11,$B$2)=1,0,1)*$M11*I$13=0,\"\",$B$2))","v":7},{"$f":"IF(main!J11>=1,\"\",IF(IF(COUNTIF(main!$I$9:$K$11,$B$2)=1,0,1)*$M11*J$13=0,\"\",$B$2))","v":7},{"$f":"IF(main!K11>=1,\"\",IF(IF(COUNTIF(main!$I$9:$K$11,$B$2)=1,0,1)*$M11*K$13=0,\"\",$B$2))","v":7},"",{"$f":"1-COUNTIF(main!C11:K11,$B$2)","v":1},9]
[null,null,{"$f":"IF(COUNT(C3:C11)=1,$B$2,\"\")","v":""},{"$f":"IF(COUNT(D3:D11)=1,$B$2,\"\")","v":""},"","","","","","","",{"$f":"IF(COUNT(C3:E5)=1,$B$2,\"\")","v":""},{"$f":"IF(COUNT(F3:H5)=1,$B$2,\"\")","v":""},{"$f":"IF(COUNT(I3:K5)=1,$B$2,\"\")","v":""}]
[null,null,{"$f":"1-COUNTIF(main!C3:C11,$B$2)","v":1},{"$f":"1-COUNTIF(main!D3:D11,$B$2)","v":1},{"$f":"1-COUNTIF(main!E3:E11,$B$2)","v":1},{"$f":"1-COUNTIF(main!F3:F11,$B$2)","v":1},{"$f":"1-COUNTIF(main!G3:G11,$B$2)","v":1},{"$f":"1-COUNTIF(main!H3:H11,$B$2)","v":1},{"$f":"1-COUNTIF(main!I3:I11,$B$2)","v":1},{"$f":"1-COUNTIF(main!J3:J11,$B$2)","v":1},{"$f":"1-COUNTIF(main!K3:K11,$B$2)","v":1},{"$f":"IF(COUNT(C6:E8)=1,$B$2,\"\")","v":""},{"$f":"IF(COUNT(F6:H8)=1,$B$2,\"\")","v":""},{"$f":"IF(COUNT(I6:K8)=1,$B$2,\"\")","v":""}]
[null,null,{"$f":"COUNTIF(C3:C11,$B$2)","v":9},{"$f":"COUNTIF(D3:D11,$B$2)","v":9},9,9,9,9,9,9,9,{"$f":"IF(COUNT(C9:E11)=1,$B$2,\"\")","v":""},{"$f":"IF(COUNT(F9:H11)=1,$B$2,\"\")","v":""},{"$f":"IF(COUNT(I9:K11)=1,$B$2,\"\")","v":""}]
[null,null,null,null,null,null,null,null,null,null,null,null,null,null,{"$f":"COUNTIF(C3:E5,$B$2)","v":9},{"$f":"COUNTIF(F3:H5,$B$2)","v":9},{"$f":"COUNTIF(I3:K5,$B$2)","v":9}]
[null,null,null,null,null,null,null,null,null,null,null,null,null,null,{"$f":"COUNTIF(C6:E8,$B$2)","v":9},{"$f":"COUNTIF(F6:H8,$B$2)","v":9},{"$f":"COUNTIF(I6:K8,$B$2)","v":9}]
[null,null,null,null,null,null,null,null,null,null,null,null,null,null,{"$f":"COUNTIF(C9:E11,$B$2)","v":9},{"$f":"COUNTIF(F9:H11,$B$2)","v":9},{"$f":"COUNTIF(I9:K11,$B$2)","v":9}]

{"sheet":"8","index":8,"n_rows":17,"n_cols":17,"rows_kept":17,"cut":false,"hidden":true,"merged":[]}
[]
[null,8]
[null,null,{"$f":"IF(main!C3>=1,\"\",IF(IF(COUNTIF(main!$C$3:$E$5,$B$2)=1,0,1)*$M3*C$13=0,\"\",$B$2))","v":8},{"$f":"IF(main!D3>=1,\"\",IF(IF(COUNTIF(main!$C$3:$E$5,$B$2)=1,0,1)*$M3*D$13=0,\"\",$B$2))","v":8},{"$f":"IF(main!E3>=1,\"\",IF(IF(COUNTIF(main!$C$3:$E$5,$B$2)=1,0,1)*$M3*E$13=0,\"\",$B$2))","v":8},{"$f":"IF(main!F3>=1,\"\",IF(IF(COUNTIF(main!$F$3:$H$5,$B$2)=1,0,1)*$M3*F$13=0,\"\",$B$2))","v":8},{"$f":"IF(main!G3>=1,\"\",IF(IF(COUNTIF(main!$F$3:$H$5,$B$2)=1,0,1)*$M3*G$13=0,\"\",$B$2))","v":8},{"$f":"IF(main!H3>=1,\"\",IF(IF(COUNTIF(main!$F$3:$H$5,$B$2)=1,0,1)*$M3*H$13=0,\"\",$B$2))","v":8},{"$f":"IF(main!I3>=1,\"\",IF(IF(COUNTIF(main!$I$3:$K$5,$B$2)=1,0,1)*$M3*I$13=0,\"\",$B$2))","v":8},{"$f":"IF(main!J3>=1,\"\",IF(IF(COUNTIF(main!$I$3:$K$5,$B$2)=1,0,1)*$M3*J$13=0,\"\",$B$2))","v":8},{"$f":"IF(main!K3>=1,\"\",IF(IF(COUNTIF(main!$I$3:$K$5,$B$2)=1,0,1)*$M3*K$13=0,\"\",$B$2))","v":8},{"$f":"IF(COUNT(C3:K3)=1,$B$2,\"\")","v":""},{"$f":"1-COUNTIF(main!C3:K3,$B$2)","v":1},{"$f":"COUNTIF(C3:K3,$B$2)","v":9}]
[null,null,{"$f":"IF(main!C4>=1,\"\",IF(IF(COUNTIF(main!$C$3:$E$5,$B$2)=1,0,1)*$M4*C$13=0,\"\",$B$2))","v":8},{"$f":"IF(main!D4>=1,\"\",IF(IF(COUNTIF(main!$C$3:$E$5,$B$2)=1,0,1)*$M4*D$13=0,\"\",$B$2))","v":8},{"$f":"IF(main!E4>=1,\"\",IF(IF(COUNTIF(main!$C$3:$E$5,$B$2)=1,0,1)*$M4*E$13=0,\"\",$B$2))","v":8},{"$f":"IF(main!F4>=1,\"\",IF(IF(COUNTIF(main!$F$3:$H$5,$B$2)=1,0,1)*$M4*F$13=0,\"\",$B$2))","v":8},{"$f":"IF(main!G4>=1,\"\",IF(IF(COUNTIF(main!$F$3:$H$5,$B$2)=1,0,1)*$M4*G$13=0,\"\",$B$2))","v":8},{"$f":"IF(main!H4>=1,\"\",IF(IF(COUNTIF(main!$F$3:$H$5,$B$2)=1,0,1)*$M4*H$13=0,\"\",$B$2))","v":8},{"$f":"IF(main!I4>=1,\"\",IF(IF(COUNTIF(main!$I$3:$K$5,$B$2)=1,0,1)*$M4*I$13=0,\"\",$B$2))","v":8},{"$f":"IF(main!J4>=1,\"\",IF(IF(COUNTIF(main!$I$3:$K$5,$B$2)=1,0,1)*$M4*J$13=0,\"\",$B$2))","v":8},{"$f":"IF(main!K4>=1,\"\",IF(IF(COUNTIF(main!$I$3:$K$5,$B$2)=1,0,1)*$M4*K$13=0,\"\",$B$2))","v":8},{"$f":"IF(COUNT(C4:K4)=1,$B$2,\"\")","v":""},{"$f":"1-COUNTIF(main!C4:K4,$B$2)","v":1},{"$f":"COUNTIF(C4:K4,$B$2)","v":9}]
[null,null,{"$f":"IF(main!C5>=1,\"\",IF(IF(COUNTIF(main!$C$3:$E$5,$B$2)=1,0,1)*$M5*C$13=0,\"\",$B$2))","v":8},{"$f":"IF(main!D5>=1,\"\",IF(IF(COUNTIF(main!$C$3:$E$5,$B$2)=1,0,1)*$M5*D$13=0,\"\",$B$2))","v":8},{"$f":"IF(main!E5>=1,\"\",IF(IF(COUNTIF(main!$C$3:$E$5,$B$2)=1,0,1)*$M5*E$13=0,\"\",$B$2))","v":8},{"$f":"IF(main!F5>=1,\"\",IF(IF(COUNTIF(main!$F$3:$H$5,$B$2)=1,0,1)*$M5*F$13=0,\"\",$B$2))","v":8},{"$f":"IF(main!G5>=1,\"\",IF(IF(COUNTIF(main!$F$3:$H$5,$B$2)=1,0,1)*$M5*G$13=0,\"\",$B$2))","v":8},{"$f":"IF(main!H5>=1,\"\",IF(IF(COUNTIF(main!$F$3:$H$5,$B$2)=1,0,1)*$M5*H$13=0,\"\",$B$2))","v":8},{"$f":"IF(main!I5>=1,\"\",IF(IF(COUNTIF(main!$I$3:$K$5,$B$2)=1,0,1)*$M5*I$13=0,\"\",$B$2))","v":8},{"$f":"IF(main!J5>=1,\"\",IF(IF(COUNTIF(main!$I$3:$K$5,$B$2)=1,0,1)*$M5*J$13=0,\"\",$B$2))","v":8},{"$f":"IF(main!K5>=1,\"\",IF(IF(COUNTIF(main!$I$3:$K$5,$B$2)=1,0,1)*$M5*K$13=0,\"\",$B$2))","v":8},"",{"$f":"1-COUNTIF(main!C5:K5,$B$2)","v":1},9]
[null,null,{"$f":"IF(main!C6>=1,\"\",IF(IF(COUNTIF(main!$C$6:$E$8,$B$2)=1,0,1)*$M6*C$13=0,\"\",$B$2))","v":8},{"$f":"IF(main!D6>=1,\"\",IF(IF(COUNTIF(main!$C$6:$E$8,$B$2)=1,0,1)*$M6*D$13=0,\"\",$B$2))","v":8},{"$f":"IF(main!E6>=1,\"\",IF(IF(COUNTIF(main!$C$6:$E$8,$B$2)=1,0,1)*$M6*E$13=0,\"\",$B$2))","v":8},{"$f":"IF(main!F6>=1,\"\",IF(IF(COUNTIF(main!$F$6:$H$8,$B$2)=1,0,1)*$M6*F$13=0,\"\",$B$2))","v":8},{"$f":"IF(main!G6>=1,\"\",IF(IF(COUNTIF(main!$F$6:$H$8,$B$2)=1,0,1)*$M6*G$13=0,\"\",$B$2))","v":8},{"$f":"IF(main!H6>=1,\"\",IF(IF(COUNTIF(main!$F$6:$H$8,$B$2)=1,0,1)*$M6*H$13=0,\"\",$B$2))","v":8},{"$f":"IF(main!I6>=1,\"\",IF(IF(COUNTIF(main!$I$6:$K$8,$B$2)=1,0,1)*$M6*I$13=0,\"\",$B$2))","v":8},{"$f":"IF(main!J6>=1,\"\",IF(IF(COUNTIF(main!$I$6:$K$8,$B$2)=1,0,1)*$M6*J$13=0,\"\",$B$2))","v":8},{"$f":"IF(main!K6>=1,\"\",IF(IF(COUNTIF(main!$I$6:$K$8,$B$2)=1,0,1)*$M6*K$13=0,\"\",$B$2))","v":8},"",{"$f":"1-COUNTIF(main!C6:K6,$B$2)","v":1},9]
[null,null,{"$f":"IF(main!C7>=1,\"\",IF(IF(COUNTIF(main!$C$6:$E$8,$B$2)=1,0,1)*$M7*C$13=0,\"\",$B$2))","v":8},{"$f":"IF(main!D7>=1,\"\",IF(IF(COUNTIF(main!$C$6:$E$8,$B$2)=1,0,1)*$M7*D$13=0,\"\",$B$2))","v":8},{"$f":"IF(main!E7>=1,\"\",IF(IF(COUNTIF(main!$C$6:$E$8,$B$2)=1,0,1)*$M7*E$13=0,\"\",$B$2))","v":8},{"$f":"IF(main!F7>=1,\"\",IF(IF(COUNTIF(main!$F$6:$H$8,$B$2)=1,0,1)*$M7*F$13=0,\"\",$B$2))","v":8},{"$f":"IF(main!G7>=1,\"\",IF(IF(COUNTIF(main!$F$6:$H$8,$B$2)=1,0,1)*$M7*G$13=0,\"\",$B$2))","v":8},{"$f":"IF(main!H7>=1,\"\",IF(IF(COUNTIF(main!$F$6:$H$8,$B$2)=1,0,1)*$M7*H$13=0,\"\",$B$2))","v":8},{"$f":"IF(main!I7>=1,\"\",IF(IF(COUNTIF(main!$I$6:$K$8,$B$2)=1,0,1)*$M7*I$13=0,\"\",$B$2))","v":8},{"$f":"IF(main!J7>=1,\"\",IF(IF(COUNTIF(main!$I$6:$K$8,$B$2)=1,0,1)*$M7*J$13=0,\"\",$B$2))","v":8},{"$f":"IF(main!K7>=1,\"\",IF(IF(COUNTIF(main!$I$6:$K$8,$B$2)=1,0,1)*$M7*K$13=0,\"\",$B$2))","v":8},"",{"$f":"1-COUNTIF(main!C7:K7,$B$2)","v":1},9]
[null,null,{"$f":"IF(main!C8>=1,\"\",IF(IF(COUNTIF(main!$C$6:$E$8,$B$2)=1,0,1)*$M8*C$13=0,\"\",$B$2))","v":8},{"$f":"IF(main!D8>=1,\"\",IF(IF(COUNTIF(main!$C$6:$E$8,$B$2)=1,0,1)*$M8*D$13=0,\"\",$B$2))","v":8},{"$f":"IF(main!E8>=1,\"\",IF(IF(COUNTIF(main!$C$6:$E$8,$B$2)=1,0,1)*$M8*E$13=0,\"\",$B$2))","v":8},{"$f":"IF(main!F8>=1,\"\",IF(IF(COUNTIF(main!$F$6:$H$8,$B$2)=1,0,1)*$M8*F$13=0,\"\",$B$2))","v":8},{"$f":"IF(main!G8>=1,\"\",IF(IF(COUNTIF(main!$F$6:$H$8,$B$2)=1,0,1)*$M8*G$13=0,\"\",$B$2))","v":8},{"$f":"IF(main!H8>=1,\"\",IF(IF(COUNTIF(main!$F$6:$H$8,$B$2)=1,0,1)*$M8*H$13=0,\"\",$B$2))","v":8},{"$f":"IF(main!I8>=1,\"\",IF(IF(COUNTIF(main!$I$6:$K$8,$B$2)=1,0,1)*$M8*I$13=0,\"\",$B$2))","v":8},{"$f":"IF(main!J8>=1,\"\",IF(IF(COUNTIF(main!$I$6:$K$8,$B$2)=1,0,1)*$M8*J$13=0,\"\",$B$2))","v":8},{"$f":"IF(main!K8>=1,\"\",IF(IF(COUNTIF(main!$I$6:$K$8,$B$2)=1,0,1)*$M8*K$13=0,\"\",$B$2))","v":8},"",{"$f":"1-COUNTIF(main!C8:K8,$B$2)","v":1},9]
[null,null,{"$f":"IF(main!C9>=1,\"\",IF(IF(COUNTIF(main!$C$9:$E$11,$B$2)=1,0,1)*$M9*C$13=0,\"\",$B$2))","v":8},{"$f":"IF(main!D9>=1,\"\",IF(IF(COUNTIF(main!$C$9:$E$11,$B$2)=1,0,1)*$M9*D$13=0,\"\",$B$2))","v":8},{"$f":"IF(main!E9>=1,\"\",IF(IF(COUNTIF(main!$C$9:$E$11,$B$2)=1,0,1)*$M9*E$13=0,\"\",$B$2))","v":8},{"$f":"IF(main!F9>=1,\"\",IF(IF(COUNTIF(main!$F$9:$H$11,$B$2)=1,0,1)*$M9*F$13=0,\"\",$B$2))","v":8},{"$f":"IF(main!G9>=1,\"\",IF(IF(COUNTIF(main!$F$9:$H$11,$B$2)=1,0,1)*$M9*G$13=0,\"\",$B$2))","v":8},{"$f":"IF(main!H9>=1,\"\",IF(IF(COUNTIF(main!$F$9:$H$11,$B$2)=1,0,1)*$M9*H$13=0,\"\",$B$2))","v":8},{"$f":"IF(main!I9>=1,\"\",IF(IF(COUNTIF(main!$I$9:$K$11,$B$2)=1,0,1)*$M9*I$13=0,\"\",$B$2))","v":8},{"$f":"IF(main!J9>=1,\"\",IF(IF(COUNTIF(main!$I$9:$K$11,$B$2)=1,0,1)*$M9*J$13=0,\"\",$B$2))","v":8},{"$f":"IF(main!K9>=1,\"\",IF(IF(COUNTIF(main!$I$9:$K$11,$B$2)=1,0,1)*$M9*K$13=0,\"\",$B$2))","v":8},"",{"$f":"1-COUNTIF(main!C9:K9,$B$2)","v":1},9]
[null,null,{"$f":"IF(main!C10>=1,\"\",IF(IF(COUNTIF(main!$C$9:$E$11,$B$2)=1,0,1)*$M10*C$13=0,\"\",$B$2))","v":8},{"$f":"IF(main!D10>=1,\"\",IF(IF(COUNTIF(main!$C$9:$E$11,$B$2)=1,0,1)*$M10*D$13=0,\"\",$B$2))","v":8},{"$f":"IF(main!E10>=1,\"\",IF(IF(COUNTIF(main!$C$9:$E$11,$B$2)=1,0,1)*$M10*E$13=0,\"\",$B$2))","v":8},{"$f":"IF(main!F10>=1,\"\",IF(IF(COUNTIF(main!$F$9:$H$11,$B$2)=1,0,1)*$M10*F$13=0,\"\",$B$2))","v":8},{"$f":"IF(main!G10>=1,\"\",IF(IF(COUNTIF(main!$F$9:$H$11,$B$2)=1,0,1)*$M10*G$13=0,\"\",$B$2))","v":8},{"$f":"IF(main!H10>=1,\"\",IF(IF(COUNTIF(main!$F$9:$H$11,$B$2)=1,0,1)*$M10*H$13=0,\"\",$B$2))","v":8},{"$f":"IF(main!I10>=1,\"\",IF(IF(COUNTIF(main!$I$9:$K$11,$B$2)=1,0,1)*$M10*I$13=0,\"\",$B$2))","v":8},{"$f":"IF(main!J10>=1,\"\",IF(IF(COUNTIF(main!$I$9:$K$11,$B$2)=1,0,1)*$M10*J$13=0,\"\",$B$2))","v":8},{"$f":"IF(main!K10>=1,\"\",IF(IF(COUNTIF(main!$I$9:$K$11,$B$2)=1,0,1)*$M10*K$13=0,\"\",$B$2))","v":8},"",{"$f":"1-COUNTIF(main!C10:K10,$B$2)","v":1},9]
[null,null,{"$f":"IF(main!C11>=1,\"\",IF(IF(COUNTIF(main!$C$9:$E$11,$B$2)=1,0,1)*$M11*C$13=0,\"\",$B$2))","v":8},{"$f":"IF(main!D11>=1,\"\",IF(IF(COUNTIF(main!$C$9:$E$11,$B$2)=1,0,1)*$M11*D$13=0,\"\",$B$2))","v":8},{"$f":"IF(main!E11>=1,\"\",IF(IF(COUNTIF(main!$C$9:$E$11,$B$2)=1,0,1)*$M11*E$13=0,\"\",$B$2))","v":8},{"$f":"IF(main!F11>=1,\"\",IF(IF(COUNTIF(main!$F$9:$H$11,$B$2)=1,0,1)*$M11*F$13=0,\"\",$B$2))","v":8},{"$f":"IF(main!G11>=1,\"\",IF(IF(COUNTIF(main!$F$9:$H$11,$B$2)=1,0,1)*$M11*G$13=0,\"\",$B$2))","v":8},{"$f":"IF(main!H11>=1,\"\",IF(IF(COUNTIF(main!$F$9:$H$11,$B$2)=1,0,1)*$M11*H$13=0,\"\",$B$2))","v":8},{"$f":"IF(main!I11>=1,\"\",IF(IF(COUNTIF(main!$I$9:$K$11,$B$2)=1,0,1)*$M11*I$13=0,\"\",$B$2))","v":8},{"$f":"IF(main!J11>=1,\"\",IF(IF(COUNTIF(main!$I$9:$K$11,$B$2)=1,0,1)*$M11*J$13=0,\"\",$B$2))","v":8},{"$f":"IF(main!K11>=1,\"\",IF(IF(COUNTIF(main!$I$9:$K$11,$B$2)=1,0,1)*$M11*K$13=0,\"\",$B$2))","v":8},"",{"$f":"1-COUNTIF(main!C11:K11,$B$2)","v":1},9]
[null,null,{"$f":"IF(COUNT(C3:C11)=1,$B$2,\"\")","v":""},{"$f":"IF(COUNT(D3:D11)=1,$B$2,\"\")","v":""},"","","","","","","",{"$f":"IF(COUNT(C3:E5)=1,$B$2,\"\")","v":""},{"$f":"IF(COUNT(F3:H5)=1,$B$2,\"\")","v":""},{"$f":"IF(COUNT(I3:K5)=1,$B$2,\"\")","v":""}]
[null,null,{"$f":"1-COUNTIF(main!C3:C11,$B$2)","v":1},{"$f":"1-COUNTIF(main!D3:D11,$B$2)","v":1},{"$f":"1-COUNTIF(main!E3:E11,$B$2)","v":1},{"$f":"1-COUNTIF(main!F3:F11,$B$2)","v":1},{"$f":"1-COUNTIF(main!G3:G11,$B$2)","v":1},{"$f":"1-COUNTIF(main!H3:H11,$B$2)","v":1},{"$f":"1-COUNTIF(main!I3:I11,$B$2)","v":1},{"$f":"1-COUNTIF(main!J3:J11,$B$2)","v":1},{"$f":"1-COUNTIF(main!K3:K11,$B$2)","v":1},{"$f":"IF(COUNT(C6:E8)=1,$B$2,\"\")","v":""},{"$f":"IF(COUNT(F6:H8)=1,$B$2,\"\")","v":""},{"$f":"IF(COUNT(I6:K8)=1,$B$2,\"\")","v":""}]
[null,null,{"$f":"COUNTIF(C3:C11,$B$2)","v":9},{"$f":"COUNTIF(D3:D11,$B$2)","v":9},9,9,9,9,9,9,9,{"$f":"IF(COUNT(C9:E11)=1,$B$2,\"\")","v":""},{"$f":"IF(COUNT(F9:H11)=1,$B$2,\"\")","v":""},{"$f":"IF(COUNT(I9:K11)=1,$B$2,\"\")","v":""}]
[null,null,null,null,null,null,null,null,null,null,null,null,null,null,{"$f":"COUNTIF(C3:E5,$B$2)","v":9},{"$f":"COUNTIF(F3:H5,$B$2)","v":9},{"$f":"COUNTIF(I3:K5,$B$2)","v":9}]
[null,null,null,null,null,null,null,null,null,null,null,null,null,null,{"$f":"COUNTIF(C6:E8,$B$2)","v":9},{"$f":"COUNTIF(F6:H8,$B$2)","v":9},{"$f":"COUNTIF(I6:K8,$B$2)","v":9}]
[null,null,null,null,null,null,null,null,null,null,null,null,null,null,{"$f":"COUNTIF(C9:E11,$B$2)","v":9},{"$f":"COUNTIF(F9:H11,$B$2)","v":9},{"$f":"COUNTIF(I9:K11,$B$2)","v":9}]

{"sheet":"9","index":9,"n_rows":17,"n_cols":17,"rows_kept":17,"cut":false,"hidden":true,"merged":[]}
[]
[null,9]
[null,null,{"$f":"IF(main!C3>=1,\"\",IF(IF(COUNTIF(main!$C$3:$E$5,$B$2)=1,0,1)*$M3*C$13=0,\"\",$B$2))","v":9},{"$f":"IF(main!D3>=1,\"\",IF(IF(COUNTIF(main!$C$3:$E$5,$B$2)=1,0,1)*$M3*D$13=0,\"\",$B$2))","v":9},{"$f":"IF(main!E3>=1,\"\",IF(IF(COUNTIF(main!$C$3:$E$5,$B$2)=1,0,1)*$M3*E$13=0,\"\",$B$2))","v":9},{"$f":"IF(main!F3>=1,\"\",IF(IF(COUNTIF(main!$F$3:$H$5,$B$2)=1,0,1)*$M3*F$13=0,\"\",$B$2))","v":9},{"$f":"IF(main!G3>=1,\"\",IF(IF(COUNTIF(main!$F$3:$H$5,$B$2)=1,0,1)*$M3*G$13=0,\"\",$B$2))","v":9},{"$f":"IF(main!H3>=1,\"\",IF(IF(COUNTIF(main!$F$3:$H$5,$B$2)=1,0,1)*$M3*H$13=0,\"\",$B$2))","v":9},{"$f":"IF(main!I3>=1,\"\",IF(IF(COUNTIF(main!$I$3:$K$5,$B$2)=1,0,1)*$M3*I$13=0,\"\",$B$2))","v":9},{"$f":"IF(main!J3>=1,\"\",IF(IF(COUNTIF(main!$I$3:$K$5,$B$2)=1,0,1)*$M3*J$13=0,\"\",$B$2))","v":9},{"$f":"IF(main!K3>=1,\"\",IF(IF(COUNTIF(main!$I$3:$K$5,$B$2)=1,0,1)*$M3*K$13=0,\"\",$B$2))","v":9},{"$f":"IF(COUNT(C3:K3)=1,$B$2,\"\")","v":""},{"$f":"1-COUNTIF(main!C3:K3,$B$2)","v":1},{"$f":"COUNTIF(C3:K3,$B$2)","v":9}]
[null,null,{"$f":"IF(main!C4>=1,\"\",IF(IF(COUNTIF(main!$C$3:$E$5,$B$2)=1,0,1)*$M4*C$13=0,\"\",$B$2))","v":9},{"$f":"IF(main!D4>=1,\"\",IF(IF(COUNTIF(main!$C$3:$E$5,$B$2)=1,0,1)*$M4*D$13=0,\"\",$B$2))","v":9},{"$f":"IF(main!E4>=1,\"\",IF(IF(COUNTIF(main!$C$3:$E$5,$B$2)=1,0,1)*$M4*E$13=0,\"\",$B$2))","v":9},{"$f":"IF(main!F4>=1,\"\",IF(IF(COUNTIF(main!$F$3:$H$5,$B$2)=1,0,1)*$M4*F$13=0,\"\",$B$2))","v":9},{"$f":"IF(main!G4>=1,\"\",IF(IF(COUNTIF(main!$F$3:$H$5,$B$2)=1,0,1)*$M4*G$13=0,\"\",$B$2))","v":9},{"$f":"IF(main!H4>=1,\"\",IF(IF(COUNTIF(main!$F$3:$H$5,$B$2)=1,0,1)*$M4*H$13=0,\"\",$B$2))","v":9},{"$f":"IF(main!I4>=1,\"\",IF(IF(COUNTIF(main!$I$3:$K$5,$B$2)=1,0,1)*$M4*I$13=0,\"\",$B$2))","v":9},{"$f":"IF(main!J4>=1,\"\",IF(IF(COUNTIF(main!$I$3:$K$5,$B$2)=1,0,1)*$M4*J$13=0,\"\",$B$2))","v":9},{"$f":"IF(main!K4>=1,\"\",IF(IF(COUNTIF(main!$I$3:$K$5,$B$2)=1,0,1)*$M4*K$13=0,\"\",$B$2))","v":9},{"$f":"IF(COUNT(C4:K4)=1,$B$2,\"\")","v":""},{"$f":"1-COUNTIF(main!C4:K4,$B$2)","v":1},{"$f":"COUNTIF(C4:K4,$B$2)","v":9}]
[null,null,{"$f":"IF(main!C5>=1,\"\",IF(IF(COUNTIF(main!$C$3:$E$5,$B$2)=1,0,1)*$M5*C$13=0,\"\",$B$2))","v":9},{"$f":"IF(main!D5>=1,\"\",IF(IF(COUNTIF(main!$C$3:$E$5,$B$2)=1,0,1)*$M5*D$13=0,\"\",$B$2))","v":9},{"$f":"IF(main!E5>=1,\"\",IF(IF(COUNTIF(main!$C$3:$E$5,$B$2)=1,0,1)*$M5*E$13=0,\"\",$B$2))","v":9},{"$f":"IF(main!F5>=1,\"\",IF(IF(COUNTIF(main!$F$3:$H$5,$B$2)=1,0,1)*$M5*F$13=0,\"\",$B$2))","v":9},{"$f":"IF(main!G5>=1,\"\",IF(IF(COUNTIF(main!$F$3:$H$5,$B$2)=1,0,1)*$M5*G$13=0,\"\",$B$2))","v":9},{"$f":"IF(main!H5>=1,\"\",IF(IF(COUNTIF(main!$F$3:$H$5,$B$2)=1,0,1)*$M5*H$13=0,\"\",$B$2))","v":9},{"$f":"IF(main!I5>=1,\"\",IF(IF(COUNTIF(main!$I$3:$K$5,$B$2)=1,0,1)*$M5*I$13=0,\"\",$B$2))","v":9},{"$f":"IF(main!J5>=1,\"\",IF(IF(COUNTIF(main!$I$3:$K$5,$B$2)=1,0,1)*$M5*J$13=0,\"\",$B$2))","v":9},{"$f":"IF(main!K5>=1,\"\",IF(IF(COUNTIF(main!$I$3:$K$5,$B$2)=1,0,1)*$M5*K$13=0,\"\",$B$2))","v":9},"",{"$f":"1-COUNTIF(main!C5:K5,$B$2)","v":1},9]
[null,null,{"$f":"IF(main!C6>=1,\"\",IF(IF(COUNTIF(main!$C$6:$E$8,$B$2)=1,0,1)*$M6*C$13=0,\"\",$B$2))","v":9},{"$f":"IF(main!D6>=1,\"\",IF(IF(COUNTIF(main!$C$6:$E$8,$B$2)=1,0,1)*$M6*D$13=0,\"\",$B$2))","v":9},{"$f":"IF(main!E6>=1,\"\",IF(IF(COUNTIF(main!$C$6:$E$8,$B$2)=1,0,1)*$M6*E$13=0,\"\",$B$2))","v":9},{"$f":"IF(main!F6>=1,\"\",IF(IF(COUNTIF(main!$F$6:$H$8,$B$2)=1,0,1)*$M6*F$13=0,\"\",$B$2))","v":9},{"$f":"IF(main!G6>=1,\"\",IF(IF(COUNTIF(main!$F$6:$H$8,$B$2)=1,0,1)*$M6*G$13=0,\"\",$B$2))","v":9},{"$f":"IF(main!H6>=1,\"\",IF(IF(COUNTIF(main!$F$6:$H$8,$B$2)=1,0,1)*$M6*H$13=0,\"\",$B$2))","v":9},{"$f":"IF(main!I6>=1,\"\",IF(IF(COUNTIF(main!$I$6:$K$8,$B$2)=1,0,1)*$M6*I$13=0,\"\",$B$2))","v":9},{"$f":"IF(main!J6>=1,\"\",IF(IF(COUNTIF(main!$I$6:$K$8,$B$2)=1,0,1)*$M6*J$13=0,\"\",$B$2))","v":9},{"$f":"IF(main!K6>=1,\"\",IF(IF(COUNTIF(main!$I$6:$K$8,$B$2)=1,0,1)*$M6*K$13=0,\"\",$B$2))","v":9},"",{"$f":"1-COUNTIF(main!C6:K6,$B$2)","v":1},9]
[null,null,{"$f":"IF(main!C7>=1,\"\",IF(IF(COUNTIF(main!$C$6:$E$8,$B$2)=1,0,1)*$M7*C$13=0,\"\",$B$2))","v":9},{"$f":"IF(main!D7>=1,\"\",IF(IF(COUNTIF(main!$C$6:$E$8,$B$2)=1,0,1)*$M7*D$13=0,\"\",$B$2))","v":9},{"$f":"IF(main!E7>=1,\"\",IF(IF(COUNTIF(main!$C$6:$E$8,$B$2)=1,0,1)*$M7*E$13=0,\"\",$B$2))","v":9},{"$f":"IF(main!F7>=1,\"\",IF(IF(COUNTIF(main!$F$6:$H$8,$B$2)=1,0,1)*$M7*F$13=0,\"\",$B$2))","v":9},{"$f":"IF(main!G7>=1,\"\",IF(IF(COUNTIF(main!$F$6:$H$8,$B$2)=1,0,1)*$M7*G$13=0,\"\",$B$2))","v":9},{"$f":"IF(main!H7>=1,\"\",IF(IF(COUNTIF(main!$F$6:$H$8,$B$2)=1,0,1)*$M7*H$13=0,\"\",$B$2))","v":9},{"$f":"IF(main!I7>=1,\"\",IF(IF(COUNTIF(main!$I$6:$K$8,$B$2)=1,0,1)*$M7*I$13=0,\"\",$B$2))","v":9},{"$f":"IF(main!J7>=1,\"\",IF(IF(COUNTIF(main!$I$6:$K$8,$B$2)=1,0,1)*$M7*J$13=0,\"\",$B$2))","v":9},{"$f":"IF(main!K7>=1,\"\",IF(IF(COUNTIF(main!$I$6:$K$8,$B$2)=1,0,1)*$M7*K$13=0,\"\",$B$2))","v":9},"",{"$f":"1-COUNTIF(main!C7:K7,$B$2)","v":1},9]
[null,null,{"$f":"IF(main!C8>=1,\"\",IF(IF(COUNTIF(main!$C$6:$E$8,$B$2)=1,0,1)*$M8*C$13=0,\"\",$B$2))","v":9},{"$f":"IF(main!D8>=1,\"\",IF(IF(COUNTIF(main!$C$6:$E$8,$B$2)=1,0,1)*$M8*D$13=0,\"\",$B$2))","v":9},{"$f":"IF(main!E8>=1,\"\",IF(IF(COUNTIF(main!$C$6:$E$8,$B$2)=1,0,1)*$M8*E$13=0,\"\",$B$2))","v":9},{"$f":"IF(main!F8>=1,\"\",IF(IF(COUNTIF(main!$F$6:$H$8,$B$2)=1,0,1)*$M8*F$13=0,\"\",$B$2))","v":9},{"$f":"IF(main!G8>=1,\"\",IF(IF(COUNTIF(main!$F$6:$H$8,$B$2)=1,0,1)*$M8*G$13=0,\"\",$B$2))","v":9},{"$f":"IF(main!H8>=1,\"\",IF(IF(COUNTIF(main!$F$6:$H$8,$B$2)=1,0,1)*$M8*H$13=0,\"\",$B$2))","v":9},{"$f":"IF(main!I8>=1,\"\",IF(IF(COUNTIF(main!$I$6:$K$8,$B$2)=1,0,1)*$M8*I$13=0,\"\",$B$2))","v":9},{"$f":"IF(main!J8>=1,\"\",IF(IF(COUNTIF(main!$I$6:$K$8,$B$2)=1,0,1)*$M8*J$13=0,\"\",$B$2))","v":9},{"$f":"IF(main!K8>=1,\"\",IF(IF(COUNTIF(main!$I$6:$K$8,$B$2)=1,0,1)*$M8*K$13=0,\"\",$B$2))","v":9},"",{"$f":"1-COUNTIF(main!C8:K8,$B$2)","v":1},9]
[null,null,{"$f":"IF(main!C9>=1,\"\",IF(IF(COUNTIF(main!$C$9:$E$11,$B$2)=1,0,1)*$M9*C$13=0,\"\",$B$2))","v":9},{"$f":"IF(main!D9>=1,\"\",IF(IF(COUNTIF(main!$C$9:$E$11,$B$2)=1,0,1)*$M9*D$13=0,\"\",$B$2))","v":9},{"$f":"IF(main!E9>=1,\"\",IF(IF(COUNTIF(main!$C$9:$E$11,$B$2)=1,0,1)*$M9*E$13=0,\"\",$B$2))","v":9},{"$f":"IF(main!F9>=1,\"\",IF(IF(COUNTIF(main!$F$9:$H$11,$B$2)=1,0,1)*$M9*F$13=0,\"\",$B$2))","v":9},{"$f":"IF(main!G9>=1,\"\",IF(IF(COUNTIF(main!$F$9:$H$11,$B$2)=1,0,1)*$M9*G$13=0,\"\",$B$2))","v":9},{"$f":"IF(main!H9>=1,\"\",IF(IF(COUNTIF(main!$F$9:$H$11,$B$2)=1,0,1)*$M9*H$13=0,\"\",$B$2))","v":9},{"$f":"IF(main!I9>=1,\"\",IF(IF(COUNTIF(main!$I$9:$K$11,$B$2)=1,0,1)*$M9*I$13=0,\"\",$B$2))","v":9},{"$f":"IF(main!J9>=1,\"\",IF(IF(COUNTIF(main!$I$9:$K$11,$B$2)=1,0,1)*$M9*J$13=0,\"\",$B$2))","v":9},{"$f":"IF(main!K9>=1,\"\",IF(IF(COUNTIF(main!$I$9:$K$11,$B$2)=1,0,1)*$M9*K$13=0,\"\",$B$2))","v":9},"",{"$f":"1-COUNTIF(main!C9:K9,$B$2)","v":1},9]
[null,null,{"$f":"IF(main!C10>=1,\"\",IF(IF(COUNTIF(main!$C$9:$E$11,$B$2)=1,0,1)*$M10*C$13=0,\"\",$B$2))","v":9},{"$f":"IF(main!D10>=1,\"\",IF(IF(COUNTIF(main!$C$9:$E$11,$B$2)=1,0,1)*$M10*D$13=0,\"\",$B$2))","v":9},{"$f":"IF(main!E10>=1,\"\",IF(IF(COUNTIF(main!$C$9:$E$11,$B$2)=1,0,1)*$M10*E$13=0,\"\",$B$2))","v":9},{"$f":"IF(main!F10>=1,\"\",IF(IF(COUNTIF(main!$F$9:$H$11,$B$2)=1,0,1)*$M10*F$13=0,\"\",$B$2))","v":9},{"$f":"IF(main!G10>=1,\"\",IF(IF(COUNTIF(main!$F$9:$H$11,$B$2)=1,0,1)*$M10*G$13=0,\"\",$B$2))","v":9},{"$f":"IF(main!H10>=1,\"\",IF(IF(COUNTIF(main!$F$9:$H$11,$B$2)=1,0,1)*$M10*H$13=0,\"\",$B$2))","v":9},{"$f":"IF(main!I10>=1,\"\",IF(IF(COUNTIF(main!$I$9:$K$11,$B$2)=1,0,1)*$M10*I$13=0,\"\",$B$2))","v":9},{"$f":"IF(main!J10>=1,\"\",IF(IF(COUNTIF(main!$I$9:$K$11,$B$2)=1,0,1)*$M10*J$13=0,\"\",$B$2))","v":9},{"$f":"IF(main!K10>=1,\"\",IF(IF(COUNTIF(main!$I$9:$K$11,$B$2)=1,0,1)*$M10*K$13=0,\"\",$B$2))","v":9},"",{"$f":"1-COUNTIF(main!C10:K10,$B$2)","v":1},9]
[null,null,{"$f":"IF(main!C11>=1,\"\",IF(IF(COUNTIF(main!$C$9:$E$11,$B$2)=1,0,1)*$M11*C$13=0,\"\",$B$2))","v":9},{"$f":"IF(main!D11>=1,\"\",IF(IF(COUNTIF(main!$C$9:$E$11,$B$2)=1,0,1)*$M11*D$13=0,\"\",$B$2))","v":9},{"$f":"IF(main!E11>=1,\"\",IF(IF(COUNTIF(main!$C$9:$E$11,$B$2)=1,0,1)*$M11*E$13=0,\"\",$B$2))","v":9},{"$f":"IF(main!F11>=1,\"\",IF(IF(COUNTIF(main!$F$9:$H$11,$B$2)=1,0,1)*$M11*F$13=0,\"\",$B$2))","v":9},{"$f":"IF(main!G11>=1,\"\",IF(IF(COUNTIF(main!$F$9:$H$11,$B$2)=1,0,1)*$M11*G$13=0,\"\",$B$2))","v":9},{"$f":"IF(main!H11>=1,\"\",IF(IF(COUNTIF(main!$F$9:$H$11,$B$2)=1,0,1)*$M11*H$13=0,\"\",$B$2))","v":9},{"$f":"IF(main!I11>=1,\"\",IF(IF(COUNTIF(main!$I$9:$K$11,$B$2)=1,0,1)*$M11*I$13=0,\"\",$B$2))","v":9},{"$f":"IF(main!J11>=1,\"\",IF(IF(COUNTIF(main!$I$9:$K$11,$B$2)=1,0,1)*$M11*J$13=0,\"\",$B$2))","v":9},{"$f":"IF(main!K11>=1,\"\",IF(IF(COUNTIF(main!$I$9:$K$11,$B$2)=1,0,1)*$M11*K$13=0,\"\",$B$2))","v":9},"",{"$f":"1-COUNTIF(main!C11:K11,$B$2)","v":1},9]
[null,null,{"$f":"IF(COUNT(C3:C11)=1,$B$2,\"\")","v":""},{"$f":"IF(COUNT(D3:D11)=1,$B$2,\"\")","v":""},"","","","","","","",{"$f":"IF(COUNT(C3:E5)=1,$B$2,\"\")","v":""},{"$f":"IF(COUNT(F3:H5)=1,$B$2,\"\")","v":""},{"$f":"IF(COUNT(I3:K5)=1,$B$2,\"\")","v":""}]
[null,null,{"$f":"1-COUNTIF(main!C3:C11,$B$2)","v":1},{"$f":"1-COUNTIF(main!D3:D11,$B$2)","v":1},{"$f":"1-COUNTIF(main!E3:E11,$B$2)","v":1},{"$f":"1-COUNTIF(main!F3:F11,$B$2)","v":1},{"$f":"1-COUNTIF(main!G3:G11,$B$2)","v":1},{"$f":"1-COUNTIF(main!H3:H11,$B$2)","v":1},{"$f":"1-COUNTIF(main!I3:I11,$B$2)","v":1},{"$f":"1-COUNTIF(main!J3:J11,$B$2)","v":1},{"$f":"1-COUNTIF(main!K3:K11,$B$2)","v":1},{"$f":"IF(COUNT(C6:E8)=1,$B$2,\"\")","v":""},{"$f":"IF(COUNT(F6:H8)=1,$B$2,\"\")","v":""},{"$f":"IF(COUNT(I6:K8)=1,$B$2,\"\")","v":""}]
[null,null,{"$f":"COUNTIF(C3:C11,$B$2)","v":9},{"$f":"COUNTIF(D3:D11,$B$2)","v":9},9,9,9,9,9,9,9,{"$f":"IF(COUNT(C9:E11)=1,$B$2,\"\")","v":""},{"$f":"IF(COUNT(F9:H11)=1,$B$2,\"\")","v":""},{"$f":"IF(COUNT(I9:K11)=1,$B$2,\"\")","v":""}]
[null,null,null,null,null,null,null,null,null,null,null,null,null,null,{"$f":"COUNTIF(C3:E5,$B$2)","v":9},{"$f":"COUNTIF(F3:H5,$B$2)","v":9},{"$f":"COUNTIF(I3:K5,$B$2)","v":9}]
[null,null,null,null,null,null,null,null,null,null,null,null,null,null,{"$f":"COUNTIF(C6:E8,$B$2)","v":9},{"$f":"COUNTIF(F6:H8,$B$2)","v":9},{"$f":"COUNTIF(I6:K8,$B$2)","v":9}]
[null,null,null,null,null,null,null,null,null,null,null,null,null,null,{"$f":"COUNTIF(C9:E11,$B$2)","v":9},{"$f":"COUNTIF(F9:H11,$B$2)","v":9},{"$f":"COUNTIF(I9:K11,$B$2)","v":9}]

{"sheet":"work1","index":10,"n_rows":11,"n_cols":11,"rows_kept":11,"cut":false,"hidden":false,"merged":[]}
[]
[null,null,null,"backup of sheet funtion"]
[null,null,{"$f":"IF(main!C3>=1,\"\",IF(IF(COUNTIF(main!$C$3:$E$5,$B$2)=1,0,1)*$M3*C$13=0,\"\",$B$2))","v":""},{"$f":"IF(main!D3>=1,\"\",IF(IF(COUNTIF(main!$C$3:$E$5,$B$2)=1,0,1)*$M3*D$13=0,\"\",$B$2))","v":""},{"$f":"IF(main!E3>=1,\"\",IF(IF(COUNTIF(main!$C$3:$E$5,$B$2)=1,0,1)*$M3*E$13=0,\"\",$B$2))","v":""},{"$f":"IF(main!F3>=1,\"\",IF(IF(COUNTIF(main!$F$3:$H$5,$B$2)=1,0,1)*$M3*F$13=0,\"\",$B$2))","v":""},{"$f":"IF(main!G3>=1,\"\",IF(IF(COUNTIF(main!$F$3:$H$5,$B$2)=1,0,1)*$M3*G$13=0,\"\",$B$2))","v":""},{"$f":"IF(main!H3>=1,\"\",IF(IF(COUNTIF(main!$F$3:$H$5,$B$2)=1,0,1)*$M3*H$13=0,\"\",$B$2))","v":""},{"$f":"IF(main!I3>=1,\"\",IF(IF(COUNTIF(main!$I$3:$K$5,$B$2)=1,0,1)*$M3*I$13=0,\"\",$B$2))","v":""},{"$f":"IF(main!J3>=1,\"\",IF(IF(COUNTIF(main!$I$3:$K$5,$B$2)=1,0,1)*$M3*J$13=0,\"\",$B$2))","v":""},{"$f":"IF(main!K3>=1,\"\",IF(IF(COUNTIF(main!$I$3:$K$5,$B$2)=1,0,1)*$M3*K$13=0,\"\",$B$2))","v":""}]
[null,null,{"$f":"IF(main!C4>=1,\"\",IF(IF(COUNTIF(main!$C$3:$E$5,$B$2)=1,0,1)*$M4*C$13=0,\"\",$B$2))","v":""},{"$f":"IF(main!D4>=1,\"\",IF(IF(COUNTIF(main!$C$3:$E$5,$B$2)=1,0,1)*$M4*D$13=0,\"\",$B$2))","v":""},{"$f":"IF(main!E4>=1,\"\",IF(IF(COUNTIF(main!$C$3:$E$5,$B$2)=1,0,1)*$M4*E$13=0,\"\",$B$2))","v":""},{"$f":"IF(main!F4>=1,\"\",IF(IF(COUNTIF(main!$F$3:$H$5,$B$2)=1,0,1)*$M4*F$13=0,\"\",$B$2))","v":""},{"$f":"IF(main!G4>=1,\"\",IF(IF(COUNTIF(main!$F$3:$H$5,$B$2)=1,0,1)*$M4*G$13=0,\"\",$B$2))","v":""},{"$f":"IF(main!H4>=1,\"\",IF(IF(COUNTIF(main!$F$3:$H$5,$B$2)=1,0,1)*$M4*H$13=0,\"\",$B$2))","v":""},{"$f":"IF(main!I4>=1,\"\",IF(IF(COUNTIF(main!$I$3:$K$5,$B$2)=1,0,1)*$M4*I$13=0,\"\",$B$2))","v":""},{"$f":"IF(main!J4>=1,\"\",IF(IF(COUNTIF(main!$I$3:$K$5,$B$2)=1,0,1)*$M4*J$13=0,\"\",$B$2))","v":""},{"$f":"IF(main!K4>=1,\"\",IF(IF(COUNTIF(main!$I$3:$K$5,$B$2)=1,0,1)*$M4*K$13=0,\"\",$B$2))","v":""}]
[null,null,{"$f":"IF(main!C5>=1,\"\",IF(IF(COUNTIF(main!$C$3:$E$5,$B$2)=1,0,1)*$M5*C$13=0,\"\",$B$2))","v":""},{"$f":"IF(main!D5>=1,\"\",IF(IF(COUNTIF(main!$C$3:$E$5,$B$2)=1,0,1)*$M5*D$13=0,\"\",$B$2))","v":""},{"$f":"IF(main!E5>=1,\"\",IF(IF(COUNTIF(main!$C$3:$E$5,$B$2)=1,0,1)*$M5*E$13=0,\"\",$B$2))","v":""},{"$f":"IF(main!F5>=1,\"\",IF(IF(COUNTIF(main!$F$3:$H$5,$B$2)=1,0,1)*$M5*F$13=0,\"\",$B$2))","v":""},{"$f":"IF(main!G5>=1,\"\",IF(IF(COUNTIF(main!$F$3:$H$5,$B$2)=1,0,1)*$M5*G$13=0,\"\",$B$2))","v":""},{"$f":"IF(main!H5>=1,\"\",IF(IF(COUNTIF(main!$F$3:$H$5,$B$2)=1,0,1)*$M5*H$13=0,\"\",$B$2))","v":""},{"$f":"IF(main!I5>=1,\"\",IF(IF(COUNTIF(main!$I$3:$K$5,$B$2)=1,0,1)*$M5*I$13=0,\"\",$B$2))","v":""},{"$f":"IF(main!J5>=1,\"\",IF(IF(COUNTIF(main!$I$3:$K$5,$B$2)=1,0,1)*$M5*J$13=0,\"\",$B$2))","v":""},{"$f":"IF(main!K5>=1,\"\",IF(IF(COUNTIF(main!$I$3:$K$5,$B$2)=1,0,1)*$M5*K$13=0,\"\",$B$2))","v":""}]
[null,null,{"$f":"IF(main!C6>=1,\"\",IF(IF(COUNTIF(main!$C$6:$E$8,$B$2)=1,0,1)*$M6*C$13=0,\"\",$B$2))","v":""},{"$f":"IF(main!D6>=1,\"\",IF(IF(COUNTIF(main!$C$6:$E$8,$B$2)=1,0,1)*$M6*D$13=0,\"\",$B$2))","v":""},{"$f":"IF(main!E6>=1,\"\",IF(IF(COUNTIF(main!$C$6:$E$8,$B$2)=1,0,1)*$M6*E$13=0,\"\",$B$2))","v":""},{"$f":"IF(main!F6>=1,\"\",IF(IF(COUNTIF(main!$F$6:$H$8,$B$2)=1,0,1)*$M6*F$13=0,\"\",$B$2))","v":""},{"$f":"IF(main!G6>=1,\"\",IF(IF(COUNTIF(main!$F$6:$H$8,$B$2)=1,0,1)*$M6*G$13=0,\"\",$B$2))","v":""},{"$f":"IF(main!H6>=1,\"\",IF(IF(COUNTIF(main!$F$6:$H$8,$B$2)=1,0,1)*$M6*H$13=0,\"\",$B$2))","v":""},{"$f":"IF(main!I6>=1,\"\",IF(IF(COUNTIF(main!$I$6:$K$8,$B$2)=1,0,1)*$M6*I$13=0,\"\",$B$2))","v":""},{"$f":"IF(main!J6>=1,\"\",IF(IF(COUNTIF(main!$I$6:$K$8,$B$2)=1,0,1)*$M6*J$13=0,\"\",$B$2))","v":""},{"$f":"IF(main!K6>=1,\"\",IF(IF(COUNTIF(main!$I$6:$K$8,$B$2)=1,0,1)*$M6*K$13=0,\"\",$B$2))","v":""}]
[null,null,{"$f":"IF(main!C7>=1,\"\",IF(IF(COUNTIF(main!$C$6:$E$8,$B$2)=1,0,1)*$M7*C$13=0,\"\",$B$2))","v":""},{"$f":"IF(main!D7>=1,\"\",IF(IF(COUNTIF(main!$C$6:$E$8,$B$2)=1,0,1)*$M7*D$13=0,\"\",$B$2))","v":""},{"$f":"IF(main!E7>=1,\"\",IF(IF(COUNTIF(main!$C$6:$E$8,$B$2)=1,0,1)*$M7*E$13=0,\"\",$B$2))","v":""},{"$f":"IF(main!F7>=1,\"\",IF(IF(COUNTIF(main!$F$6:$H$8,$B$2)=1,0,1)*$M7*F$13=0,\"\",$B$2))","v":""},{"$f":"IF(main!G7>=1,\"\",IF(IF(COUNTIF(main!$F$6:$H$8,$B$2)=1,0,1)*$M7*G$13=0,\"\",$B$2))","v":""},{"$f":"IF(main!H7>=1,\"\",IF(IF(COUNTIF(main!$F$6:$H$8,$B$2)=1,0,1)*$M7*H$13=0,\"\",$B$2))","v":""},{"$f":"IF(main!I7>=1,\"\",IF(IF(COUNTIF(main!$I$6:$K$8,$B$2)=1,0,1)*$M7*I$13=0,\"\",$B$2))","v":""},{"$f":"IF(main!J7>=1,\"\",IF(IF(COUNTIF(main!$I$6:$K$8,$B$2)=1,0,1)*$M7*J$13=0,\"\",$B$2))","v":""},{"$f":"IF(main!K7>=1,\"\",IF(IF(COUNTIF(main!$I$6:$K$8,$B$2)=1,0,1)*$M7*K$13=0,\"\",$B$2))","v":""}]
[null,null,{"$f":"IF(main!C8>=1,\"\",IF(IF(COUNTIF(main!$C$6:$E$8,$B$2)=1,0,1)*$M8*C$13=0,\"\",$B$2))","v":""},{"$f":"IF(main!D8>=1,\"\",IF(IF(COUNTIF(main!$C$6:$E$8,$B$2)=1,0,1)*$M8*D$13=0,\"\",$B$2))","v":""},{"$f":"IF(main!E8>=1,\"\",IF(IF(COUNTIF(main!$C$6:$E$8,$B$2)=1,0,1)*$M8*E$13=0,\"\",$B$2))","v":""},{"$f":"IF(main!F8>=1,\"\",IF(IF(COUNTIF(main!$F$6:$H$8,$B$2)=1,0,1)*$M8*F$13=0,\"\",$B$2))","v":""},{"$f":"IF(main!G8>=1,\"\",IF(IF(COUNTIF(main!$F$6:$H$8,$B$2)=1,0,1)*$M8*G$13=0,\"\",$B$2))","v":""},{"$f":"IF(main!H8>=1,\"\",IF(IF(COUNTIF(main!$F$6:$H$8,$B$2)=1,0,1)*$M8*H$13=0,\"\",$B$2))","v":""},{"$f":"IF(main!I8>=1,\"\",IF(IF(COUNTIF(main!$I$6:$K$8,$B$2)=1,0,1)*$M8*I$13=0,\"\",$B$2))","v":""},{"$f":"IF(main!J8>=1,\"\",IF(IF(COUNTIF(main!$I$6:$K$8,$B$2)=1,0,1)*$M8*J$13=0,\"\",$B$2))","v":""},{"$f":"IF(main!K8>=1,\"\",IF(IF(COUNTIF(main!$I$6:$K$8,$B$2)=1,0,1)*$M8*K$13=0,\"\",$B$2))","v":""}]
[null,null,{"$f":"IF(main!C9>=1,\"\",IF(IF(COUNTIF(main!$C$9:$E$11,$B$2)=1,0,1)*$M9*C$13=0,\"\",$B$2))","v":""},{"$f":"IF(main!D9>=1,\"\",IF(IF(COUNTIF(main!$C$9:$E$11,$B$2)=1,0,1)*$M9*D$13=0,\"\",$B$2))","v":""},{"$f":"IF(main!E9>=1,\"\",IF(IF(COUNTIF(main!$C$9:$E$11,$B$2)=1,0,1)*$M9*E$13=0,\"\",$B$2))","v":""},{"$f":"IF(main!F9>=1,\"\",IF(IF(COUNTIF(main!$F$9:$H$11,$B$2)=1,0,1)*$M9*F$13=0,\"\",$B$2))","v":""},{"$f":"IF(main!G9>=1,\"\",IF(IF(COUNTIF(main!$F$9:$H$11,$B$2)=1,0,1)*$M9*G$13=0,\"\",$B$2))","v":""},{"$f":"IF(main!H9>=1,\"\",IF(IF(COUNTIF(main!$F$9:$H$11,$B$2)=1,0,1)*$M9*H$13=0,\"\",$B$2))","v":""},{"$f":"IF(main!I9>=1,\"\",IF(IF(COUNTIF(main!$I$9:$K$11,$B$2)=1,0,1)*$M9*I$13=0,\"\",$B$2))","v":""},{"$f":"IF(main!J9>=1,\"\",IF(IF(COUNTIF(main!$I$9:$K$11,$B$2)=1,0,1)*$M9*J$13=0,\"\",$B$2))","v":""},{"$f":"IF(main!K9>=1,\"\",IF(IF(COUNTIF(main!$I$9:$K$11,$B$2)=1,0,1)*$M9*K$13=0,\"\",$B$2))","v":""}]
[null,null,{"$f":"IF(main!C10>=1,\"\",IF(IF(COUNTIF(main!$C$9:$E$11,$B$2)=1,0,1)*$M10*C$13=0,\"\",$B$2))","v":""},{"$f":"IF(main!D10>=1,\"\",IF(IF(COUNTIF(main!$C$9:$E$11,$B$2)=1,0,1)*$M10*D$13=0,\"\",$B$2))","v":""},{"$f":"IF(main!E10>=1,\"\",IF(IF(COUNTIF(main!$C$9:$E$11,$B$2)=1,0,1)*$M10*E$13=0,\"\",$B$2))","v":""},{"$f":"IF(main!F10>=1,\"\",IF(IF(COUNTIF(main!$F$9:$H$11,$B$2)=1,0,1)*$M10*F$13=0,\"\",$B$2))","v":""},{"$f":"IF(main!G10>=1,\"\",IF(IF(COUNTIF(main!$F$9:$H$11,$B$2)=1,0,1)*$M10*G$13=0,\"\",$B$2))","v":""},{"$f":"IF(main!H10>=1,\"\",IF(IF(COUNTIF(main!$F$9:$H$11,$B$2)=1,0,1)*$M10*H$13=0,\"\",$B$2))","v":""},{"$f":"IF(main!I10>=1,\"\",IF(IF(COUNTIF(main!$I$9:$K$11,$B$2)=1,0,1)*$M10*I$13=0,\"\",$B$2))","v":""},{"$f":"IF(main!J10>=1,\"\",IF(IF(COUNTIF(main!$I$9:$K$11,$B$2)=1,0,1)*$M10*J$13=0,\"\",$B$2))","v":""},{"$f":"IF(main!K10>=1,\"\",IF(IF(COUNTIF(main!$I$9:$K$11,$B$2)=1,0,1)*$M10*K$13=0,\"\",$B$2))","v":""}]
[null,null,{"$f":"IF(main!C11>=1,\"\",IF(IF(COUNTIF(main!$C$9:$E$11,$B$2)=1,0,1)*$M11*C$13=0,\"\",$B$2))","v":""},{"$f":"IF(main!D11>=1,\"\",IF(IF(COUNTIF(main!$C$9:$E$11,$B$2)=1,0,1)*$M11*D$13=0,\"\",$B$2))","v":""},{"$f":"IF(main!E11>=1,\"\",IF(IF(COUNTIF(main!$C$9:$E$11,$B$2)=1,0,1)*$M11*E$13=0,\"\",$B$2))","v":""},{"$f":"IF(main!F11>=1,\"\",IF(IF(COUNTIF(main!$F$9:$H$11,$B$2)=1,0,1)*$M11*F$13=0,\"\",$B$2))","v":""},{"$f":"IF(main!G11>=1,\"\",IF(IF(COUNTIF(main!$F$9:$H$11,$B$2)=1,0,1)*$M11*G$13=0,\"\",$B$2))","v":""},{"$f":"IF(main!H11>=1,\"\",IF(IF(COUNTIF(main!$F$9:$H$11,$B$2)=1,0,1)*$M11*H$13=0,\"\",$B$2))","v":""},{"$f":"IF(main!I11>=1,\"\",IF(IF(COUNTIF(main!$I$9:$K$11,$B$2)=1,0,1)*$M11*I$13=0,\"\",$B$2))","v":""},{"$f":"IF(main!J11>=1,\"\",IF(IF(COUNTIF(main!$I$9:$K$11,$B$2)=1,0,1)*$M11*J$13=0,\"\",$B$2))","v":""},{"$f":"IF(main!K11>=1,\"\",IF(IF(COUNTIF(main!$I$9:$K$11,$B$2)=1,0,1)*$M11*K$13=0,\"\",$B$2))","v":""}]

{"sheet":"work2","index":11,"n_rows":2,"n_cols":4,"rows_kept":2,"cut":false,"hidden":false,"merged":[]}
[]
[null,null,null,"backup of qestion"]

{"sheet":"work3","index":12,"n_rows":2,"n_cols":4,"rows_kept":2,"cut":false,"hidden":false,"merged":[]}
[]
[null,null,null,"copy "]